BEGIN:VCALENDAR
VERSION:2.0
PRODID:-//USA Working Equitation - ECPv6.15.20//NONSGML v1.0//EN
CALSCALE:GREGORIAN
METHOD:PUBLISH
X-WR-CALNAME:USA Working Equitation
X-ORIGINAL-URL:https://dev25.usawe.org
X-WR-CALDESC:Events for USA Working Equitation
REFRESH-INTERVAL;VALUE=DURATION:PT1H
X-Robots-Tag:noindex
X-PUBLISHED-TTL:PT1H
BEGIN:VTIMEZONE
TZID:America/Los_Angeles
BEGIN:DAYLIGHT
TZOFFSETFROM:-0800
TZOFFSETTO:-0700
TZNAME:PDT
DTSTART:20240310T100000
END:DAYLIGHT
BEGIN:STANDARD
TZOFFSETFROM:-0700
TZOFFSETTO:-0800
TZNAME:PST
DTSTART:20241103T090000
END:STANDARD
BEGIN:DAYLIGHT
TZOFFSETFROM:-0800
TZOFFSETTO:-0700
TZNAME:PDT
DTSTART:20250309T100000
END:DAYLIGHT
BEGIN:STANDARD
TZOFFSETFROM:-0700
TZOFFSETTO:-0800
TZNAME:PST
DTSTART:20251102T090000
END:STANDARD
BEGIN:DAYLIGHT
TZOFFSETFROM:-0800
TZOFFSETTO:-0700
TZNAME:PDT
DTSTART:20260308T100000
END:DAYLIGHT
BEGIN:STANDARD
TZOFFSETFROM:-0700
TZOFFSETTO:-0800
TZNAME:PST
DTSTART:20261101T090000
END:STANDARD
END:VTIMEZONE
BEGIN:VEVENT
DTSTART;VALUE=DATE:20251206
DTEND;VALUE=DATE:20251208
DTSTAMP:20260420T194515
CREATED:20250528T181754Z
LAST-MODIFIED:20250528T181754Z
UID:43000-1764979200-1765151999@dev25.usawe.org
SUMMARY:AZ: (25-139) (25-140) AZWEC Fall Sonoita Show & State Finals
DESCRIPTION:License#(s): 25-139 \nShow Name(s):  AZWEC Fall Sonoita Show \nShow Date(s):  12/6/2025 \nLocation: \n\n\n\n\n\n\n\nSanta Cruz County Fairgrounds\nSonoita\nAZ\n\n\n\nJudge: Sarah Pinney and Marie Maloney \nTD: Joy Chadsey \nGate Steward: Susie Taylor \nShow Manager: Amy Star and Karen Anderson \nLicense#(s): 25-140 \nShow Name(s): AZWEC State Finals \nShow Date(s):  12/7/2025 \nLocation: \n\n\n\n\n\n\n\nSanta Cruz County Fairgrounds\nSonoita\nAZ\n\n\n\nJudge: Sarah Pinney and Marie Maloney \nTD: Joy Chadsey \nGate Steward: Suzie Taylor \nShow Manager Amy Star and Karen Anderson
URL:https://dev25.usawe.org/event/az-25-139-25-140-azwec-fall-sonoita-show-state-finals/
LOCATION:Santa Cruz County Fairgrounds\, Sonita\, AZ\, United States
CATEGORIES:Competitions (all),Region 2
ORGANIZER;CN="Amy Star":MAILTO:AmyStarLusitanos@gmail.com
END:VEVENT
BEGIN:VEVENT
DTSTART;TZID=America/Los_Angeles:20251210T160000
DTEND;TZID=America/Los_Angeles:20251210T173000
DTSTAMP:20260420T194515
CREATED:20250603T013400Z
LAST-MODIFIED:20250717T162239Z
UID:43026-1765382400-1765387800@dev25.usawe.org
SUMMARY:Board of Directors Meeting
DESCRIPTION:The USAWE Board of Directors meets the second Wednesday of each month via Zoom\, starting at 4 pm Pacific. \nAll USAWE members in good standing are welcome to attend Board meetings and will be given an opportunity to speak briefly about items on the agenda at the start of the meeting. \nLog-in information can be found at the top of the BOD Meeting Agenda. BOD meeting agendas can be found under Corporate Records on the USAWE.org website or by emailing Secretary@usawe.org.
URL:https://dev25.usawe.org/event/board-of-directors-meeting-7/
LOCATION:Virtual Zoom Meeting\, United States
CATEGORIES:Corporate Meetings
END:VEVENT
BEGIN:VEVENT
DTSTART;TZID=America/Los_Angeles:20250409T170000
DTEND;TZID=America/Los_Angeles:20250409T193000
DTSTAMP:20260420T194515
CREATED:20250404T061917Z
LAST-MODIFIED:20250404T061922Z
UID:42569-1744218000-1744227000@dev25.usawe.org
SUMMARY:Board of Directors (BOD) Meeting
DESCRIPTION:The Board of Directors (BOD) meeting is scheduled 5:00-6:30 pm Pacific time and will take place virtually via Zoom. Submit topics for board consideration using the Board Agenda Item Request Form located on the usawe.org website > Corporate > Records \nUSAWE Members in good standing are welcome to attend and listen but may not provide input at board meetings.\nPlease contact Secretary@usawe.org at least 24 hours in advance of the meeting if you would like the Zoom meeting agenda and access information. Requests for access arriving less than 24 hours prior to the meeting are not guaranteed a response. \nAgenda and Minutes are posted to usawe.org > Corporate > Records > Meeting Minutes
URL:https://dev25.usawe.org/event/board-of-directors-bod-meeting-11-2-2/
LOCATION:Virtual Zoom Meeting\, United States
CATEGORIES:Corporate Meetings
ATTACH;FMTTYPE=image/png:https://dev25.usawe.org/wp-content/uploads/2023/12/USAWE-BOD-Mtg.png
END:VEVENT
BEGIN:VEVENT
DTSTART;TZID=America/Los_Angeles:20250226T170000
DTEND;TZID=America/Los_Angeles:20250226T183000
DTSTAMP:20260420T194515
CREATED:20240117T212158Z
LAST-MODIFIED:20250221T011338Z
UID:34116-1740589200-1740594600@dev25.usawe.org
SUMMARY:Committees Working Meeting
DESCRIPTION:Facilitator:  President Elect \nParticipants: Committee Chairs\, Executive Committee and Regional Directors \nA series of informal working sessions for committee chairs to network\, connect\, communicate and cooperatively share on-going projects\, ideas\, lessons learned\, successes\, frustrations and committee framework (job descriptions\, recruiting\, training\, tasks\, backup support\, budget and SLAs).
URL:https://dev25.usawe.org/event/committees-working-meeting/
LOCATION:Virtual Zoom Meeting\, United States
CATEGORIES:Corporate Meetings
ATTACH;FMTTYPE=image/jpeg:https://dev25.usawe.org/wp-content/uploads/2024/01/USAWE-Committees-Wkg-Mtg.jpg
END:VEVENT
END:VCALENDAR