BEGIN:VCALENDAR
VERSION:2.0
PRODID:-//USA Working Equitation - ECPv6.15.20//NONSGML v1.0//EN
CALSCALE:GREGORIAN
METHOD:PUBLISH
X-WR-CALNAME:USA Working Equitation
X-ORIGINAL-URL:https://dev25.usawe.org
X-WR-CALDESC:Events for USA Working Equitation
REFRESH-INTERVAL;VALUE=DURATION:PT1H
X-Robots-Tag:noindex
X-PUBLISHED-TTL:PT1H
BEGIN:VTIMEZONE
TZID:America/Los_Angeles
BEGIN:DAYLIGHT
TZOFFSETFROM:-0800
TZOFFSETTO:-0700
TZNAME:PDT
DTSTART:20240310T100000
END:DAYLIGHT
BEGIN:STANDARD
TZOFFSETFROM:-0700
TZOFFSETTO:-0800
TZNAME:PST
DTSTART:20241103T090000
END:STANDARD
BEGIN:DAYLIGHT
TZOFFSETFROM:-0800
TZOFFSETTO:-0700
TZNAME:PDT
DTSTART:20250309T100000
END:DAYLIGHT
BEGIN:STANDARD
TZOFFSETFROM:-0700
TZOFFSETTO:-0800
TZNAME:PST
DTSTART:20251102T090000
END:STANDARD
BEGIN:DAYLIGHT
TZOFFSETFROM:-0800
TZOFFSETTO:-0700
TZNAME:PDT
DTSTART:20260308T100000
END:DAYLIGHT
BEGIN:STANDARD
TZOFFSETFROM:-0700
TZOFFSETTO:-0800
TZNAME:PST
DTSTART:20261101T090000
END:STANDARD
END:VTIMEZONE
BEGIN:VEVENT
DTSTART;TZID=America/Los_Angeles:20250109T020000
DTEND;TZID=America/Los_Angeles:20250109T020000
DTSTAMP:20260421T073906
CREATED:20240110T130105Z
LAST-MODIFIED:20250122T175650Z
UID:33752-1736388000-1736388000@dev25.usawe.org
SUMMARY:Board of Directors (BOD) Meeting
DESCRIPTION:The Board of Directors (BOD) meeting is scheduled 5:00-6:30 pm Pacific time and will take place virtually via Zoom. Submit topics for board consideration using the Board Agenda Item Request Form located on the usawe.org website > Corporate > Records \nUSAWE Members in good standing are welcome to attend and listen but may not provide input at board meetings.\nPlease contact Secretary@usawe.org at least 24 hours in advance of the meeting if you would like the Zoom meeting agenda and access information. Requests for access arriving less than 24 hours prior to the meeting are not guaranteed a response. \nAgenda and Minutes are posted to usawe.org > Corporate > Records > Meeting Minutes
URL:https://dev25.usawe.org/event/board-of-directors-bod-meeting-11/
LOCATION:Virtual Zoom Meeting\, United States
CATEGORIES:Corporate Meetings
ATTACH;FMTTYPE=image/png:https://dev25.usawe.org/wp-content/uploads/2023/12/USAWE-BOD-Mtg.png
END:VEVENT
BEGIN:VEVENT
DTSTART;TZID=America/Los_Angeles:20250112T080000
DTEND;TZID=America/Los_Angeles:20250112T170000
DTSTAMP:20260421T073906
CREATED:20250112T212914Z
LAST-MODIFIED:20250112T214521Z
UID:41565-1736668800-1736701200@dev25.usawe.org
SUMMARY:MD: Train to Win Clinic with European and World Champion Gilberto Filipe
DESCRIPTION:The clinic will be held March 22-23\, 2025 at Oak Spring Equestrian in Woodbine\, Maryland. We are very excited to be welcoming two-time Working Equitation World Champion & 2024 WAWE European Champion Gilberto Filipe as our clinician! \nRiders who had registered and paid for the previously cancelled TTW3 clinic have been given the opportunity to pre-register. The remaining rider spots will be open first to Region 6 and 7 Advanced and Masters competitors. Auditors are welcome and encouraged to join this sure-to-be very educational and fun event. \nRegister online at: https://docs.google.com/forms/d/e/1FAIpQLSdZOGHv3aelgH3AlQ5zvdkxAQb2bIghUjgkiuPQaNtlMKFbtg/viewform
URL:https://dev25.usawe.org/event/md-train-to-win-clinic-with-european-and-world-champion-gilberto-filipe/
LOCATION:Oak Spring Equestrian\, 15195 Bushy Park Rd.\, Woodbine\, MD\, 21797\, United States
CATEGORIES:All Clinics,Region 7,Seminars
END:VEVENT
BEGIN:VEVENT
DTSTART;VALUE=DATE:20250117
DTEND;VALUE=DATE:20250120
DTSTAMP:20260421T073906
CREATED:20250112T212238Z
LAST-MODIFIED:20250112T212528Z
UID:41561-1737072000-1737331199@dev25.usawe.org
SUMMARY:NV: Training the Judge's Eye with WAWE Judge Claudia Matos
DESCRIPTION:Licensed Officials\, Professional Instructors\, USAWE Members are invited.\n\nCLICK HERE to Register \n\n\n\nPlease join us in Las Vegas for a three-day seminar with WAWE Judge Claudia Matos. \nMs. Matos is a talented educator and is among the top working equitation and dressage judges in the world. This seminar is valuable to all members of working equitation regardless of your level or amount of experience. \n  \n\n\n\n\nJanuary 17-18-19\, 2025\n8:30 am to 5:00 pm Pacific Time each day \n\n\n\n\nHyatt Place Las Vegas at Silverton Village\n8380 Dean Martin Dr.\nLas Vegas\, NV  89139 \n\n\n\n\n\n\n \n\n\n\nWAWE Judge Claudia Matos \n\n\n\n\n\n\n\n\nRegistration Options:\n$400 S\, R\, r\, L Judges – Must attend all three days for Continuing Education credit. \n\n\n\nIf you are a Judge and a Professional Instructor\, you must register as a Judge for full CE credit and full discussion privileges. You will be eligible for concurrent PI CE credits.\nIf you are a Judge and a Technical Delegate\, you must register as a Judge for full CE credit.  You will also be eligible for TD CE credits.\n\n$375 Professional Instructors – Must attend all three days for Continuing Education credit.  Will have designated Q&A with Ms. Matos at the end of each session. \n$300 Technical Delegates – All three days. \n$300 Silent Auditors – All three days. \n$150 per day – Technical Delegates and Silent Auditors ONLY.  If you are unable to attend all three days\, you may pay per day. \n\n\n\nDay 1 – Friday\, January 17\, 2025\nDay 2 – Saturday\, January 18\, 2025\nDay 3 – Sunday\, January 19\, 2025\n\n\n\n\n\n\n\n\n\n\n\nLicensed Officials and Professional Instructors will receive CE credit. See Licensed Officials Program and Professional Instructors Program for CE details and requirements. \nLodging: Use this link to access the block of discounted rooms that we have secured. \nRoom Share: Choose ‘Yes‘ on registration if you want to be in touch with other attendees looking to room share. \nLunch is included in all registration options. \nTo register for this event\, you must have an active 2025 USAWE membership. Click here if you need to join or renew your  USAWE membership.
URL:https://dev25.usawe.org/event/nv-training-the-judges-eye-with-wawe-judge-claudia-matos/
LOCATION:Hyatt Place Las Vegas at Silverton Village\, Hyatt Place Las Vegas at Silverton Village\, Las Vegas\, NV\, United States
CATEGORIES:Licensed Officials,Seminars
END:VEVENT
END:VCALENDAR