BEGIN:VCALENDAR
VERSION:2.0
PRODID:-//USA Working Equitation - ECPv6.15.20//NONSGML v1.0//EN
CALSCALE:GREGORIAN
METHOD:PUBLISH
X-WR-CALNAME:USA Working Equitation
X-ORIGINAL-URL:https://dev25.usawe.org
X-WR-CALDESC:Events for USA Working Equitation
REFRESH-INTERVAL;VALUE=DURATION:PT1H
X-Robots-Tag:noindex
X-PUBLISHED-TTL:PT1H
BEGIN:VTIMEZONE
TZID:America/Los_Angeles
BEGIN:DAYLIGHT
TZOFFSETFROM:-0800
TZOFFSETTO:-0700
TZNAME:PDT
DTSTART:20230312T100000
END:DAYLIGHT
BEGIN:STANDARD
TZOFFSETFROM:-0700
TZOFFSETTO:-0800
TZNAME:PST
DTSTART:20231105T090000
END:STANDARD
BEGIN:DAYLIGHT
TZOFFSETFROM:-0800
TZOFFSETTO:-0700
TZNAME:PDT
DTSTART:20240310T100000
END:DAYLIGHT
BEGIN:STANDARD
TZOFFSETFROM:-0700
TZOFFSETTO:-0800
TZNAME:PST
DTSTART:20241103T090000
END:STANDARD
BEGIN:DAYLIGHT
TZOFFSETFROM:-0800
TZOFFSETTO:-0700
TZNAME:PDT
DTSTART:20250309T100000
END:DAYLIGHT
BEGIN:STANDARD
TZOFFSETFROM:-0700
TZOFFSETTO:-0800
TZNAME:PST
DTSTART:20251102T090000
END:STANDARD
END:VTIMEZONE
BEGIN:VEVENT
DTSTART;VALUE=DATE:20241214
DTEND;VALUE=DATE:20241216
DTSTAMP:20260421T073943
CREATED:20240718T213717Z
LAST-MODIFIED:20240718T213717Z
UID:38759-1734134400-1734307199@dev25.usawe.org
SUMMARY:R4 (24-130) TX Hot Shots WE Series at Willow Draw
DESCRIPTION:License#(s): 24-130\nShow Name(s): Texas Hot Shots WE Series at Willow Draw\nShow Date(s): 12/14/2024-12/15/2024\nLocation: Weatherford\, TX \nJudge: Nicole Chastain\nTD: Chris Stanko\nGate Steward: TBD \nShow Manager: Doreen Atkinson/Aimee Edwards
URL:https://dev25.usawe.org/event/r4-24-130-tx-hot-shots-we-series-at-willow-draw/
LOCATION:Willow Draw\, Weatherford\, TX\, United States
CATEGORIES:Competitions (all),Region 4
ORGANIZER;CN="Aimee Edwards":MAILTO:aedwards@mclennan.edu
END:VEVENT
END:VCALENDAR