BEGIN:VCALENDAR
VERSION:2.0
PRODID:-//USA Working Equitation - ECPv6.15.20//NONSGML v1.0//EN
CALSCALE:GREGORIAN
METHOD:PUBLISH
X-ORIGINAL-URL:https://dev25.usawe.org
X-WR-CALDESC:Events for USA Working Equitation
REFRESH-INTERVAL;VALUE=DURATION:PT1H
X-Robots-Tag:noindex
X-PUBLISHED-TTL:PT1H
BEGIN:VTIMEZONE
TZID:America/Los_Angeles
BEGIN:DAYLIGHT
TZOFFSETFROM:-0800
TZOFFSETTO:-0700
TZNAME:PDT
DTSTART:20200308T100000
END:DAYLIGHT
BEGIN:STANDARD
TZOFFSETFROM:-0700
TZOFFSETTO:-0800
TZNAME:PST
DTSTART:20201101T090000
END:STANDARD
BEGIN:DAYLIGHT
TZOFFSETFROM:-0800
TZOFFSETTO:-0700
TZNAME:PDT
DTSTART:20210314T100000
END:DAYLIGHT
BEGIN:STANDARD
TZOFFSETFROM:-0700
TZOFFSETTO:-0800
TZNAME:PST
DTSTART:20211107T090000
END:STANDARD
BEGIN:DAYLIGHT
TZOFFSETFROM:-0800
TZOFFSETTO:-0700
TZNAME:PDT
DTSTART:20220313T100000
END:DAYLIGHT
BEGIN:STANDARD
TZOFFSETFROM:-0700
TZOFFSETTO:-0800
TZNAME:PST
DTSTART:20221106T090000
END:STANDARD
BEGIN:DAYLIGHT
TZOFFSETFROM:-0800
TZOFFSETTO:-0700
TZNAME:PDT
DTSTART:20230312T100000
END:DAYLIGHT
BEGIN:STANDARD
TZOFFSETFROM:-0700
TZOFFSETTO:-0800
TZNAME:PST
DTSTART:20231105T090000
END:STANDARD
BEGIN:DAYLIGHT
TZOFFSETFROM:-0800
TZOFFSETTO:-0700
TZNAME:PDT
DTSTART:20240310T100000
END:DAYLIGHT
BEGIN:STANDARD
TZOFFSETFROM:-0700
TZOFFSETTO:-0800
TZNAME:PST
DTSTART:20241103T090000
END:STANDARD
END:VTIMEZONE
BEGIN:VEVENT
DTSTART;VALUE=DATE:20230604
DTEND;VALUE=DATE:20230605
DTSTAMP:20260423T213719
CREATED:20221231T041139Z
LAST-MODIFIED:20230508T113656Z
UID:23292-1685836800-1685923199@dev25.usawe.org
SUMMARY:OH: (23-018) SHUSA Buckle #2
DESCRIPTION:License# (23-018) Visit usawe.org > Competitions > List of Licensed Competitions for license status\, performance levels offered\, show manager\, judge and technical delegate info.
URL:https://dev25.usawe.org/event/oh-23-018-brecksville-buckle-2/
LOCATION:Meadowlane Farms\, Chardon
CATEGORIES:Competitions (all),Region 7
ORGANIZER;CN="Stephani A Kame":MAILTO:slkstudio@yahoo.com
END:VEVENT
BEGIN:VEVENT
DTSTART;VALUE=DATE:20230519
DTEND;VALUE=DATE:20230522
DTSTAMP:20260423T213719
CREATED:20221231T034614Z
LAST-MODIFIED:20230311T165708Z
UID:23263-1684454400-1684713599@dev25.usawe.org
SUMMARY:TN: (23-039) Three Bulls Classic
DESCRIPTION:License# 23-039 Visit usawe.org > Competitions > List of Licensed Competitions for license status\, performance levels offered\, show manager\, judge and technical delegate info. \n 
URL:https://dev25.usawe.org/event/tn-23-039-three-bulls-classic/
LOCATION:Three Bulls LLC\, 625 Beech Grove Rd.\, Bulls Gap\, TN\, 37711\, United States
CATEGORIES:Competitions (all),Region 7
ORGANIZER;CN="Maria Blackstone":MAILTO:mblackstone@renaissancefarmtn.com
END:VEVENT
BEGIN:VEVENT
DTSTART;VALUE=DATE:20230428
DTEND;VALUE=DATE:20230501
DTSTAMP:20260423T213719
CREATED:20230310T113400Z
LAST-MODIFIED:20230310T113400Z
UID:26149-1682640000-1682899199@dev25.usawe.org
SUMMARY:NC: Clinic and Schooling Show
DESCRIPTION:Join our clinician\, Jody Fontanetta (“L” candidate for the USAWE judge’s program and a USAWE Recognized Coach)\, for a private or a small group lesson\, either Friday afternoon or on Saturday\, focusing on how the principles of classical dressage apply to Working Equitation. Private lessons will be for a 30-minute duration\, a pair of teams will ride for an hour\, and three riders for 90 minutes. Friday afternoon’s clinic lessons are reserved for adult riders. Auditors are encouraged – $20/person. \nThe clinic is followed by a Working Equitation schooling show on Sunday (dressage\, Ease of Handling and Speed trials\, Levels 1-3) conducted and judged in accordance with rules of USA Working Equitation\, with an allowance made for disqualifications. No rider will be disqualified for an error made on course but instead will be given a “zero” for that obstacle with an explanation provided of what was done to typically receive a DQ. \nfile:///C:/Users/pmelt/Downloads/April%202023%20Stone%20Creek%20EC%20Clinic%20and%20Schooling%20Show%20Prize%20List%20(3).pdf
URL:https://dev25.usawe.org/event/nc-clinic-and-schooling-show/
LOCATION:Stone Creek Equestrian Center\, 2864 Dav Ave\, Morganton\, NC\, United States
CATEGORIES:All Clinics,All Schooling Shows,Region 7
ORGANIZER;CN="Pat Melton":MAILTO:pmelton1982@gmail.com
END:VEVENT
BEGIN:VEVENT
DTSTART;TZID=America/Los_Angeles:20230424T170000
DTEND;TZID=America/Los_Angeles:20230424T180000
DTSTAMP:20260423T213719
CREATED:20230208T223139Z
LAST-MODIFIED:20230921T105558Z
UID:24875-1682355600-1682359200@dev25.usawe.org
SUMMARY:Qtly Meeting:  Affiliate Organizations
DESCRIPTION:Quarterly AO Networking Hour \nAffiliate Organizations Committee\nEmail: AffiliateOrganizations@usawe.org\nChair: Kristine Strasburger \nTopic: Quarterly AO Networking Hour\nTime: April 24\, 2023\n5:00 PM Pacific Time (US and Canada)\n6:00 PM Mountain Time\n7:00 PM Central Time\n8:00 PM Eastern Time\n \nPlease mark these future dates on your calendar now\, so you don’t miss out!\n\n        Every 3 months on the Fourth Mon\, \nJul 24\, 2023 05:00 PM Pacific time\nOct 23\, 2023 05:00 PM Pacific timeJoin Zoom Meeting\nhttps://us02web.zoom.us/j/85044952234?pwd=Q0JLWENENDJLbFdFb0tHWC9mc2RiUT09 \nMeeting ID: 850 4495 2234\nPasscode: 538878\nOne tap mobile\n+13092053325\,\,85044952234#\,\,\,\,*538878# US\n+13126266799\,\,85044952234#\,\,\,\,*538878# US (Chicago) \nDial by your location\n+1 309 205 3325 US\n+1 312 626 6799 US (Chicago)\n+1 646 558 8656 US (New York)\n+1 646 931 3860 US\n+1 301 715 8592 US (Washington DC)\n+1 305 224 1968 US\n+1 253 205 0468 US\n+1 253 215 8782 US (Tacoma)\n+1 346 248 7799 US (Houston)\n+1 360 209 5623 US\n+1 386 347 5053 US\n+1 507 473 4847 US\n+1 564 217 2000 US\n+1 669 444 9171 US\n+1 669 900 9128 US (San Jose)\n+1 689 278 1000 US\n+1 719 359 4580 US\nMeeting ID: 850 4495 2234\nPasscode: 538878\nFind your local number: https://us02web.zoom.us/u/kbpUqLkJTb
URL:https://dev25.usawe.org/event/qtly-meeting-affiliate-organizations-3/
LOCATION:PA
CATEGORIES:Region 1,Region 2,Region 3,Region 4,Region 5,Region 6,Region 7
ORGANIZER;CN="Kristine Strasburger":MAILTO:neheartlandwe@gmail.com
END:VEVENT
BEGIN:VEVENT
DTSTART;TZID=America/Los_Angeles:20230414T170000
DTEND;TZID=America/Los_Angeles:20230414T180000
DTSTAMP:20260423T213719
CREATED:20230411T121630Z
LAST-MODIFIED:20230411T121741Z
UID:27307-1681491600-1681495200@dev25.usawe.org
SUMMARY:LOC: Technical Delegate Responsibilities Module
DESCRIPTION:Technical Delegate Responsibilities Module\nContact the Licensed Officials Committee at LOC@usawe.org
URL:https://dev25.usawe.org/event/loc-technical-delegate-training/
LOCATION:PA
CATEGORIES:Region 1,Region 2,Region 3,Region 4,Region 5,Region 6,Region 7,Seminars
END:VEVENT
BEGIN:VEVENT
DTSTART;VALUE=DATE:20230331
DTEND;VALUE=DATE:20230403
DTSTAMP:20260423T213719
CREATED:20221125T211723Z
LAST-MODIFIED:20230502T153703Z
UID:22038-1680220800-1680479999@dev25.usawe.org
SUMMARY:TN: Working Equitation Clinic with Rebecca Algar
DESCRIPTION:This three day clinic will focus on the 2023 Dressage tests\, improving Ease of Handling scores and how to become proficient at cutting and penning cattle. Clinic fees include stabling and all meals.
URL:https://dev25.usawe.org/event/tn-working-equitation-clinic-with-rebecca-algar/
LOCATION:Three Bulls LLC\, 625 Beech Grove Rd.\, Bulls Gap\, TN\, 37711\, United States
CATEGORIES:All Clinics,Region 7
ORGANIZER;CN="Maria Blackstone":MAILTO:mblackstone@renaissancefarmtn.com
END:VEVENT
BEGIN:VEVENT
DTSTART;VALUE=DATE:20230318
DTEND;VALUE=DATE:20230320
DTSTAMP:20260423T213719
CREATED:20230110T235735Z
LAST-MODIFIED:20230110T235735Z
UID:23756-1679097600-1679270399@dev25.usawe.org
SUMMARY:FL: Working Equitation Clinic with Stephanie Hayes
DESCRIPTION:2 day WE Clinic to cover WE Dressage\, EOH\, course set up and rules. \nWeekend package includes stabling\, lunch and Saturday night dinner. \nFacility offers covered arena\, trails\, RV hookups.
URL:https://dev25.usawe.org/event/fl-working-equitation-clinic-with-stephanie-hayes/
LOCATION:Wellborn Quarter Horses\, Wellborn Quarter Horses\, 8660 County Rd 137 \, Wellborn\, FL\, Wellborn\, FL\, United States
CATEGORIES:All Clinics,Region 7
ATTACH;FMTTYPE=image/jpeg:https://dev25.usawe.org/wp-content/uploads/2023/01/CenterforAmericasFirstHorsePromo-scaled.jpg
ORGANIZER;CN="Stephanie Hayes":MAILTO:vtblackpony@aol.com
END:VEVENT
BEGIN:VEVENT
DTSTART;TZID=America/Los_Angeles:20230314T170000
DTEND;TZID=America/Los_Angeles:20230314T193000
DTSTAMP:20260423T213719
CREATED:20230315T011954Z
LAST-MODIFIED:20230315T022456Z
UID:26370-1678813200-1678822200@dev25.usawe.org
SUMMARY:LOC- LO Only Special Session
DESCRIPTION:LOC- LO Only Special Session\nThis special session webinar for only Licensed Officials will give more clarity and guidance to the new dressage tests and other items from the S Judge Advisory Team. \nContinuing Education Credits: 2  WSS-230314 \nWhen: Mar 14\, 2023\, 05:00 PM Pacific Time (US and Canada)\nTopic: LOC- LO Only Special Session \nRegister in advance for this webinar:\nhttps://us02web.zoom.us/webinar/register/WN_HMcB4jCfTDyD5kAh-hU0kg \nAfter registering\, you will receive a confirmation email containing information about joining the webinar.
URL:https://dev25.usawe.org/event/loc-lo-only-special-session/
LOCATION:PA
CATEGORIES:Region 1,Region 2,Region 3,Region 4,Region 5,Region 6,Region 7,Seminars
END:VEVENT
BEGIN:VEVENT
DTSTART;VALUE=DATE:20230225
DTEND;VALUE=DATE:20230227
DTSTAMP:20260423T213719
CREATED:20230215T205659Z
LAST-MODIFIED:20230215T205659Z
UID:25236-1677283200-1677455999@dev25.usawe.org
SUMMARY:SC: Working Equitation Clinic with Portuguese Master Alberto Conde
DESCRIPTION:Working Equitation Clinic with Portuguese Master Alberto Conde \nInstruction will be given in hour rides\, semi-private groups\, two rides a day with each rider receiving four hours of training from Alberto. \nLimited on-site stabling and rider accommodations are also available; contact Sue at Spiegel Farms directly by calling #864-457-2478.
URL:https://dev25.usawe.org/event/sc-working-equitation-clinic-with-portuguese-master-alberto-conde/
LOCATION:Spiegel Farms\, 996 E Frontage Rd\, Campobello\, SC\, United States
CATEGORIES:All Clinics,Region 7
ORGANIZER;CN="Jennifer Roth":MAILTO:JRDressage@gmail.com
END:VEVENT
BEGIN:VEVENT
DTSTART;TZID=America/Los_Angeles:20230204T090000
DTEND;TZID=America/Los_Angeles:20230204T113000
DTSTAMP:20260423T213719
CREATED:20230110T155424Z
LAST-MODIFIED:20230126T200918Z
UID:23744-1675501200-1675510200@dev25.usawe.org
SUMMARY:2023 Annual Members Meeting
DESCRIPTION:USA Working Equitation’s annual meeting of the members will be held virtually via Zoom on Saturday February 4\, 2023 at 9:00 am PST | 10:00 am MST | 11:00 am CST | 12:00 pm EST. \nCurrent members\, to attend\, please click here to register. After registering\, you will receive a confirmation email containing information about joining the webinar and the virtual meeting link. \nAgenda is available on the USAWE.org website > Corporate > Records > Meeting Minutes > Annual Member Minutes > Agenda \nThe meeting day and time is predetermined and mandated by USAWE’s Bylaws (1st Saturday in February 9am PST) \nAll current USAWE members in good standing are invited to attend. To attend\, please watch your email for the meeting invitation\, then RSVP to receive the meeting information/ Zoom webinar link. \nWe would love to hear from you. While we may not be able to answer each and every question during the meeting\, your questions will help to guide our decisions and better understand the needs and concerns of our members. To ask a question\, please use this link and submit your question(s) by January 25th so presenters have time to prepare a response. Thank you.
URL:https://dev25.usawe.org/event/2023-annual-members-meeting/
LOCATION:PA
CATEGORIES:Corporate Meetings,Region 1,Region 2,Region 3,Region 4,Region 5,Region 6,Region 7
ATTACH;FMTTYPE=image/jpeg:https://dev25.usawe.org/wp-content/uploads/2023/01/USAWE-Annual-Mtg-2023.jpg
END:VEVENT
BEGIN:VEVENT
DTSTART;VALUE=DATE:20230203
DTEND;VALUE=DATE:20230206
DTSTAMP:20260423T213719
CREATED:20230109T012522Z
LAST-MODIFIED:20230109T015511Z
UID:23708-1675382400-1675641599@dev25.usawe.org
SUMMARY:NC: Winter Working Equitation Camp at TIEC with Jane Renner and Jody Fontanetta
DESCRIPTION:Announcing a three-day Working Equitation camp at Tryon International Equestrian Center (Mill Spring\, NC).  \nParticipants will receive a Dressage and an Ease of Handing lesson each day (Fri/Sat) and will execute judged Ride-A-Tests on Sunday with feedback.  \nThis is all happening in the comfort of the indoor arena at TIEC.  \nAll of the riding camp spots have been reserved but if you are interested in being added to the “waitlist” please contact Pat Melton\, the event coordinator at pmelton1982@gmail.com or 704-616-9589.  \nAuditors are welcome and encouraged and auditor tickets are available for $25/day or $60/weekend\, sold in advance.
URL:https://dev25.usawe.org/event/nc-winter-working-equitation-camp-at-tiec-with-jane-renner-and-jody-fontanetta/
LOCATION:PA
CATEGORIES:All Clinics,Region 7
ATTACH;FMTTYPE=image/png:https://dev25.usawe.org/wp-content/uploads/2023/01/WE-Winter-Camp-Feb-3-2023.png
ORGANIZER;CN="Pat Melton":MAILTO:pmelton1982@gmail.com
END:VEVENT
BEGIN:VEVENT
DTSTART;TZID=America/Los_Angeles:20230112T170000
DTEND;TZID=America/Los_Angeles:20230112T180000
DTSTAMP:20260423T213719
CREATED:20230103T161039Z
LAST-MODIFIED:20230115T182548Z
UID:23603-1673542800-1673546400@dev25.usawe.org
SUMMARY:WE-binar: 2023 US. Rules for Working Equitation - Rule Book Changes
DESCRIPTION:WEBINAR FOR THE 2023 RULE BOOK CHANGES\n\n\n\n\n\n\n\n\n\n\n\n\n\n\n\n\n\nGreetings\,\nThe Licensed Officials Committee and members of the Rules Committee will review significant changes in the 2023 U.S. Rules for Working Equitation\n\nThis webinar will be open to all USAWE members and is worth 2 CE credits for all LOs (Continuing Education Serial# WRR-230112) \nThis webinar was recorded in the event that you are not able to attend live.  Recorded Link (1 hr 59 min.): https://us02web.zoom.us/rec/share/xct6Sid14lVjTdkg0A_hn_nHcUkcGIZSDWAYNYRZUwHP-0SgunaO2q0UduO701Y.A9TBqjtmkt0IVFfW \nWhen: January 12th\, 2023\, (5:00 PT\, 6:00 MT\, 7:00 CT\, 8:00 ET)\nWhere:  Zoom\nTopic: 2023 US Rules for Working Equitation Rules Review \nRegister in advance for this webinar:\nhttps://us02web.zoom.us/webinar/register/WN_jtBXm7_FSG2Nd6JsmDc86Q \nAfter registering\, you will receive a confirmation email containing information about joining the webinar.
URL:https://dev25.usawe.org/event/we-binar-2023-rule-book-changes/
LOCATION:PA
CATEGORIES:Region 1,Region 2,Region 3,Region 4,Region 5,Region 6,Region 7,Seminars
END:VEVENT
BEGIN:VEVENT
DTSTART;TZID=America/Los_Angeles:20221103T080000
DTEND;TZID=America/Los_Angeles:20221106T170000
DTSTAMP:20260423T213719
CREATED:20220214T113653Z
LAST-MODIFIED:20220214T113845Z
UID:19415-1667462400-1667754000@dev25.usawe.org
SUMMARY:Eastern Zone:  Championship\, Licensed Show & Cattle Trial
DESCRIPTION:License #: 22-084\, 22-084-A\, 22-084-C
URL:https://dev25.usawe.org/event/eastern-zone-championship-licensed-show-cattle-trial/
LOCATION:Three Bulls LLC\, 625 Beech Grove Rd.\, Bulls Gap\, TN\, 37711\, United States
CATEGORIES:Competitions (all),Region 6,Region 7
ATTACH;FMTTYPE=image/png:https://dev25.usawe.org/wp-content/uploads/2022/01/2022-Zone-Logo-EASTzoneCHAMP.png
ORGANIZER;CN="Maria Blackstone":MAILTO:mblackstone@renaissancefarmtn.com
END:VEVENT
BEGIN:VEVENT
DTSTART;VALUE=DATE:20221028
DTEND;VALUE=DATE:20221031
DTSTAMP:20260423T213719
CREATED:20220920T174006Z
LAST-MODIFIED:20220920T174006Z
UID:21640-1666990800-1667163599@dev25.usawe.org
SUMMARY:MS: Introduction to Working Equitation Riding Clinic & L1-L2 Schooling Show
DESCRIPTION:Immersive weekend to introduce working equitation to the Delta Midsouth Area in Region 7.
URL:https://dev25.usawe.org/event/ms-introduction-to-working-equitation-riding-clinic-l1-l2-schooling-show/
LOCATION:Providence Farm\, 10180 Stateline Road\, Olive Branch\, MS\, 38654\, United States
CATEGORIES:All Clinics,All Schooling Shows,Region 7
ATTACH;FMTTYPE=image/jpeg:https://dev25.usawe.org/wp-content/uploads/2022/09/Amy-McKowsky.jpg
ORGANIZER;CN="Amy Makowsky":MAILTO:providencefarm.ms@gmail.com
END:VEVENT
BEGIN:VEVENT
DTSTART;TZID=America/Los_Angeles:20220712T180000
DTEND;TZID=America/Los_Angeles:20220712T190000
DTSTAMP:20260423T213719
CREATED:20211001T054606Z
LAST-MODIFIED:20230921T105443Z
UID:8818-1657648800-1657652400@dev25.usawe.org
SUMMARY:Quarterly AO Networking Hour
DESCRIPTION:A meet and greet style networking meeting for the USAWE Affiliate Organization community. \nOpen to all Affiliate Organization members\, and anyone interested in starting an Affiliate Organization. Meet other USAWE Affiliate Organization leaders\, make friends\, share ideas\, be encouraged\, build community! This quarterly meeting is all about getting to know one another and strengthening the support you receive as an Affiliate Organization. Zoom meeting\, 6 pm Pacific Time on the second Tuesdays of these months: October\, January\, April\, and July. Email Affiliate Organization Program Coordinator for meeting invite link.
URL:https://dev25.usawe.org/event/quarterly-ao-networking-hour-5/
LOCATION:PA
CATEGORIES:Region 1,Region 2,Region 3,Region 4,Region 5,Region 6,Region 7
ORGANIZER;CN="Kristine Strasburger":MAILTO:neheartlandwe@gmail.com
END:VEVENT
BEGIN:VEVENT
DTSTART;VALUE=DATE:20220520
DTEND;VALUE=DATE:20220523
DTSTAMP:20260423T213719
CREATED:20211102T232301Z
LAST-MODIFIED:20220121T022545Z
UID:10062-1653080400-1653253199@dev25.usawe.org
SUMMARY:TN: Three Bulls Classic WE Show and Cattle Trial
DESCRIPTION:License #22-010 & 22-010-C (Cattle Trial) \nOffering L1-L7
URL:https://dev25.usawe.org/event/tn-three-bulls-classic/
LOCATION:Three Bulls LLC\, 625 Beech Grove Rd.\, Bulls Gap\, TN\, 37711\, United States
CATEGORIES:Competitions (all),Region 7
ORGANIZER;CN="Maria Blackstone":MAILTO:mblackstone@renaissancefarmtn.com
END:VEVENT
BEGIN:VEVENT
DTSTART;TZID=America/Los_Angeles:20220507T080000
DTEND;TZID=America/Los_Angeles:20220508T170000
DTSTAMP:20260423T213719
CREATED:20220421T014745Z
LAST-MODIFIED:20220423T020204Z
UID:20594-1651910400-1652029200@dev25.usawe.org
SUMMARY:FL: SBHS Working Equitation Show #1 and #2
DESCRIPTION:License#: 22-100 \nLicense# 22-101
URL:https://dev25.usawe.org/event/fl-sbhs-working-equitation-show-1/
LOCATION:HWalters Dressage\, 14226 NW 207 Terrace\, High Springs\, Florida\, 32643\, United States
CATEGORIES:Competitions (all),Region 7
ORGANIZER;CN="Heather Walters":MAILTO:southeastbaroque@gmail.com
END:VEVENT
BEGIN:VEVENT
DTSTART;TZID=America/Los_Angeles:20220412T180000
DTEND;TZID=America/Los_Angeles:20220412T190000
DTSTAMP:20260423T213719
CREATED:20211001T053905Z
LAST-MODIFIED:20211001T053905Z
UID:8812-1649786400-1649790000@dev25.usawe.org
SUMMARY:Quarterly AO Networking Hour
DESCRIPTION:A meet and greet style networking meeting for the USAWE Affiliate Organization community. \nOpen to all Affiliate Organization members\, and anyone interested in starting an Affiliate Organization.  Meet other USAWE Affiliate Organization leaders\, make friends\, share ideas\, be encouraged\, build community! This quarterly meeting is all about getting to know one another and strengthening the support you receive as an Affiliate Organization. Zoom meeting\, 6 pm Pacific Time on the second Tuesdays of these months: October\, January\, April\, and July.  Email Affiliate Organization Program Coordinator for meeting invite link.
URL:https://dev25.usawe.org/event/quarterly-ao-networking-hour-2/
LOCATION:PA
CATEGORIES:Region 1,Region 2,Region 3,Region 4,Region 5,Region 6,Region 7
ORGANIZER;CN="Kristine Strasburger":MAILTO:neheartlandwe@gmail.com
END:VEVENT
BEGIN:VEVENT
DTSTART;TZID=America/Los_Angeles:20220111T180000
DTEND;TZID=America/Los_Angeles:20220111T190000
DTSTAMP:20260423T213719
CREATED:20211001T052157Z
LAST-MODIFIED:20211001T053533Z
UID:8799-1641924000-1641927600@dev25.usawe.org
SUMMARY:Quarterly AO Networking Hour
DESCRIPTION:A meet and greet style networking meeting for the USAWE Affiliate Organization community. \nOpen to all Affiliate Organization members\, and anyone interested in starting an Affiliate Organization.  Meet other USAWE Affiliate Organization leaders\, make friends\, share ideas\, be encouraged\, build community! This quarterly meeting is all about getting to know one another and strengthening the support you receive as an Affiliate Organization. Zoom meeting\, 6 pm Pacific Time on the second Tuesdays of these months: October\, January\, April\, and July.  Email Affiliate Organization Program Coordinator for meeting invite link.
URL:https://dev25.usawe.org/event/quarterly-ao-networking-hour/
LOCATION:PA
CATEGORIES:Region 1,Region 2,Region 3,Region 4,Region 5,Region 6,Region 7
ORGANIZER;CN="Kristine Strasburger":MAILTO:neheartlandwe@gmail.com
END:VEVENT
BEGIN:VEVENT
DTSTART;VALUE=DATE:20211029
DTEND;VALUE=DATE:20211101
DTSTAMP:20260423T213719
CREATED:20210302T191555Z
LAST-MODIFIED:20210302T191555Z
UID:5661-1635465600-1635724799@dev25.usawe.org
SUMMARY:TN: Working Equitation with Doreen Atkinson
DESCRIPTION:Join us for a weekend with S rated judge and Masters-level rider Doreen Atkinson. The clinic will begin with Dressage and Obstacle work on Friday and Saturday\, followed by a mock show on Sunday with scores and feedback from Doreen. \n 
URL:https://dev25.usawe.org/event/tn-working-equitation-with-doreen-atkinson/
LOCATION:Clearview Farm\, 2291 Hwy 231\, Shelbyville\, TN\, United States
CATEGORIES:All Clinics,Region 7
ORGANIZER;CN="Jody Fontanetta":MAILTO:judith.fontanetta@gmail.com
END:VEVENT
BEGIN:VEVENT
DTSTART;VALUE=DATE:20211017
DTEND;VALUE=DATE:20211018
DTSTAMP:20260423T213719
CREATED:20210514T161513Z
LAST-MODIFIED:20210514T161513Z
UID:6648-1634428800-1634515199@dev25.usawe.org
SUMMARY:NC: Biltmore Equestrian Center Working Equitation Show (Intro Day 2)
DESCRIPTION:License #21-086\nOffering L1
URL:https://dev25.usawe.org/event/nc-biltmore-equestrian-center-working-equitation-show-intro-day-2/
LOCATION:Biltmore Equestrian Center\, 1 Biltmore Estate Dr.\, Asheville\, NC\, 28803\, United States
CATEGORIES:Competitions (all),Region 7
ORGANIZER;CN="Elizabeth McLean":MAILTO:emclean@biltmore.com
END:VEVENT
BEGIN:VEVENT
DTSTART;VALUE=DATE:20211016
DTEND;VALUE=DATE:20211018
DTSTAMP:20260423T213719
CREATED:20210430T191926Z
LAST-MODIFIED:20210430T191945Z
UID:6246-1634342400-1634515199@dev25.usawe.org
SUMMARY:NC: Biltmore Equestrian Center Working Equitation Show
DESCRIPTION:B-Rated Competition offering L1 – L5 \nLicense #: 21-084
URL:https://dev25.usawe.org/event/nc-biltmore-equestrian-center-working-equitation-show/
LOCATION:Biltmore Equestrian Center\, 1 Biltmore Estate Dr.\, Asheville\, NC\, 28803\, United States
CATEGORIES:Competitions (all),Region 7
ORGANIZER;CN="Elizabeth McLean":MAILTO:emclean@biltmore.com
END:VEVENT
BEGIN:VEVENT
DTSTART;TZID=America/Los_Angeles:20211012T180000
DTEND;TZID=America/Los_Angeles:20211012T190000
DTSTAMP:20260423T213719
CREATED:20211001T052425Z
LAST-MODIFIED:20211001T052902Z
UID:8804-1634061600-1634065200@dev25.usawe.org
SUMMARY:Quarterly AO Networking Hour
DESCRIPTION:A meet and greet style networking meeting for the USAWE Affiliate Organization community. \nOpen to all Affiliate Organization members\, and anyone interested in starting an Affiliate Organization.  Meet other USAWE Affiliate Organization leaders\, make friends\, share ideas\, be encouraged\, build community! This quarterly meeting is all about getting to know one another and strengthening the support you receive as an Affiliate Organization. Zoom meeting\, 6 pm Pacific Time on the second Tuesdays of these months: October\, January\, April\, and July.  Email Affiliate Organization Program Coordinator for meeting invite link.
URL:https://dev25.usawe.org/event/quarterly-ao-networking-hour-4/
LOCATION:PA
CATEGORIES:Region 1,Region 2,Region 3,Region 4,Region 5,Region 6,Region 7
ORGANIZER;CN="Kristine Strasburger":MAILTO:neheartlandwe@gmail.com
END:VEVENT
BEGIN:VEVENT
DTSTART;VALUE=DATE:20210710
DTEND;VALUE=DATE:20210712
DTSTAMP:20260423T213719
CREATED:20210302T191830Z
LAST-MODIFIED:20210302T191830Z
UID:5667-1625875200-1626047999@dev25.usawe.org
SUMMARY:TN: Intro to Working Equitation Clinic
DESCRIPTION:Join us for a fun filled weekend learning about the sport of Working Equitation. Each rider will have two sessions on Saturday and Sunday to learn about dressage fundamentals\, obstacle requirements and course strategy.
URL:https://dev25.usawe.org/event/tn-intro-to-working-equitation-clinic/
LOCATION:Thorsport Farm\, 4024 Barfield Crescent Rd\, Murfreesboro\, TN\, 37128\, United States
CATEGORIES:All Clinics,Region 7
ORGANIZER;CN="Jody Fontanetta":MAILTO:judith.fontanetta@gmail.com
END:VEVENT
BEGIN:VEVENT
DTSTART;VALUE=DATE:20210613
DTEND;VALUE=DATE:20210614
DTSTAMP:20260423T213719
CREATED:20210522T023950Z
LAST-MODIFIED:20210613T025146Z
UID:6710-1623542400-1623628799@dev25.usawe.org
SUMMARY:FL: SBHS Working Equitation Show
DESCRIPTION:License #21-090 \n 
URL:https://dev25.usawe.org/event/fl-sbhs-working-equitation-show/
LOCATION:HWalters Dressage\, 14226 NW 207 Terrace\, High Springs\, Florida\, 32643\, United States
CATEGORIES:Competitions (all),Region 7
ORGANIZER;CN="Heather Walters":MAILTO:southeastbaroque@gmail.com
END:VEVENT
BEGIN:VEVENT
DTSTART;VALUE=DATE:20210508
DTEND;VALUE=DATE:20210510
DTSTAMP:20260423T213719
CREATED:20210311T205731Z
LAST-MODIFIED:20210311T205731Z
UID:5814-1620432000-1620604799@dev25.usawe.org
SUMMARY:LA: Clinic
DESCRIPTION:S judge/clinician/master rider\, Doreen Atkinson will be conducting a clinic with new riders interested in the great sport of WE. Group and private lessons available.
URL:https://dev25.usawe.org/event/la-clinic/
LOCATION:OWL Wilderness Learning Center\, 1523 LA-563\, Dubach\, LA\, 71235\, United States
CATEGORIES:All Clinics,Region 7
ORGANIZER;CN="Samatha Luttrell":MAILTO:adventureracer99@gmail.com
END:VEVENT
BEGIN:VEVENT
DTSTART;VALUE=DATE:20210407
DTEND;VALUE=DATE:20210410
DTSTAMP:20260423T213719
CREATED:20201229T173545Z
LAST-MODIFIED:20201229T174201Z
UID:4459-1617753600-1618012799@dev25.usawe.org
SUMMARY:NC: Clinic with Carlos Carneiro
DESCRIPTION:Clinic with Master’s Level rider Carlos Carneiro! \nHosted by USAWE Affiliate Organization\, Cadence Carolinas Working Equitation (CCWE). Paid member discounts and registration preference.
URL:https://dev25.usawe.org/event/nc-clinic-with-carlos-carneiro/
LOCATION:4733 Hunting Country Rd\, 4733 Hunting Country Rd\, Tryon\, NC\, 28782\, United States
CATEGORIES:All Clinics,Region 7
ORGANIZER;CN="Megan Malan":MAILTO:onwardupward22@gmail.com
END:VEVENT
BEGIN:VEVENT
DTSTART;VALUE=DATE:20210206
DTEND;VALUE=DATE:20210207
DTSTAMP:20260423T213719
CREATED:20210106T034334Z
LAST-MODIFIED:20210106T035431Z
UID:4697-1612569600-1612655999@dev25.usawe.org
SUMMARY:2021 Member Meeting
DESCRIPTION:Dear USAWE Members\, \nI would like to invite you to join the USAWE Board of Directors for the Annual Member Meeting (via Zoom) to be held Saturday\, February 6\, 2021 at 10 a.m. Mountain Standard time. \nThis is your opportunity to meet the full Board of Directors\, including an introduction to your Regional Director. \nAt the meeting we will provide you with information about the happenings at USAWE – some exciting\, and some that cover the day-to-day\, nitty gritty of running an organization. \nSeveral days prior to the meeting we will email you the meeting agenda along with a list of questions submitted by members when they registered for the meeting. \nOur goal is to have these questions guide the discussion and give the board the opportunity to provide you with information on a variety of topics. Included in the email will be the logon information to join the Zoom meeting. \nI hope you will consider joining us – come with a cup of coffee\, a snack and a smile! The board is looking forward to meeting more of our members and sharing our enthusiasm for working equitation and our brand new organization – USA Working Equitation! \nAll members were sent a meeting notice / invitation via MailChimp on Tuesday\, January 5\, 2021. If you did not receive the notification (your email server might have identified it as “spam”\, thinking it was a highly processed meat-like product) but would like to attend\, please email info@usawe.org to request a new link to RSVP / reserve your spot. \nWith Enthusiasm\, \nLeslie Martien\nPresident – USAWE
URL:https://dev25.usawe.org/event/2021-member-meeting/
LOCATION:PA
CATEGORIES:Region 1,Region 2,Region 3,Region 4,Region 5,Region 6,Region 7
END:VEVENT
END:VCALENDAR