BEGIN:VCALENDAR
VERSION:2.0
PRODID:-//USA Working Equitation - ECPv6.15.20//NONSGML v1.0//EN
CALSCALE:GREGORIAN
METHOD:PUBLISH
X-ORIGINAL-URL:https://dev25.usawe.org
X-WR-CALDESC:Events for USA Working Equitation
REFRESH-INTERVAL;VALUE=DURATION:PT1H
X-Robots-Tag:noindex
X-PUBLISHED-TTL:PT1H
BEGIN:VTIMEZONE
TZID:America/Los_Angeles
BEGIN:DAYLIGHT
TZOFFSETFROM:-0800
TZOFFSETTO:-0700
TZNAME:PDT
DTSTART:20240310T100000
END:DAYLIGHT
BEGIN:STANDARD
TZOFFSETFROM:-0700
TZOFFSETTO:-0800
TZNAME:PST
DTSTART:20241103T090000
END:STANDARD
BEGIN:DAYLIGHT
TZOFFSETFROM:-0800
TZOFFSETTO:-0700
TZNAME:PDT
DTSTART:20250309T100000
END:DAYLIGHT
BEGIN:STANDARD
TZOFFSETFROM:-0700
TZOFFSETTO:-0800
TZNAME:PST
DTSTART:20251102T090000
END:STANDARD
BEGIN:DAYLIGHT
TZOFFSETFROM:-0800
TZOFFSETTO:-0700
TZNAME:PDT
DTSTART:20260308T100000
END:DAYLIGHT
BEGIN:STANDARD
TZOFFSETFROM:-0700
TZOFFSETTO:-0800
TZNAME:PST
DTSTART:20261101T090000
END:STANDARD
END:VTIMEZONE
BEGIN:VEVENT
DTSTART;VALUE=DATE:20250719
DTEND;VALUE=DATE:20250720
DTSTAMP:20260425T154717
CREATED:20250202T191443Z
LAST-MODIFIED:20250202T191443Z
UID:41866-1752883200-1752969599@dev25.usawe.org
SUMMARY:NH: (25-056) NEWE@ Equanimity Farm
DESCRIPTION:License#(s): 25-056 \nShow Name(s): NEWE@ Equanimity Farm \nShow Date(s): 7/19/2025 \nLocation: Equanimity Farm\, Brookfield\,NH \nJudge: Doreen Atkinson \nTD: Deb Quillinan \nGate Steward: Linda Ritzer \nShow Manager: Stephanie Hayes\, Day Manager Beverly Stratton
URL:https://dev25.usawe.org/event/nh-25-056-newe-equanimity-farm/
LOCATION:Equanimity Farm\, Brookfield\, NH\, United States
CATEGORIES:Competitions (all),Region 7
ORGANIZER;CN="Stephanie Hayes":MAILTO:vtblackpony@aol.com
END:VEVENT
END:VCALENDAR