BEGIN:VCALENDAR
VERSION:2.0
PRODID:-//USA Working Equitation - ECPv6.15.20//NONSGML v1.0//EN
CALSCALE:GREGORIAN
METHOD:PUBLISH
X-WR-CALNAME:USA Working Equitation
X-ORIGINAL-URL:https://dev25.usawe.org
X-WR-CALDESC:Events for USA Working Equitation
REFRESH-INTERVAL;VALUE=DURATION:PT1H
X-Robots-Tag:noindex
X-PUBLISHED-TTL:PT1H
BEGIN:VTIMEZONE
TZID:America/Los_Angeles
BEGIN:DAYLIGHT
TZOFFSETFROM:-0800
TZOFFSETTO:-0700
TZNAME:PDT
DTSTART:20200308T100000
END:DAYLIGHT
BEGIN:STANDARD
TZOFFSETFROM:-0700
TZOFFSETTO:-0800
TZNAME:PST
DTSTART:20201101T090000
END:STANDARD
BEGIN:DAYLIGHT
TZOFFSETFROM:-0800
TZOFFSETTO:-0700
TZNAME:PDT
DTSTART:20210314T100000
END:DAYLIGHT
BEGIN:STANDARD
TZOFFSETFROM:-0700
TZOFFSETTO:-0800
TZNAME:PST
DTSTART:20211107T090000
END:STANDARD
BEGIN:DAYLIGHT
TZOFFSETFROM:-0800
TZOFFSETTO:-0700
TZNAME:PDT
DTSTART:20220313T100000
END:DAYLIGHT
BEGIN:STANDARD
TZOFFSETFROM:-0700
TZOFFSETTO:-0800
TZNAME:PST
DTSTART:20221106T090000
END:STANDARD
BEGIN:DAYLIGHT
TZOFFSETFROM:-0800
TZOFFSETTO:-0700
TZNAME:PDT
DTSTART:20230312T100000
END:DAYLIGHT
BEGIN:STANDARD
TZOFFSETFROM:-0700
TZOFFSETTO:-0800
TZNAME:PST
DTSTART:20231105T090000
END:STANDARD
END:VTIMEZONE
BEGIN:VEVENT
DTSTART;VALUE=DATE:20220717
DTEND;VALUE=DATE:20220718
DTSTAMP:20260425T173814
CREATED:20220111T045945Z
LAST-MODIFIED:20220111T045945Z
UID:18183-1658016000-1658102399@dev25.usawe.org
SUMMARY:NY:  Schaghticoke Working Equitation Show #2
DESCRIPTION:License# 22-054
URL:https://dev25.usawe.org/event/ny-schaghticoke-working-equitation-show-2/
LOCATION:Schaghticoke Fairgrounds\, 69 Stillwater Bridge Rd 40\, Schaghticoke\, NY\, 12154\, United States
CATEGORIES:Competitions (all),Region 6
ORGANIZER;CN="Wendy Allen":MAILTO:frestylewa@gmail.com
END:VEVENT
BEGIN:VEVENT
DTSTART;VALUE=DATE:20220716
DTEND;VALUE=DATE:20220717
DTSTAMP:20260425T173814
CREATED:20220111T045821Z
LAST-MODIFIED:20220111T050028Z
UID:18179-1657929600-1658015999@dev25.usawe.org
SUMMARY:NY:  Schaghticoke Working Equitation Show #1
DESCRIPTION:License# 22-053
URL:https://dev25.usawe.org/event/ny-schaghticoke-working-equitation-show-1/
LOCATION:Schaghticoke Fairgrounds\, 69 Stillwater Bridge Rd 40\, Schaghticoke\, NY\, 12154\, United States
CATEGORIES:Competitions (all),Region 6
ORGANIZER;CN="Wendy Allen":MAILTO:frestylewa@gmail.com
END:VEVENT
BEGIN:VEVENT
DTSTART;VALUE=DATE:20220716
DTEND;VALUE=DATE:20220717
DTSTAMP:20260425T173814
CREATED:20211214T010532Z
LAST-MODIFIED:20211214T021959Z
UID:17245-1657929600-1658015999@dev25.usawe.org
SUMMARY:MD: OSE Summertime Fun
DESCRIPTION:License #22-038
URL:https://dev25.usawe.org/event/md-ose-summertime-fun/
LOCATION:Oak Spring Equestrian\, 15195 Bushy Park Rd.\, Woodbine\, MD\, 21797\, United States
CATEGORIES:Competitions (all),Region 6
ORGANIZER;CN="Barb Sullivan":MAILTO:oakspringequestrianllc@gmail.com
END:VEVENT
BEGIN:VEVENT
DTSTART;TZID=America/Los_Angeles:20220712T180000
DTEND;TZID=America/Los_Angeles:20220712T190000
DTSTAMP:20260425T173814
CREATED:20211001T054606Z
LAST-MODIFIED:20230921T105443Z
UID:8818-1657648800-1657652400@dev25.usawe.org
SUMMARY:Quarterly AO Networking Hour
DESCRIPTION:A meet and greet style networking meeting for the USAWE Affiliate Organization community. \nOpen to all Affiliate Organization members\, and anyone interested in starting an Affiliate Organization. Meet other USAWE Affiliate Organization leaders\, make friends\, share ideas\, be encouraged\, build community! This quarterly meeting is all about getting to know one another and strengthening the support you receive as an Affiliate Organization. Zoom meeting\, 6 pm Pacific Time on the second Tuesdays of these months: October\, January\, April\, and July. Email Affiliate Organization Program Coordinator for meeting invite link.
URL:https://dev25.usawe.org/event/quarterly-ao-networking-hour-5/
LOCATION:VA
CATEGORIES:Region 1,Region 2,Region 3,Region 4,Region 5,Region 6,Region 7
ORGANIZER;CN="Kristine Strasburger":MAILTO:neheartlandwe@gmail.com
END:VEVENT
BEGIN:VEVENT
DTSTART;VALUE=DATE:20220625
DTEND;VALUE=DATE:20220627
DTSTAMP:20260425T173814
CREATED:20220110T220302Z
LAST-MODIFIED:20220111T020822Z
UID:18090-1656115200-1656287999@dev25.usawe.org
SUMMARY:PA: Clinic
DESCRIPTION:Spend 2 days with USAWE Reg. 6 Director\, Kim Hillyer to get coaching and tips about Working Equitation. Day one is the dressage ride a test and intro to EOH obstacles. Day 2\, work in small groups and practice riding obstacles. This is a great opportunity to learn more before the KDCTA WE Schooling Show. More info can be found at our website www.KDCTA.org
URL:https://dev25.usawe.org/event/pa-clinic-2/
LOCATION:Blue Barn Farm\, 8001 Berwick Forge Rd\, Alexandria\, PA\, 16611\, United States
CATEGORIES:All Clinics,Region 6
ATTACH;FMTTYPE=image/gif:https://dev25.usawe.org/wp-content/uploads/2022/01/KDCTAlogoorginal.gif
ORGANIZER;CN="Stephanie Dobiss":MAILTO:kdctashows@gmail.com
END:VEVENT
BEGIN:VEVENT
DTSTART;VALUE=DATE:20220619
DTEND;VALUE=DATE:20220620
DTSTAMP:20260425T173814
CREATED:20220111T024129Z
LAST-MODIFIED:20220113T232604Z
UID:18145-1655596800-1655683199@dev25.usawe.org
SUMMARY:NH:  NEWE Gelinas Farm WE Show #2 and Cattle Trial
DESCRIPTION:License# 22-068 and License 22-068-C
URL:https://dev25.usawe.org/event/nh-newe-gelinas-farm-we-show-2/
LOCATION:Gelinas Farm\, 471 4th Range Rd\, Pembroke\, NH\, United States
CATEGORIES:Competitions (all),Region 6
ATTACH;FMTTYPE=image/png:https://dev25.usawe.org/wp-content/uploads/2022/01/NEWE.png
END:VEVENT
BEGIN:VEVENT
DTSTART;VALUE=DATE:20220618
DTEND;VALUE=DATE:20220620
DTSTAMP:20260425T173814
CREATED:20220111T045153Z
LAST-MODIFIED:20220111T045153Z
UID:18177-1655510400-1655683199@dev25.usawe.org
SUMMARY:VA:  ERAHC East Coast Classic #1
DESCRIPTION:License# 22-035
URL:https://dev25.usawe.org/event/va-erahc-east-coast-classic-1/
LOCATION:Frying Pan Farm Park\, 2709 West Ox Rd.\, Herndon\, VA\, 20171\, United States
CATEGORIES:Competitions (all),Region 6
ORGANIZER;CN="Maria Blackstone":MAILTO:mblackstone@renaissancefarmtn.com
END:VEVENT
BEGIN:VEVENT
DTSTART;VALUE=DATE:20220618
DTEND;VALUE=DATE:20220619
DTSTAMP:20260425T173814
CREATED:20220111T023944Z
LAST-MODIFIED:20220111T023944Z
UID:18139-1655510400-1655596799@dev25.usawe.org
SUMMARY:NH:  NEWE Gelinas Farm WE Show #1
DESCRIPTION:License# 22-067
URL:https://dev25.usawe.org/event/nh-newe-gelinas-farm-we-show-1/
LOCATION:Gelinas Farm\, 471 4th Range Rd\, Pembroke\, NH\, United States
CATEGORIES:Competitions (all),Region 6
ATTACH;FMTTYPE=image/png:https://dev25.usawe.org/wp-content/uploads/2022/01/NEWE.png
END:VEVENT
BEGIN:VEVENT
DTSTART;VALUE=DATE:20220616
DTEND;VALUE=DATE:20220618
DTSTAMP:20260425T173814
CREATED:20220322T200947Z
LAST-MODIFIED:20220322T200947Z
UID:20295-1655337600-1655510399@dev25.usawe.org
SUMMARY:VA: NOVAWE Working Equitation Clinic with Susan Watkins
DESCRIPTION:NOVAWE is organizing a WE Clinic with Susan Watkins to enhance the rider’s flatwork and obstacle skills. Riders can sign up for a session on Thursday and/or a session on Friday. ERAHC is hosting a USAWE Licensed show on Saturday at the same location. Registration is via Striderpro.com. Registration opens to NOVAWE members on 4/16/22 and to non-members on 4/22/22.
URL:https://dev25.usawe.org/event/va-novawe-working-equitation-clinic-with-susan-watkins/
LOCATION:Frying Pan Farm Park\, 2709 West Ox Rd.\, Herndon\, VA\, 20171\, United States
CATEGORIES:All Clinics,Region 6
ATTACH;FMTTYPE=image/png:https://dev25.usawe.org/wp-content/uploads/2022/01/NOVAWE_Logo.png
ORGANIZER;CN="Biddie Lowry":MAILTO:novawe.blowry@gmail.com
END:VEVENT
BEGIN:VEVENT
DTSTART;VALUE=DATE:20220611
DTEND;VALUE=DATE:20220612
DTSTAMP:20260425T173814
CREATED:20220304T220208Z
LAST-MODIFIED:20220304T220208Z
UID:20057-1654905600-1654991999@dev25.usawe.org
SUMMARY:NY: Working Equitation Clinic with Stephanie Hayes
DESCRIPTION:Introduction to Working Equitation\, skill building for riders with WE experience.
URL:https://dev25.usawe.org/event/ny-working-equitation-clinic-with-stephanie-hayes-2/
LOCATION:Viridian Farm\, Fort Edward\, NY\, United States
CATEGORIES:All Clinics,Region 6
ATTACH;FMTTYPE=image/jpeg:https://dev25.usawe.org/wp-content/uploads/2022/03/fullsizeoutput_1208-scaled.jpg
ORGANIZER;CN="Stephanie Hayes":MAILTO:vtblackpony@aol.com
END:VEVENT
BEGIN:VEVENT
DTSTART;VALUE=DATE:20220528
DTEND;VALUE=DATE:20220529
DTSTAMP:20260425T173814
CREATED:20220304T220550Z
LAST-MODIFIED:20220304T220550Z
UID:20065-1653696000-1653782399@dev25.usawe.org
SUMMARY:VA: NOVAWE Schooling WE Show #1
DESCRIPTION:This is the first of three WE Schooling Shows offered by NOVAWE. Level 1 will have Dressage and EOH; Levels 2 & 3 will have Dressage\, EOH\, and Speed. All trials will be held in the Indoor and stabling is available. For more information\, please visit www.novawe.org.
URL:https://dev25.usawe.org/event/va-novawe-schooling-we-show-1/
LOCATION:Frying Pan Farm Park\, 2709 West Ox Rd.\, Herndon\, VA\, 20171\, United States
CATEGORIES:All Schooling Shows,Region 6
ATTACH;FMTTYPE=image/png:https://dev25.usawe.org/wp-content/uploads/2022/01/NOVAWE_Logo.png
ORGANIZER;CN="Biddie Lowry":MAILTO:novawe.blowry@gmail.com
END:VEVENT
BEGIN:VEVENT
DTSTART;VALUE=DATE:20220430
DTEND;VALUE=DATE:20220501
DTSTAMP:20260425T173814
CREATED:20211214T003739Z
LAST-MODIFIED:20211214T003739Z
UID:17243-1651276800-1651363199@dev25.usawe.org
SUMMARY:MD: OSE Spring Fling
DESCRIPTION:License #22-037
URL:https://dev25.usawe.org/event/md-ose-spring-fling/
LOCATION:Oak Spring Equestrian\, 15195 Bushy Park Rd.\, Woodbine\, MD\, 21797\, United States
CATEGORIES:Competitions (all),Region 6
ORGANIZER;CN="Barb Sullivan":MAILTO:oakspringequestrianllc@gmail.com
END:VEVENT
BEGIN:VEVENT
DTSTART;VALUE=DATE:20220426
DTEND;VALUE=DATE:20220428
DTSTAMP:20260425T173814
CREATED:20220322T201114Z
LAST-MODIFIED:20220322T201114Z
UID:20297-1650931200-1651103999@dev25.usawe.org
SUMMARY:VA: NOVAWE Working Equitation Clinic with Doreen Atkinson
DESCRIPTION:NOVAWE is organizing a WE Clinic with Doreen Atkinson to enhance the rider’s flatwork and obstacle skills. Riders sign up for one session (110 min.) either on Tuesday or Wednesday. Email Biddie Lowry if you would like to be put on the wait list for a second session/day. Stabling is available. Registration is via Striderpro.com.
URL:https://dev25.usawe.org/event/va-novawe-working-equitation-clinic-with-doreen-atkinson/
LOCATION:Frying Pan Farm Park\, 2709 West Ox Rd.\, Herndon\, VA\, 20171\, United States
CATEGORIES:All Clinics,Region 6
ATTACH;FMTTYPE=image/png:https://dev25.usawe.org/wp-content/uploads/2022/01/NOVAWE_Logo.png
ORGANIZER;CN="Biddie Lowry":MAILTO:novawe.blowry@gmail.com
END:VEVENT
BEGIN:VEVENT
DTSTART;VALUE=DATE:20220423
DTEND;VALUE=DATE:20220424
DTSTAMP:20260425T173814
CREATED:20220304T215734Z
LAST-MODIFIED:20220304T215734Z
UID:20049-1650672000-1650758399@dev25.usawe.org
SUMMARY:NH: Working Equitation with Stephanie Hayes
DESCRIPTION:Introduction to Working Equitation\, skill building for those with WE experience.
URL:https://dev25.usawe.org/event/nh-working-equitation-with-stephanie-hayes/
LOCATION:Sea Star Stables\, Brentwood\, NH\, United States
CATEGORIES:All Clinics,Region 6
ATTACH;FMTTYPE=image/jpeg:https://dev25.usawe.org/wp-content/uploads/2022/03/fullsizeoutput_126a-scaled.jpg
ORGANIZER;CN="Stephanie Hayes":MAILTO:vtblackpony@aol.com
END:VEVENT
BEGIN:VEVENT
DTSTART;VALUE=DATE:20220423
DTEND;VALUE=DATE:20220424
DTSTAMP:20260425T173814
CREATED:20220110T220132Z
LAST-MODIFIED:20220110T220132Z
UID:18084-1650672000-1650758399@dev25.usawe.org
SUMMARY:PA: WE Obstacle Play Day
DESCRIPTION:Want to learn more about working equitation obstacles?  \nCome to an indoor play day and learn the rules and how to ride some of the obstacles. 90 min sessions with 3-4 riders per session. \nFor more information\, please visit us at www.KDCTA.org
URL:https://dev25.usawe.org/event/pa-we-obstacle-play-day/
LOCATION:Blue Barn Farm\, 8001 Berwick Forge Rd\, Alexandria\, PA\, 16611\, United States
CATEGORIES:All Clinics,Region 6
ATTACH;FMTTYPE=image/gif:https://dev25.usawe.org/wp-content/uploads/2022/01/KDCTAlogoorginal.gif
ORGANIZER;CN="Stephanie Dobiss":MAILTO:kdctashows@gmail.com
END:VEVENT
BEGIN:VEVENT
DTSTART;TZID=America/Los_Angeles:20220412T180000
DTEND;TZID=America/Los_Angeles:20220412T190000
DTSTAMP:20260425T173814
CREATED:20211001T053905Z
LAST-MODIFIED:20211001T053905Z
UID:8812-1649786400-1649790000@dev25.usawe.org
SUMMARY:Quarterly AO Networking Hour
DESCRIPTION:A meet and greet style networking meeting for the USAWE Affiliate Organization community. \nOpen to all Affiliate Organization members\, and anyone interested in starting an Affiliate Organization.  Meet other USAWE Affiliate Organization leaders\, make friends\, share ideas\, be encouraged\, build community! This quarterly meeting is all about getting to know one another and strengthening the support you receive as an Affiliate Organization. Zoom meeting\, 6 pm Pacific Time on the second Tuesdays of these months: October\, January\, April\, and July.  Email Affiliate Organization Program Coordinator for meeting invite link.
URL:https://dev25.usawe.org/event/quarterly-ao-networking-hour-2/
LOCATION:VA
CATEGORIES:Region 1,Region 2,Region 3,Region 4,Region 5,Region 6,Region 7
ORGANIZER;CN="Kristine Strasburger":MAILTO:neheartlandwe@gmail.com
END:VEVENT
BEGIN:VEVENT
DTSTART;TZID=America/Los_Angeles:20220304T080000
DTEND;TZID=America/Los_Angeles:20220304T170000
DTSTAMP:20260425T173814
CREATED:20220304T215941Z
LAST-MODIFIED:20220304T215941Z
UID:20053-1646380800-1646413200@dev25.usawe.org
SUMMARY:MA: Working Equitation with Stephanie Hayes
DESCRIPTION:Introduction to Working Equitation\, skill building for riders with WE experience.
URL:https://dev25.usawe.org/event/ma-working-equitation-with-stephanie-hayes/
LOCATION:Thankful Hearts Farm\, East Bridgewater\, MA\, United States
CATEGORIES:All Clinics,Region 6
ATTACH;FMTTYPE=image/jpeg:https://dev25.usawe.org/wp-content/uploads/2022/03/fullsizeoutput_127c-scaled.jpg
ORGANIZER;CN="Stephanie Hayes":MAILTO:vtblackpony@aol.com
END:VEVENT
BEGIN:VEVENT
DTSTART;VALUE=DATE:20220123
DTEND;VALUE=DATE:20220124
DTSTAMP:20260425T173814
CREATED:20220109T201908Z
LAST-MODIFIED:20220109T201908Z
UID:17938-1642896000-1642982399@dev25.usawe.org
SUMMARY:MA: Working Equitation Clinic with Stephanie Hayes
DESCRIPTION:2 hour small group sessions for riders new or experienced to WE.
URL:https://dev25.usawe.org/event/ma-working-equitation-clinic-with-stephanie-hayes-2/
LOCATION:Cardinal Ridge Equestrian Center\, 36 Ennis Rd\, North Oxford\, MA\, United States
CATEGORIES:All Clinics,Region 6
ORGANIZER;CN="Stephanie Hayes":MAILTO:vtblackpony@aol.com
END:VEVENT
BEGIN:VEVENT
DTSTART;TZID=America/Los_Angeles:20220111T180000
DTEND;TZID=America/Los_Angeles:20220111T190000
DTSTAMP:20260425T173814
CREATED:20211001T052157Z
LAST-MODIFIED:20211001T053533Z
UID:8799-1641924000-1641927600@dev25.usawe.org
SUMMARY:Quarterly AO Networking Hour
DESCRIPTION:A meet and greet style networking meeting for the USAWE Affiliate Organization community. \nOpen to all Affiliate Organization members\, and anyone interested in starting an Affiliate Organization.  Meet other USAWE Affiliate Organization leaders\, make friends\, share ideas\, be encouraged\, build community! This quarterly meeting is all about getting to know one another and strengthening the support you receive as an Affiliate Organization. Zoom meeting\, 6 pm Pacific Time on the second Tuesdays of these months: October\, January\, April\, and July.  Email Affiliate Organization Program Coordinator for meeting invite link.
URL:https://dev25.usawe.org/event/quarterly-ao-networking-hour/
LOCATION:VA
CATEGORIES:Region 1,Region 2,Region 3,Region 4,Region 5,Region 6,Region 7
ORGANIZER;CN="Kristine Strasburger":MAILTO:neheartlandwe@gmail.com
END:VEVENT
BEGIN:VEVENT
DTSTART;VALUE=DATE:20211212
DTEND;VALUE=DATE:20211213
DTSTAMP:20260425T173814
CREATED:20211123T062044Z
LAST-MODIFIED:20211124T044354Z
UID:16271-1639267200-1639353599@dev25.usawe.org
SUMMARY:NY: Working Equitation Clinic with Stephanie Hayes
DESCRIPTION:Working Equitation clinic for all levels\, disciplines and breeds. 2 hour group sessions (max 4 riders per group). Auditors welcomed to attend.
URL:https://dev25.usawe.org/event/ny-working-equitation-clinic-with-stephanie-hayes/
LOCATION:Trilogy Equestrian Center\, 161 White Road\, Malta\, NY\, United States
CATEGORIES:All Clinics,Region 6
ORGANIZER;CN="Stephanie Hayes":MAILTO:vtblackpony@aol.com
END:VEVENT
BEGIN:VEVENT
DTSTART;VALUE=DATE:20211211
DTEND;VALUE=DATE:20211212
DTSTAMP:20260425T173814
CREATED:20211123T062441Z
LAST-MODIFIED:20211124T044446Z
UID:16279-1639180800-1639267199@dev25.usawe.org
SUMMARY:NY: Working Equitation Clinic- Auditing only
DESCRIPTION:Rider spots are already filled but auditors welcomed to attend.  Working Equitation clinic for all levels\, disciplines and breeds. Clinician: Stephanie Hayes
URL:https://dev25.usawe.org/event/ny-working-equitation-clinic-auditing-only/
LOCATION:Chatham Equestrian Center\, 76 Harris Rd\, Valatie\, NY\, United States
CATEGORIES:All Clinics,Region 6
ORGANIZER;CN="Stephanie Hayes":MAILTO:vtblackpony@aol.com
END:VEVENT
BEGIN:VEVENT
DTSTART;VALUE=DATE:20211204
DTEND;VALUE=DATE:20211205
DTSTAMP:20260425T173814
CREATED:20211123T062238Z
LAST-MODIFIED:20211124T044310Z
UID:16275-1638576000-1638662399@dev25.usawe.org
SUMMARY:MA: Working Equitation Clinic with Stephanie Hayes
DESCRIPTION:Working Equitation clinic for all levels\, disciplines and breeds. 2 hour group sessions (max 4 riders per group. Auditors welcomed to attend.
URL:https://dev25.usawe.org/event/ma-working-equitation-clinic-with-stephanie-hayes/
LOCATION:Cardinal Ridge Equestrian Center\, 36 Ennis Rd\, North Oxford\, MA\, United States
CATEGORIES:All Clinics,Region 6
ORGANIZER;CN="Stephanie Hayes":MAILTO:vtblackpony@aol.com
END:VEVENT
BEGIN:VEVENT
DTSTART;VALUE=DATE:20211106
DTEND;VALUE=DATE:20211107
DTSTAMP:20260425T173814
CREATED:20211006T155024Z
LAST-MODIFIED:20211006T155838Z
UID:8876-1636156800-1636243199@dev25.usawe.org
SUMMARY:NY: Working Equitaiton clinic with Stephanie Hayes
DESCRIPTION:Open to all levels\, no prior working equitation experience needed. Some stabling available. To be held indoors in case of inclement weather.
URL:https://dev25.usawe.org/event/ny-working-equitaiton-clinic-with-stephanie-hayes/
LOCATION:Thistledale Farm\, 7061 Gauss R.\, Bloomfield\, NY\, United States
CATEGORIES:All Clinics,Region 6
ATTACH;FMTTYPE=image/jpeg:https://dev25.usawe.org/wp-content/uploads/2021/09/SynergyWE.jpg
ORGANIZER;CN="Stephanie Hayes":MAILTO:vtblackpony@aol.com
END:VEVENT
BEGIN:VEVENT
DTSTART;VALUE=DATE:20211106
DTEND;VALUE=DATE:20211107
DTSTAMP:20260425T173814
CREATED:20210315T192600Z
LAST-MODIFIED:20210315T194405Z
UID:5854-1636156800-1636243199@dev25.usawe.org
SUMMARY:VA: NOVAWE Working Equitation Schooling Show #3
DESCRIPTION:Judge: TBD \nDetails: Ready to participate in an all-day WE Schooling Show in Frying Pan’s spacious indoor? This relaxed and friendly show is a great learning opportunity and/or practice for rated shows. Stabling will be available. Scores from this schooling show go towards NOVAWE Year End Awards. \nClass Fees:\nNOVAWE member Intro (L1) Entry Fee (Dressage & EOH) $65\nNOVAWE member Novice & up (L2-L5) Entry Fee (Dressage\, EOH\, Speed) $85\nNon-members\, add $10 to entry fee. \nSee prize list for all details including stabling options on the website calendar: https://novawe.org/events/.
URL:https://dev25.usawe.org/event/va-novawe-working-equitation-schooling-show-3/
LOCATION:Frying Pan Farm Park\, 2709 West Ox Rd.\, Herndon\, VA\, 20171\, United States
CATEGORIES:All Schooling Shows,Region 6
ORGANIZER;CN="Biddie Lowry":MAILTO:novawe.blowry@gmail.com
END:VEVENT
BEGIN:VEVENT
DTSTART;VALUE=DATE:20211030
DTEND;VALUE=DATE:20211031
DTSTAMP:20260425T173814
CREATED:20210923T035141Z
LAST-MODIFIED:20210923T174825Z
UID:8716-1635552000-1635638399@dev25.usawe.org
SUMMARY:CT: Working Equitation clinic with Stephanie Hayes
DESCRIPTION:The clinic will introduce riders new to the sport the basic criteria of EOH obstacles and  the use the obstacles to help improve their riding and improve the horses balance\, suppleness and rhythm. Riders with WE experience will be grouped separately and coached at their current level with an emphasis on enhancing their current skills\, be challenged with navigation and rules questions\, and will have the opportunity to ride a course with a critique afterward.
URL:https://dev25.usawe.org/event/ct-working-equitation-clinic-with-stephanie-hayes/
LOCATION:Thompson\, CT\, Thompson\, CT
CATEGORIES:All Clinics,Region 6
ORGANIZER;CN="Stephanie Hayes":MAILTO:vtblackpony@aol.com
END:VEVENT
BEGIN:VEVENT
DTSTART;TZID=America/Los_Angeles:20211012T180000
DTEND;TZID=America/Los_Angeles:20211012T190000
DTSTAMP:20260425T173814
CREATED:20211001T052425Z
LAST-MODIFIED:20211001T052902Z
UID:8804-1634061600-1634065200@dev25.usawe.org
SUMMARY:Quarterly AO Networking Hour
DESCRIPTION:A meet and greet style networking meeting for the USAWE Affiliate Organization community. \nOpen to all Affiliate Organization members\, and anyone interested in starting an Affiliate Organization.  Meet other USAWE Affiliate Organization leaders\, make friends\, share ideas\, be encouraged\, build community! This quarterly meeting is all about getting to know one another and strengthening the support you receive as an Affiliate Organization. Zoom meeting\, 6 pm Pacific Time on the second Tuesdays of these months: October\, January\, April\, and July.  Email Affiliate Organization Program Coordinator for meeting invite link.
URL:https://dev25.usawe.org/event/quarterly-ao-networking-hour-4/
LOCATION:VA
CATEGORIES:Region 1,Region 2,Region 3,Region 4,Region 5,Region 6,Region 7
ORGANIZER;CN="Kristine Strasburger":MAILTO:neheartlandwe@gmail.com
END:VEVENT
BEGIN:VEVENT
DTSTART;VALUE=DATE:20211009
DTEND;VALUE=DATE:20211010
DTSTAMP:20260425T173814
CREATED:20210331T172202Z
LAST-MODIFIED:20210331T172202Z
UID:5975-1633737600-1633823999@dev25.usawe.org
SUMMARY:MD: Oak Spring Equestrian Fall Show
DESCRIPTION:B-Rated Competition \nOffering L1-L5 \nLicense: 21-078(P)
URL:https://dev25.usawe.org/event/md-oak-spring-equestrian-fall-show/
LOCATION:Oak Spring Equestrian\, 15195 Bushy Park Rd.\, Woodbine\, MD\, 21797\, United States
CATEGORIES:Competitions (all),Region 6
ORGANIZER;CN="Shannen Johnson":MAILTO:oakspringequestrianllc@gmail.com
END:VEVENT
BEGIN:VEVENT
DTSTART;VALUE=DATE:20210917
DTEND;VALUE=DATE:20210920
DTSTAMP:20260425T173814
CREATED:20210128T190208Z
LAST-MODIFIED:20210517T171911Z
UID:5004-1631836800-1632095999@dev25.usawe.org
SUMMARY:PA: Region 6 Championship & A-Rated Show
DESCRIPTION:Regional Championship & A-Rated Show \nHosted by New England Working Equitation\, Inc. at Grange Park Equine Center\n169 Homan Lane Centre Hall\, PA 16828 \nShow Manager: Cheryl-Ann Withrow \nLicense #21-055 \nPlease refer to the United States Rules for Working Equitation for information on qualification requirements to compete at a Regional Championship. \nEnter online at: https://drive.google.com/file/d/11H_fUUnZxsf_jFAectnQdO6KvYL5crQp/view?usp=drivesdk
URL:https://dev25.usawe.org/event/pa-region-6-championship-show/
LOCATION:Grange Park Equine Center\, 169 Homan Lane\, Centre Hall\, PA\, 16828\, United States
CATEGORIES:Competitions (all),Region 6
ORGANIZER;CN="Cheryl-Ann Withrow":MAILTO:newenglandworkingequitation@gmail.com
END:VEVENT
BEGIN:VEVENT
DTSTART;VALUE=DATE:20210828
DTEND;VALUE=DATE:20210830
DTSTAMP:20260425T173814
CREATED:20210131T210427Z
LAST-MODIFIED:20210308T212206Z
UID:5026-1630108800-1630281599@dev25.usawe.org
SUMMARY:VA: ERAHC WE East Coast Classic #4
DESCRIPTION:Offering L1 – L7 \nLicense: 21-061(P)
URL:https://dev25.usawe.org/event/va-erahc-working-equitation-show/
LOCATION:Virginia Horse Center\, 487 Maury River Rd\, Lexington\, VA\, 24450\, United States
CATEGORIES:Competitions (all),Region 6
ORGANIZER;CN="Maria Blackstone":MAILTO:mblackstone@renaissancefarmtn.com
END:VEVENT
BEGIN:VEVENT
DTSTART;VALUE=DATE:20210822
DTEND;VALUE=DATE:20210823
DTSTAMP:20260425T173814
CREATED:20210324T192628Z
LAST-MODIFIED:20210517T171819Z
UID:5931-1629590400-1629676799@dev25.usawe.org
SUMMARY:NH: Gelinas Farm Working Equitation Show
DESCRIPTION:B-Rated Competition offering L1-L7 \nLicense #21-077 \nEnter online at: https://drive.google.com/file/d/1iITWpL0qpD0ug4-CJn7fGKLxXDs3OzXb/view
URL:https://dev25.usawe.org/event/nh-gelinas-farm-working-equitation-show/
LOCATION:Gelinas Farm\, 471 4th Range Rd\, Pembroke\, NH\, United States
CATEGORIES:Competitions (all),Region 6
ORGANIZER;CN="Deanna Durst":MAILTO:RoundtheCornerFarm@gmail.com
END:VEVENT
END:VCALENDAR