BEGIN:VCALENDAR
VERSION:2.0
PRODID:-//USA Working Equitation - ECPv6.15.20//NONSGML v1.0//EN
CALSCALE:GREGORIAN
METHOD:PUBLISH
X-WR-CALNAME:USA Working Equitation
X-ORIGINAL-URL:https://dev25.usawe.org
X-WR-CALDESC:Events for USA Working Equitation
REFRESH-INTERVAL;VALUE=DURATION:PT1H
X-Robots-Tag:noindex
X-PUBLISHED-TTL:PT1H
BEGIN:VTIMEZONE
TZID:America/Los_Angeles
BEGIN:DAYLIGHT
TZOFFSETFROM:-0800
TZOFFSETTO:-0700
TZNAME:PDT
DTSTART:20210314T100000
END:DAYLIGHT
BEGIN:STANDARD
TZOFFSETFROM:-0700
TZOFFSETTO:-0800
TZNAME:PST
DTSTART:20211107T090000
END:STANDARD
BEGIN:DAYLIGHT
TZOFFSETFROM:-0800
TZOFFSETTO:-0700
TZNAME:PDT
DTSTART:20220313T100000
END:DAYLIGHT
BEGIN:STANDARD
TZOFFSETFROM:-0700
TZOFFSETTO:-0800
TZNAME:PST
DTSTART:20221106T090000
END:STANDARD
BEGIN:DAYLIGHT
TZOFFSETFROM:-0800
TZOFFSETTO:-0700
TZNAME:PDT
DTSTART:20230312T100000
END:DAYLIGHT
BEGIN:STANDARD
TZOFFSETFROM:-0700
TZOFFSETTO:-0800
TZNAME:PST
DTSTART:20231105T090000
END:STANDARD
BEGIN:DAYLIGHT
TZOFFSETFROM:-0800
TZOFFSETTO:-0700
TZNAME:PDT
DTSTART:20240310T100000
END:DAYLIGHT
BEGIN:STANDARD
TZOFFSETFROM:-0700
TZOFFSETTO:-0800
TZNAME:PST
DTSTART:20241103T090000
END:STANDARD
END:VTIMEZONE
BEGIN:VEVENT
DTSTART;VALUE=DATE:20230604
DTEND;VALUE=DATE:20230605
DTSTAMP:20260422T221753
CREATED:20230115T122816Z
LAST-MODIFIED:20230311T170532Z
UID:24052-1685836800-1685923199@dev25.usawe.org
SUMMARY:PA: (23-062) EPAWE Licensed Show
DESCRIPTION:Licensed show# 23-062 Visit usawe.org > Competitions > List of Licensed Competitions for license status\, performance levels offered\, show manager\, judge and technical delegate info.
URL:https://dev25.usawe.org/event/pa-23-062-epawe-licensed-show/
CATEGORIES:Competitions (all),Region 6
ORGANIZER;CN="Kate Thomas":MAILTO:sfelicia4899@gmail.com
END:VEVENT
BEGIN:VEVENT
DTSTART;VALUE=DATE:20230603
DTEND;VALUE=DATE:20230604
DTSTAMP:20260422T221753
CREATED:20221231T040800Z
LAST-MODIFIED:20230311T165846Z
UID:23287-1685750400-1685836799@dev25.usawe.org
SUMMARY:NH: (23-044) NEWE Gelina's Farm #1
DESCRIPTION:License# 23-044 Visit usawe.org > Competitions > List of Licensed Competitions for license status\, performance levels offered\, show manager\, judge and technical delegate info.
URL:https://dev25.usawe.org/event/nh-23-044-newe-gelinas-farm-1/
LOCATION:Gelinas Farm\, 471 4th Range Rd\, Pembroke\, NH\, United States
CATEGORIES:Competitions (all),Region 6
ORGANIZER;CN="Stephanie Hayes":MAILTO:vtblackpony@aol.com
END:VEVENT
BEGIN:VEVENT
DTSTART;TZID=America/Los_Angeles:20230424T170000
DTEND;TZID=America/Los_Angeles:20230424T180000
DTSTAMP:20260422T221753
CREATED:20230208T223139Z
LAST-MODIFIED:20230921T105558Z
UID:24875-1682355600-1682359200@dev25.usawe.org
SUMMARY:Qtly Meeting:  Affiliate Organizations
DESCRIPTION:Quarterly AO Networking Hour \nAffiliate Organizations Committee\nEmail: AffiliateOrganizations@usawe.org\nChair: Kristine Strasburger \nTopic: Quarterly AO Networking Hour\nTime: April 24\, 2023\n5:00 PM Pacific Time (US and Canada)\n6:00 PM Mountain Time\n7:00 PM Central Time\n8:00 PM Eastern Time\n \nPlease mark these future dates on your calendar now\, so you don’t miss out!\n\n        Every 3 months on the Fourth Mon\, \nJul 24\, 2023 05:00 PM Pacific time\nOct 23\, 2023 05:00 PM Pacific timeJoin Zoom Meeting\nhttps://us02web.zoom.us/j/85044952234?pwd=Q0JLWENENDJLbFdFb0tHWC9mc2RiUT09 \nMeeting ID: 850 4495 2234\nPasscode: 538878\nOne tap mobile\n+13092053325\,\,85044952234#\,\,\,\,*538878# US\n+13126266799\,\,85044952234#\,\,\,\,*538878# US (Chicago) \nDial by your location\n+1 309 205 3325 US\n+1 312 626 6799 US (Chicago)\n+1 646 558 8656 US (New York)\n+1 646 931 3860 US\n+1 301 715 8592 US (Washington DC)\n+1 305 224 1968 US\n+1 253 205 0468 US\n+1 253 215 8782 US (Tacoma)\n+1 346 248 7799 US (Houston)\n+1 360 209 5623 US\n+1 386 347 5053 US\n+1 507 473 4847 US\n+1 564 217 2000 US\n+1 669 444 9171 US\n+1 669 900 9128 US (San Jose)\n+1 689 278 1000 US\n+1 719 359 4580 US\nMeeting ID: 850 4495 2234\nPasscode: 538878\nFind your local number: https://us02web.zoom.us/u/kbpUqLkJTb
URL:https://dev25.usawe.org/event/qtly-meeting-affiliate-organizations-3/
CATEGORIES:Region 1,Region 2,Region 3,Region 4,Region 5,Region 6,Region 7
ORGANIZER;CN="Kristine Strasburger":MAILTO:neheartlandwe@gmail.com
END:VEVENT
BEGIN:VEVENT
DTSTART;VALUE=DATE:20230423
DTEND;VALUE=DATE:20230424
DTSTAMP:20260422T221753
CREATED:20221231T035629Z
LAST-MODIFIED:20230311T165937Z
UID:23274-1682208000-1682294399@dev25.usawe.org
SUMMARY:VA: (23-046) NOVAWE's Ready\, Set\, Spring into Working Equitation Show #2
DESCRIPTION:License# 23-046 Visit usawe.org > Competitions > List of Licensed Competitions for license status\, performance levels offered\, show manager\, judge and technical delegate info.
URL:https://dev25.usawe.org/event/va-23-046-novawes-ready-set-spring-into-working-equitation-show-2/
LOCATION:Frying Pan Farm Park\, 2709 West Ox Rd.\, Herndon\, VA\, 20171\, United States
CATEGORIES:Competitions (all),Region 6
ORGANIZER;CN="Jackie Pennington":MAILTO:pennyacres4@yahoo.com
END:VEVENT
BEGIN:VEVENT
DTSTART;VALUE=DATE:20230422
DTEND;VALUE=DATE:20230424
DTSTAMP:20260422T221753
CREATED:20230201T123853Z
LAST-MODIFIED:20230405T002439Z
UID:24613-1682121600-1682294399@dev25.usawe.org
SUMMARY:RI: Working Equitation clinic with WE Coach Stephanie Hayes
DESCRIPTION:Working Equitation clinic with WE Coach Stephanie Hayes \nWE clinic for all levels\, with a focus on EOH. Auditors welcomed!
URL:https://dev25.usawe.org/event/ri-working-equitation-clinic-with-we-coach-stephanie-hayes/
LOCATION:Fairwinds Farm\, 15 Rodman Lane\, North Kingstown\, RI\, United States
CATEGORIES:All Clinics,Region 6
ATTACH;FMTTYPE=image/jpeg:https://dev25.usawe.org/wp-content/uploads/2023/01/Stephanie-Hayes_L-Judge_bio-pic-scaled.jpg
ORGANIZER;CN="Stephanie Hayes":MAILTO:vtblackpony@aol.com
END:VEVENT
BEGIN:VEVENT
DTSTART;VALUE=DATE:20230422
DTEND;VALUE=DATE:20230423
DTSTAMP:20260422T221753
CREATED:20221231T032832Z
LAST-MODIFIED:20230311T165912Z
UID:23242-1682121600-1682207999@dev25.usawe.org
SUMMARY:VA: (23-045) NOVAWE's Ready\, Set\, Spring into Working Equitation Show #1
DESCRIPTION:License# 23-045 Visit usawe.org > Competitions > List of Licensed Competitions for license status\, performance levels offered\, show manager\, judge and technical delegate info.
URL:https://dev25.usawe.org/event/va-novawes-ready-set-spring-into-working-equitation-show-1/
LOCATION:Frying Pan Farm Park\, 2709 West Ox Rd.\, Herndon\, VA\, 20171\, United States
CATEGORIES:Competitions (all),Region 6
ORGANIZER;CN="Elaine Meilahn":MAILTO:elaine.meilahn@gmail.com
END:VEVENT
BEGIN:VEVENT
DTSTART;TZID=America/Los_Angeles:20230414T170000
DTEND;TZID=America/Los_Angeles:20230414T180000
DTSTAMP:20260422T221753
CREATED:20230411T121630Z
LAST-MODIFIED:20230411T121741Z
UID:27307-1681491600-1681495200@dev25.usawe.org
SUMMARY:LOC: Technical Delegate Responsibilities Module
DESCRIPTION:Technical Delegate Responsibilities Module\nContact the Licensed Officials Committee at LOC@usawe.org
URL:https://dev25.usawe.org/event/loc-technical-delegate-training/
CATEGORIES:Region 1,Region 2,Region 3,Region 4,Region 5,Region 6,Region 7,Seminars
END:VEVENT
BEGIN:VEVENT
DTSTART;VALUE=DATE:20230325
DTEND;VALUE=DATE:20230327
DTSTAMP:20260422T221753
CREATED:20221216T131232Z
LAST-MODIFIED:20221221T125735Z
UID:22508-1679702400-1679875199@dev25.usawe.org
SUMMARY:NY: Working Equitation Clinic with Stephanie Hayes
DESCRIPTION:2 day Working Equitation clinic\, Intro level and up.  \nMay attend one or both days. Auditors invited.  \nVisit https://www.facebook.com/events/1798320490525953/?ref=newsfeed
URL:https://dev25.usawe.org/event/ny-working-equitation-clinic-with-stephanie-hayes-3/
LOCATION:Frey Stables\, Fultonville\, NY\, United States
CATEGORIES:All Clinics,Region 6
ATTACH;FMTTYPE=image/jpeg:https://dev25.usawe.org/wp-content/uploads/2022/12/Jpeg-Stephanie-Hayes-Clinic-scaled.jpg
ORGANIZER;CN="Stephanie Hayes":MAILTO:vtblackpony@aol.com
END:VEVENT
BEGIN:VEVENT
DTSTART;TZID=America/Los_Angeles:20230314T170000
DTEND;TZID=America/Los_Angeles:20230314T193000
DTSTAMP:20260422T221753
CREATED:20230315T011954Z
LAST-MODIFIED:20230315T022456Z
UID:26370-1678813200-1678822200@dev25.usawe.org
SUMMARY:LOC- LO Only Special Session
DESCRIPTION:LOC- LO Only Special Session\nThis special session webinar for only Licensed Officials will give more clarity and guidance to the new dressage tests and other items from the S Judge Advisory Team. \nContinuing Education Credits: 2  WSS-230314 \nWhen: Mar 14\, 2023\, 05:00 PM Pacific Time (US and Canada)\nTopic: LOC- LO Only Special Session \nRegister in advance for this webinar:\nhttps://us02web.zoom.us/webinar/register/WN_HMcB4jCfTDyD5kAh-hU0kg \nAfter registering\, you will receive a confirmation email containing information about joining the webinar.
URL:https://dev25.usawe.org/event/loc-lo-only-special-session/
CATEGORIES:Region 1,Region 2,Region 3,Region 4,Region 5,Region 6,Region 7,Seminars
END:VEVENT
BEGIN:VEVENT
DTSTART;VALUE=DATE:20230304
DTEND;VALUE=DATE:20230306
DTSTAMP:20260422T221753
CREATED:20221216T182414Z
LAST-MODIFIED:20221221T125910Z
UID:22606-1677888000-1678060799@dev25.usawe.org
SUMMARY:TN: Working Equitation Clinic with Stephanie Hayes
DESCRIPTION:Join us for a two day Working Equitation clinic at the beautiful Hurricane Creek Ranch.  \nDay 1- Group Sessions. Fundamentals of dressage and Ease of Handling (obstacles). Riders will be grouped according to level.  \nDay 2- Ride A Test- Ride two (2) Ease of Handling courses and receive instruction and feedback from Stephanie.  \nCost $350 per rider. Includes lunch. Contact: info.mtwe@gmail.com. Limited overnight stabling & RV hookups available.
URL:https://dev25.usawe.org/event/tn-working-equitation-clinic-with-stephanie-hayes/
LOCATION:Hurricane Creek Ranch\, 1861 Norene Rd\, Lebanon\, TN\, United States
CATEGORIES:All Clinics,Region 6
ATTACH;FMTTYPE=image/jpeg:https://dev25.usawe.org/wp-content/uploads/2022/12/Jpeg-Stephanie-Hayes-Clinic-scaled.jpg
END:VEVENT
BEGIN:VEVENT
DTSTART;VALUE=DATE:20230217
DTEND;VALUE=DATE:20230219
DTSTAMP:20260422T221753
CREATED:20230201T123606Z
LAST-MODIFIED:20230201T123606Z
UID:24611-1676592000-1676764799@dev25.usawe.org
SUMMARY:NH: Working Equitation Clinic with WE Coach Stephanie Hayes
DESCRIPTION:NH: Working Equitation Clinic with WE Coach Stephanie Hayes \nCLINIC IS FULL \, but auditors welcomed to watch from heated viewing room with PA system. $25. \nPrivate and group sessions. Focus on EOH for all levels. \n 
URL:https://dev25.usawe.org/event/nh-working-equitation-clinic-with-we-coach-stephanie-hayes/
LOCATION:Equinimity Farm\, 251 Wentworth Rd.\, Brookfield\, NH\, United States
CATEGORIES:All Clinics,Region 6
ATTACH;FMTTYPE=image/jpeg:https://dev25.usawe.org/wp-content/uploads/2022/12/Jpeg-Stephanie-Hayes-Retreat.jpg
ORGANIZER;CN="Stephanie Hayes":MAILTO:vtblackpony@aol.com
END:VEVENT
BEGIN:VEVENT
DTSTART;TZID=America/Los_Angeles:20230204T090000
DTEND;TZID=America/Los_Angeles:20230204T113000
DTSTAMP:20260422T221753
CREATED:20230110T155424Z
LAST-MODIFIED:20230126T200918Z
UID:23744-1675501200-1675510200@dev25.usawe.org
SUMMARY:2023 Annual Members Meeting
DESCRIPTION:USA Working Equitation’s annual meeting of the members will be held virtually via Zoom on Saturday February 4\, 2023 at 9:00 am PST | 10:00 am MST | 11:00 am CST | 12:00 pm EST. \nCurrent members\, to attend\, please click here to register. After registering\, you will receive a confirmation email containing information about joining the webinar and the virtual meeting link. \nAgenda is available on the USAWE.org website > Corporate > Records > Meeting Minutes > Annual Member Minutes > Agenda \nThe meeting day and time is predetermined and mandated by USAWE’s Bylaws (1st Saturday in February 9am PST) \nAll current USAWE members in good standing are invited to attend. To attend\, please watch your email for the meeting invitation\, then RSVP to receive the meeting information/ Zoom webinar link. \nWe would love to hear from you. While we may not be able to answer each and every question during the meeting\, your questions will help to guide our decisions and better understand the needs and concerns of our members. To ask a question\, please use this link and submit your question(s) by January 25th so presenters have time to prepare a response. Thank you.
URL:https://dev25.usawe.org/event/2023-annual-members-meeting/
CATEGORIES:Corporate Meetings,Region 1,Region 2,Region 3,Region 4,Region 5,Region 6,Region 7
ATTACH;FMTTYPE=image/jpeg:https://dev25.usawe.org/wp-content/uploads/2023/01/USAWE-Annual-Mtg-2023.jpg
END:VEVENT
BEGIN:VEVENT
DTSTART;VALUE=DATE:20230121
DTEND;VALUE=DATE:20230123
DTSTAMP:20260422T221753
CREATED:20221125T211421Z
LAST-MODIFIED:20221125T211421Z
UID:22034-1674259200-1674431999@dev25.usawe.org
SUMMARY:NH: Clinic
DESCRIPTION:WE Clinic\, free auditing in heated viewing room. https://www.facebook.com/events/1161160714500278
URL:https://dev25.usawe.org/event/nh-clinic/
LOCATION:Equinimity Farm\, 251 Wentworth Rd.\, Brookfield\, NH\, United States
CATEGORIES:All Clinics,Region 6
ATTACH;FMTTYPE=image/jpeg:https://dev25.usawe.org/wp-content/uploads/2022/11/StephaniHayes-scaled.jpg
ORGANIZER;CN="Stephanie Hayes":MAILTO:vtblackpony@aol.com
END:VEVENT
BEGIN:VEVENT
DTSTART;TZID=America/Los_Angeles:20230115T080000
DTEND;TZID=America/Los_Angeles:20230115T170000
DTSTAMP:20260422T221753
CREATED:20230115T122155Z
LAST-MODIFIED:20230311T170404Z
UID:24043-1673769600-1673802000@dev25.usawe.org
SUMMARY:VA: (23-058) WE East Frying Pan Farm Park
DESCRIPTION:Licensed show# 23-058 Visit usawe.org > Competitions > List of Licensed Competitions for license status\, performance levels offered\, show manager\, judge and technical delegate info.
URL:https://dev25.usawe.org/event/va-23-058-we-east-frying-pan-farm-park/
LOCATION:Frying Pan Farm Park\, 2709 West Ox Rd.\, Herndon\, VA\, 20171\, United States
CATEGORIES:Competitions (all),Region 6
ORGANIZER;CN="Maria Blackstone":MAILTO:mblackstone@renaissancefarmtn.com
END:VEVENT
BEGIN:VEVENT
DTSTART;TZID=America/Los_Angeles:20230112T170000
DTEND;TZID=America/Los_Angeles:20230112T180000
DTSTAMP:20260422T221753
CREATED:20230103T161039Z
LAST-MODIFIED:20230115T182548Z
UID:23603-1673542800-1673546400@dev25.usawe.org
SUMMARY:WE-binar: 2023 US. Rules for Working Equitation - Rule Book Changes
DESCRIPTION:WEBINAR FOR THE 2023 RULE BOOK CHANGES\n\n\n\n\n\n\n\n\n\n\n\n\n\n\n\n\n\nGreetings\,\nThe Licensed Officials Committee and members of the Rules Committee will review significant changes in the 2023 U.S. Rules for Working Equitation\n\nThis webinar will be open to all USAWE members and is worth 2 CE credits for all LOs (Continuing Education Serial# WRR-230112) \nThis webinar was recorded in the event that you are not able to attend live.  Recorded Link (1 hr 59 min.): https://us02web.zoom.us/rec/share/xct6Sid14lVjTdkg0A_hn_nHcUkcGIZSDWAYNYRZUwHP-0SgunaO2q0UduO701Y.A9TBqjtmkt0IVFfW \nWhen: January 12th\, 2023\, (5:00 PT\, 6:00 MT\, 7:00 CT\, 8:00 ET)\nWhere:  Zoom\nTopic: 2023 US Rules for Working Equitation Rules Review \nRegister in advance for this webinar:\nhttps://us02web.zoom.us/webinar/register/WN_jtBXm7_FSG2Nd6JsmDc86Q \nAfter registering\, you will receive a confirmation email containing information about joining the webinar.
URL:https://dev25.usawe.org/event/we-binar-2023-rule-book-changes/
CATEGORIES:Region 1,Region 2,Region 3,Region 4,Region 5,Region 6,Region 7,Seminars
END:VEVENT
BEGIN:VEVENT
DTSTART;TZID=America/Los_Angeles:20221103T080000
DTEND;TZID=America/Los_Angeles:20221106T170000
DTSTAMP:20260422T221753
CREATED:20220214T113653Z
LAST-MODIFIED:20220214T113845Z
UID:19415-1667462400-1667754000@dev25.usawe.org
SUMMARY:Eastern Zone:  Championship\, Licensed Show & Cattle Trial
DESCRIPTION:License #: 22-084\, 22-084-A\, 22-084-C
URL:https://dev25.usawe.org/event/eastern-zone-championship-licensed-show-cattle-trial/
LOCATION:Three Bulls LLC\, 625 Beech Grove Rd.\, Bulls Gap\, TN\, 37711\, United States
CATEGORIES:Competitions (all),Region 6,Region 7
ATTACH;FMTTYPE=image/png:https://dev25.usawe.org/wp-content/uploads/2022/01/2022-Zone-Logo-EASTzoneCHAMP.png
ORGANIZER;CN="Maria Blackstone":MAILTO:mblackstone@renaissancefarmtn.com
END:VEVENT
BEGIN:VEVENT
DTSTART;VALUE=DATE:20221023
DTEND;VALUE=DATE:20221024
DTSTAMP:20260422T221753
CREATED:20220304T220811Z
LAST-MODIFIED:20220304T220811Z
UID:20069-1666483200-1666569599@dev25.usawe.org
SUMMARY:VA: NOVAWE Schooling WE Show #3
DESCRIPTION:This is the third of three WE Schooling Shows offered by NOVAWE. Level 1 will have Dressage and EOH; Levels 2 & 3 will have Dressage\, EOH\, and Speed. All trials will be held in the Indoor and stabling is available. For more information\, please visit www.novawe.org.
URL:https://dev25.usawe.org/event/va-novawe-schooling-we-show-3/
LOCATION:Frying Pan Farm Park\, 2709 West Ox Rd.\, Herndon\, VA\, 20171\, United States
CATEGORIES:All Schooling Shows,Region 6
ATTACH;FMTTYPE=image/png:https://dev25.usawe.org/wp-content/uploads/2022/01/NOVAWE_Logo.png
ORGANIZER;CN="Biddie Lowry":MAILTO:novawe.blowry@gmail.com
END:VEVENT
BEGIN:VEVENT
DTSTART;VALUE=DATE:20220924
DTEND;VALUE=DATE:20220926
DTSTAMP:20260422T221753
CREATED:20220110T220750Z
LAST-MODIFIED:20220110T221830Z
UID:18097-1663977600-1664150399@dev25.usawe.org
SUMMARY:PA: WE Schooling Show
DESCRIPTION:Great schooling show opportunity for first time riders or green horses as well as more advanced.\nSat -Dressage Schooling show and WE Dressage.\nSun -WE Ease of Handling and Speed Rounds\nAll Info can be found at www.KDCTA.org
URL:https://dev25.usawe.org/event/pa-we-schooling-show/
LOCATION:Grange Fairgrounds\, 169 Homan Lane\, Centre Hall\, PA\, 16828\, United States
CATEGORIES:All Schooling Shows,Region 6
ATTACH;FMTTYPE=image/gif:https://dev25.usawe.org/wp-content/uploads/2022/01/KDCTAlogoorginal.gif
ORGANIZER;CN="Stephanie Dobiss":MAILTO:kdctashows@gmail.com
END:VEVENT
BEGIN:VEVENT
DTSTART;VALUE=DATE:20220917
DTEND;VALUE=DATE:20220918
DTSTAMP:20260422T221753
CREATED:20211130T045609Z
LAST-MODIFIED:20220111T023306Z
UID:17010-1663372800-1663459199@dev25.usawe.org
SUMMARY:PA: EPAWE Fall WE Show
DESCRIPTION:Competition #22-034 \nOffering L1-L5
URL:https://dev25.usawe.org/event/pa-epawe-fall-we-show/
CATEGORIES:Competitions (all),Region 6
ORGANIZER;CN="Kate Thomas":MAILTO:sfelicia4899@gmail.com
END:VEVENT
BEGIN:VEVENT
DTSTART;VALUE=DATE:20220904
DTEND;VALUE=DATE:20220905
DTSTAMP:20260422T221753
CREATED:20220111T024555Z
LAST-MODIFIED:20220111T024555Z
UID:18153-1662249600-1662335999@dev25.usawe.org
SUMMARY:NH:  NEWE Gelinas Farm WE Show #4 Cattle Trial
DESCRIPTION:License# 22-070-C
URL:https://dev25.usawe.org/event/nh-newe-gelinas-farm-we-show-4-cattle-trial/
LOCATION:Gelinas Farm\, 471 4th Range Rd\, Pembroke\, NH\, United States
CATEGORIES:Competitions (all),Region 6
ATTACH;FMTTYPE=image/png:https://dev25.usawe.org/wp-content/uploads/2022/01/NEWE.png
ORGANIZER;CN="Deb Quillinan":MAILTO:debquill@gmail.com
END:VEVENT
BEGIN:VEVENT
DTSTART;VALUE=DATE:20220903
DTEND;VALUE=DATE:20220904
DTSTAMP:20260422T221753
CREATED:20220111T024345Z
LAST-MODIFIED:20220111T024345Z
UID:18149-1662163200-1662249599@dev25.usawe.org
SUMMARY:NH:  NEWE Gelinas Farm WE Show #3
DESCRIPTION:License# 22-069
URL:https://dev25.usawe.org/event/nh-newe-gelinas-farm-we-show-3/
LOCATION:Gelinas Farm\, 471 4th Range Rd\, Pembroke\, NH\, United States
CATEGORIES:Competitions (all),Region 6
ATTACH;FMTTYPE=image/png:https://dev25.usawe.org/wp-content/uploads/2022/01/NEWE.png
END:VEVENT
BEGIN:VEVENT
DTSTART;VALUE=DATE:20220827
DTEND;VALUE=DATE:20220829
DTSTAMP:20260422T221753
CREATED:20220111T050458Z
LAST-MODIFIED:20220111T050458Z
UID:18188-1661558400-1661731199@dev25.usawe.org
SUMMARY:VA: ERAHC East Coast Classic #2
DESCRIPTION:License# 22-036
URL:https://dev25.usawe.org/event/va-erahc-east-coast-classic-2-2/
LOCATION:Virginia Horse Center\, 487 Maury River Rd\, Lexington\, VA\, 24450\, United States
CATEGORIES:Competitions (all),Region 6
ORGANIZER;CN="Maria Blackstone":MAILTO:mblackstone@renaissancefarmtn.com
END:VEVENT
BEGIN:VEVENT
DTSTART;VALUE=DATE:20220827
DTEND;VALUE=DATE:20220828
DTSTAMP:20260422T221753
CREATED:20220110T220416Z
LAST-MODIFIED:20220110T220416Z
UID:18094-1661558400-1661644799@dev25.usawe.org
SUMMARY:PA: Obstacle Play Day
DESCRIPTION:Want to learn more about working equitation obstacles? Come to an indoor play day and learn the rules and how to ride some of the obstacles. 90 min sessions with 3-4 riders per session. More info at our website www.KDCTA.org
URL:https://dev25.usawe.org/event/pa-obstacle-play-day/
LOCATION:Blue Barn Farm\, 8001 Berwick Forge Rd\, Alexandria\, PA\, 16611\, United States
CATEGORIES:All Clinics,Region 6
ATTACH;FMTTYPE=image/gif:https://dev25.usawe.org/wp-content/uploads/2022/01/KDCTAlogoorginal.gif
ORGANIZER;CN="Stephanie Dobiss":MAILTO:kdctashows@gmail.com
END:VEVENT
BEGIN:VEVENT
DTSTART;VALUE=DATE:20220814
DTEND;VALUE=DATE:20220815
DTSTAMP:20260422T221753
CREATED:20220304T220702Z
LAST-MODIFIED:20220304T220702Z
UID:20067-1660435200-1660521599@dev25.usawe.org
SUMMARY:VA: NOVAWE Schooling WE Show #2
DESCRIPTION:This is the second of three WE Schooling Shows offered by NOVAWE. Level 1 will have Dressage and EOH\, Levels 2 & 3 will have Dressage\, EOH\, and Speed. All trials will be held in the Indoor and stabling is available. For more information\, please visit www.novawe.org.
URL:https://dev25.usawe.org/event/va-novawe-schooling-we-show-2/
LOCATION:Frying Pan Farm Park\, 2709 West Ox Rd.\, Herndon\, VA\, 20171\, United States
CATEGORIES:All Schooling Shows,Region 6
ATTACH;FMTTYPE=image/png:https://dev25.usawe.org/wp-content/uploads/2022/01/NOVAWE_Logo.png
ORGANIZER;CN="Biddie Lowry":MAILTO:novawe.blowry@gmail.com
END:VEVENT
BEGIN:VEVENT
DTSTART;VALUE=DATE:20220717
DTEND;VALUE=DATE:20220718
DTSTAMP:20260422T221753
CREATED:20220111T045945Z
LAST-MODIFIED:20220111T045945Z
UID:18183-1658016000-1658102399@dev25.usawe.org
SUMMARY:NY:  Schaghticoke Working Equitation Show #2
DESCRIPTION:License# 22-054
URL:https://dev25.usawe.org/event/ny-schaghticoke-working-equitation-show-2/
LOCATION:Schaghticoke Fairgrounds\, 69 Stillwater Bridge Rd 40\, Schaghticoke\, NY\, 12154\, United States
CATEGORIES:Competitions (all),Region 6
ORGANIZER;CN="Wendy Allen":MAILTO:frestylewa@gmail.com
END:VEVENT
BEGIN:VEVENT
DTSTART;VALUE=DATE:20220716
DTEND;VALUE=DATE:20220717
DTSTAMP:20260422T221753
CREATED:20220111T045821Z
LAST-MODIFIED:20220111T050028Z
UID:18179-1657929600-1658015999@dev25.usawe.org
SUMMARY:NY:  Schaghticoke Working Equitation Show #1
DESCRIPTION:License# 22-053
URL:https://dev25.usawe.org/event/ny-schaghticoke-working-equitation-show-1/
LOCATION:Schaghticoke Fairgrounds\, 69 Stillwater Bridge Rd 40\, Schaghticoke\, NY\, 12154\, United States
CATEGORIES:Competitions (all),Region 6
ORGANIZER;CN="Wendy Allen":MAILTO:frestylewa@gmail.com
END:VEVENT
BEGIN:VEVENT
DTSTART;VALUE=DATE:20220716
DTEND;VALUE=DATE:20220717
DTSTAMP:20260422T221753
CREATED:20211214T010532Z
LAST-MODIFIED:20211214T021959Z
UID:17245-1657929600-1658015999@dev25.usawe.org
SUMMARY:MD: OSE Summertime Fun
DESCRIPTION:License #22-038
URL:https://dev25.usawe.org/event/md-ose-summertime-fun/
LOCATION:Oak Spring Equestrian\, 15195 Bushy Park Rd.\, Woodbine\, MD\, 21797\, United States
CATEGORIES:Competitions (all),Region 6
ORGANIZER;CN="Barb Sullivan":MAILTO:oakspringequestrianllc@gmail.com
END:VEVENT
BEGIN:VEVENT
DTSTART;TZID=America/Los_Angeles:20220712T180000
DTEND;TZID=America/Los_Angeles:20220712T190000
DTSTAMP:20260422T221753
CREATED:20211001T054606Z
LAST-MODIFIED:20230921T105443Z
UID:8818-1657648800-1657652400@dev25.usawe.org
SUMMARY:Quarterly AO Networking Hour
DESCRIPTION:A meet and greet style networking meeting for the USAWE Affiliate Organization community. \nOpen to all Affiliate Organization members\, and anyone interested in starting an Affiliate Organization. Meet other USAWE Affiliate Organization leaders\, make friends\, share ideas\, be encouraged\, build community! This quarterly meeting is all about getting to know one another and strengthening the support you receive as an Affiliate Organization. Zoom meeting\, 6 pm Pacific Time on the second Tuesdays of these months: October\, January\, April\, and July. Email Affiliate Organization Program Coordinator for meeting invite link.
URL:https://dev25.usawe.org/event/quarterly-ao-networking-hour-5/
CATEGORIES:Region 1,Region 2,Region 3,Region 4,Region 5,Region 6,Region 7
ORGANIZER;CN="Kristine Strasburger":MAILTO:neheartlandwe@gmail.com
END:VEVENT
BEGIN:VEVENT
DTSTART;VALUE=DATE:20220625
DTEND;VALUE=DATE:20220627
DTSTAMP:20260422T221753
CREATED:20220110T220302Z
LAST-MODIFIED:20220111T020822Z
UID:18090-1656115200-1656287999@dev25.usawe.org
SUMMARY:PA: Clinic
DESCRIPTION:Spend 2 days with USAWE Reg. 6 Director\, Kim Hillyer to get coaching and tips about Working Equitation. Day one is the dressage ride a test and intro to EOH obstacles. Day 2\, work in small groups and practice riding obstacles. This is a great opportunity to learn more before the KDCTA WE Schooling Show. More info can be found at our website www.KDCTA.org
URL:https://dev25.usawe.org/event/pa-clinic-2/
LOCATION:Blue Barn Farm\, 8001 Berwick Forge Rd\, Alexandria\, PA\, 16611\, United States
CATEGORIES:All Clinics,Region 6
ATTACH;FMTTYPE=image/gif:https://dev25.usawe.org/wp-content/uploads/2022/01/KDCTAlogoorginal.gif
ORGANIZER;CN="Stephanie Dobiss":MAILTO:kdctashows@gmail.com
END:VEVENT
BEGIN:VEVENT
DTSTART;VALUE=DATE:20220619
DTEND;VALUE=DATE:20220620
DTSTAMP:20260422T221753
CREATED:20220111T024129Z
LAST-MODIFIED:20220113T232604Z
UID:18145-1655596800-1655683199@dev25.usawe.org
SUMMARY:NH:  NEWE Gelinas Farm WE Show #2 and Cattle Trial
DESCRIPTION:License# 22-068 and License 22-068-C
URL:https://dev25.usawe.org/event/nh-newe-gelinas-farm-we-show-2/
LOCATION:Gelinas Farm\, 471 4th Range Rd\, Pembroke\, NH\, United States
CATEGORIES:Competitions (all),Region 6
ATTACH;FMTTYPE=image/png:https://dev25.usawe.org/wp-content/uploads/2022/01/NEWE.png
END:VEVENT
END:VCALENDAR