BEGIN:VCALENDAR
VERSION:2.0
PRODID:-//USA Working Equitation - ECPv6.15.20//NONSGML v1.0//EN
CALSCALE:GREGORIAN
METHOD:PUBLISH
X-ORIGINAL-URL:https://dev25.usawe.org
X-WR-CALDESC:Events for USA Working Equitation
REFRESH-INTERVAL;VALUE=DURATION:PT1H
X-Robots-Tag:noindex
X-PUBLISHED-TTL:PT1H
BEGIN:VTIMEZONE
TZID:America/Los_Angeles
BEGIN:DAYLIGHT
TZOFFSETFROM:-0800
TZOFFSETTO:-0700
TZNAME:PDT
DTSTART:20230312T100000
END:DAYLIGHT
BEGIN:STANDARD
TZOFFSETFROM:-0700
TZOFFSETTO:-0800
TZNAME:PST
DTSTART:20231105T090000
END:STANDARD
BEGIN:DAYLIGHT
TZOFFSETFROM:-0800
TZOFFSETTO:-0700
TZNAME:PDT
DTSTART:20240310T100000
END:DAYLIGHT
BEGIN:STANDARD
TZOFFSETFROM:-0700
TZOFFSETTO:-0800
TZNAME:PST
DTSTART:20241103T090000
END:STANDARD
BEGIN:DAYLIGHT
TZOFFSETFROM:-0800
TZOFFSETTO:-0700
TZNAME:PDT
DTSTART:20250309T100000
END:DAYLIGHT
BEGIN:STANDARD
TZOFFSETFROM:-0700
TZOFFSETTO:-0800
TZNAME:PST
DTSTART:20251102T090000
END:STANDARD
BEGIN:DAYLIGHT
TZOFFSETFROM:-0800
TZOFFSETTO:-0700
TZNAME:PDT
DTSTART:20260308T100000
END:DAYLIGHT
BEGIN:STANDARD
TZOFFSETFROM:-0700
TZOFFSETTO:-0800
TZNAME:PST
DTSTART:20261101T090000
END:STANDARD
END:VTIMEZONE
BEGIN:VEVENT
DTSTART;VALUE=DATE:20251016
DTEND;VALUE=DATE:20251020
DTSTAMP:20260421T025057
CREATED:20241126T210048Z
LAST-MODIFIED:20241126T210048Z
UID:40916-1760572800-1760918399@dev25.usawe.org
SUMMARY:VA: R6 & R7 Combined Championship Show
DESCRIPTION:Look for more information on the USAWE website in the spring. \nJudges: Rebecca Algar and Barbara Price
URL:https://dev25.usawe.org/event/va-r6-r7-combined-championship-show/
LOCATION:The Meadow Event Park\, Doswell\, VA\, United States
CATEGORIES:Competitions (all),Region 6,Region 7
END:VEVENT
BEGIN:VEVENT
DTSTART;VALUE=DATE:20251004
DTEND;VALUE=DATE:20251005
DTSTAMP:20260421T025057
CREATED:20250515T034145Z
LAST-MODIFIED:20250515T034145Z
UID:42893-1759536000-1759622399@dev25.usawe.org
SUMMARY:PA: (25-137) EPAWE 2025 Fall Finale
DESCRIPTION:License#(s): 25-137 \nShow Name(s):  EPAWE 2025 Fall Finale \nShow Date(s): 10/4/2025 \nLocation:  Collective Roots Dressage\, Cochranville\, PA \nJudge: Rebecca Algar \nTD: Polly Limond \nGate Steward: Patty Stout \nShow Manager: Susan Felicia/Kate Thomas
URL:https://dev25.usawe.org/event/pa-25-137-epawe-2025-fall-finale/
LOCATION:Collective Roots Dressage\, 602 Jennersville Rd\, Cochranville\, PA\, 19330\, United States
CATEGORIES:Competitions (all),Region 6
ORGANIZER;CN="Susan Felicia":MAILTO:sfelicia4899@gmail.com
END:VEVENT
BEGIN:VEVENT
DTSTART;VALUE=DATE:20250921
DTEND;VALUE=DATE:20250922
DTSTAMP:20260421T025057
CREATED:20250515T184717Z
LAST-MODIFIED:20250515T184717Z
UID:42899-1758412800-1758499199@dev25.usawe.org
SUMMARY:PA: KDCTA WE Schooling Show
DESCRIPTION:Schooling Show! \nDressage\, EOH\, and Speed! \n  \n\n\n\n\nReg 6 Grange Fairgrounds Equine Park 169 Homan Lane\, Centre Hall\, PA 16828
URL:https://dev25.usawe.org/event/pa-kdcta-we-schooling-show-2/
LOCATION:Grange Park Equine Center\, 169 Homan Lane\, Centre Hall\, PA\, 16828\, United States
CATEGORIES:All Schooling Shows,Region 6
ORGANIZER;CN="Stephanie Dobiss":MAILTO:kdctashows@gmail.com
END:VEVENT
BEGIN:VEVENT
DTSTART;VALUE=DATE:20250920
DTEND;VALUE=DATE:20250922
DTSTAMP:20260421T025057
CREATED:20250202T192646Z
LAST-MODIFIED:20250202T192646Z
UID:41878-1758326400-1758499199@dev25.usawe.org
SUMMARY:VA: (25-084) NOVAWE Licensed Show
DESCRIPTION:License#(s): 25-084\nShow Name(s): NOVAWE Licensed Show\nShow Date(s): 9/20/2025 – 9/21/25\nLocation: Herndon\, VA\nJudge: Polly Limond\nTD: Lynsey Moritz\nGate Steward: TBD\nShow Manager: Biddie Lowry
URL:https://dev25.usawe.org/event/va-25-084-novawe-licensed-show/
LOCATION:MD
CATEGORIES:Competitions (all),Region 6
ORGANIZER;CN="Biddie Lowry":MAILTO:novawe.blowry@gmail.com
END:VEVENT
BEGIN:VEVENT
DTSTART;VALUE=DATE:20250830
DTEND;VALUE=DATE:20250901
DTSTAMP:20260421T025057
CREATED:20241206T200234Z
LAST-MODIFIED:20241206T200234Z
UID:41088-1756512000-1756684799@dev25.usawe.org
SUMMARY:NH: (25-055) NEWE at Gelinas Farm
DESCRIPTION:License#(s): 25-055 \nShow Name(s): NEWE at Gelinas Farm \nShow Date(s): 8/30/25 and 8/31/25 \nLocation: Pembroke\, NH \nJudge: Rebecca Algar \nTD:Deb Quillinan \nGate Steward: Linda Ritzer  \nShow Manager: Stephanie Hayes\, Day Manager Elaina Enzien
URL:https://dev25.usawe.org/event/nh-25-055-newe-at-gelinas-farm/
LOCATION:Gelinas Farm\, 471 4th Range Rd\, Pembroke\, NH\, United States
CATEGORIES:Competitions (all),Region 6
ORGANIZER;CN="Stephanie Hayes":MAILTO:vtblackpony@aol.com
END:VEVENT
BEGIN:VEVENT
DTSTART;VALUE=DATE:20250824
DTEND;VALUE=DATE:20250825
DTSTAMP:20260421T025057
CREATED:20250515T185334Z
LAST-MODIFIED:20250515T185334Z
UID:42909-1755993600-1756079999@dev25.usawe.org
SUMMARY:MD: Working Equitation clinic with Rebecca Algar
DESCRIPTION:
URL:https://dev25.usawe.org/event/md-working-equitation-clinic-with-rebecca-algar/
LOCATION:Oak Spring Equestrian\, 15195 Bushy Park Rd.\, Woodbine\, MD\, 21797\, United States
CATEGORIES:All Clinics,Region 6
ORGANIZER;CN="Barb Sullivan":MAILTO:oakspringequestrianllc@gmail.com
END:VEVENT
BEGIN:VEVENT
DTSTART;VALUE=DATE:20250823
DTEND;VALUE=DATE:20250824
DTSTAMP:20260421T025057
CREATED:20250418T165734Z
LAST-MODIFIED:20250418T165734Z
UID:42694-1755907200-1755993599@dev25.usawe.org
SUMMARY:MD: (25-134) OSEWE Summer Fun
DESCRIPTION:License#(s): 25-134\nShow Name(s): OSEWE Summer Fun\nShow Date(s): 8/23/25\nLocation: Woodbine MD \nJudge: Rebecca Algar “S”\nTD: Lynsey Moritz\nGate Steward: Karen Miller\nShow Manager: Barb Sullivan – Alternate Adair Soho
URL:https://dev25.usawe.org/event/md-25-134-osewe-summer-fun/
LOCATION:Woodbine\, MD\, MD\, United States
CATEGORIES:Competitions (all),Region 6
ORGANIZER;CN="Barb Sullivan":MAILTO:oakspringequestrianllc@gmail.com
END:VEVENT
BEGIN:VEVENT
DTSTART;VALUE=DATE:20250822
DTEND;VALUE=DATE:20250825
DTSTAMP:20260421T025057
CREATED:20250417T023625Z
LAST-MODIFIED:20250417T024448Z
UID:42635-1755820800-1756079999@dev25.usawe.org
SUMMARY:MD: Schooling Show\, Licensed Show\, Clinic w/Rebecca Algar @ Oak Spring Equestrian
DESCRIPTION:A schooling show will be held on Friday\, a licensed show on Saturday and a clinic on Sunday \nFor more information: \nContact: Barb Sullivan\noakspringequestrianllc@gmail.com; 443-745-5067 \nhttps://drive.google.com/open?id=1LLEZ5OHlhP5kJ7jwE0v734kGgQeHnB6Q 
URL:https://dev25.usawe.org/event/md-schooling-show-licensed-show-clinic-w-rebecca-algar-oak-spring-equestrian/
LOCATION:Oak Spring Equestrian\, 15195 Bushy Park Rd.\, Woodbine\, MD\, 21797\, United States
CATEGORIES:All Clinics,All Schooling Shows,Competitions (all),Region 6
ORGANIZER;CN="Barb Sullivan":MAILTO:oakspringequestrianllc@gmail.com
END:VEVENT
BEGIN:VEVENT
DTSTART;VALUE=DATE:20250822
DTEND;VALUE=DATE:20250823
DTSTAMP:20260421T025057
CREATED:20250515T185121Z
LAST-MODIFIED:20250515T185121Z
UID:42907-1755820800-1755907199@dev25.usawe.org
SUMMARY:MD: Schooling Show
DESCRIPTION:Region 6 – Oak Spring Equestrian\, 15195 Bushy Park Rd. Woodbine MD 21797\n\n\n\n\n\n\n\n\n\nAugust 22\, 2025
URL:https://dev25.usawe.org/event/md-schooling-show-8/
LOCATION:Oak Spring Equestrian\, 15195 Bushy Park Rd.\, Woodbine\, MD\, 21797\, United States
CATEGORIES:All Schooling Shows,Region 6
ORGANIZER;CN="Barb Sullivan":MAILTO:oakspringequestrianllc@gmail.com
END:VEVENT
BEGIN:VEVENT
DTSTART;VALUE=DATE:20250719
DTEND;VALUE=DATE:20250720
DTSTAMP:20260421T025057
CREATED:20250515T184459Z
LAST-MODIFIED:20250515T184459Z
UID:42897-1752883200-1752969599@dev25.usawe.org
SUMMARY:PA: KDCTA WE Schooling Show
DESCRIPTION:L1 – L5 Schooling Show.\nDressage\, EOH\, and Speed! \n  \n\n\n\n\nReg 6 Blue Barn Farm\, 8001 Berwick Forge Rd\, Alexandria\, PA 16611
URL:https://dev25.usawe.org/event/pa-kdcta-we-schooling-show/
LOCATION:Blue Barn Farm\, 8001 Berwick Forge Rd\, Alexandria\, PA\, 16611\, United States
CATEGORIES:All Schooling Shows,Region 6
ORGANIZER;CN="Stephanie Dobiss":MAILTO:kdctashows@gmail.com
END:VEVENT
BEGIN:VEVENT
DTSTART;VALUE=DATE:20250712
DTEND;VALUE=DATE:20250713
DTSTAMP:20260421T025057
CREATED:20250515T185020Z
LAST-MODIFIED:20250515T185020Z
UID:42905-1752278400-1752364799@dev25.usawe.org
SUMMARY:MD: Schooling Show
DESCRIPTION:Region 6 – Oak Spring Equestrian\, 15195 Bushy Park Rd. Woodbine MD 21797\n\n\n\n\n\n\n\n\n\nJuly 12\, 2025; August 22\, 2025
URL:https://dev25.usawe.org/event/md-schooling-show-7/
LOCATION:Oak Spring Equestrian\, 15195 Bushy Park Rd.\, Woodbine\, MD\, 21797\, United States
CATEGORIES:All Schooling Shows,Region 6
ORGANIZER;CN="Barb Sullivan":MAILTO:oakspringequestrianllc@gmail.com
END:VEVENT
BEGIN:VEVENT
DTSTART;VALUE=DATE:20250621
DTEND;VALUE=DATE:20250622
DTSTAMP:20260421T025057
CREATED:20241201T182115Z
LAST-MODIFIED:20241201T182115Z
UID:41003-1750464000-1750550399@dev25.usawe.org
SUMMARY:NJ: (25-051) WE East at Dream Park #2
DESCRIPTION:Judge: Polly Limond\, “S”
URL:https://dev25.usawe.org/event/nj-25-051-we-east-at-dream-park-2/
LOCATION:Dream Park\, Logan Township\, NJ\, United States
CATEGORIES:Competitions (all),Region 6
ORGANIZER;CN="Maria Blackstone":MAILTO:mblackstone@renaissancefarmtn.com
END:VEVENT
BEGIN:VEVENT
DTSTART;VALUE=DATE:20250620
DTEND;VALUE=DATE:20250622
DTSTAMP:20260421T025057
CREATED:20241126T203619Z
LAST-MODIFIED:20241126T203619Z
UID:40891-1750377600-1750550399@dev25.usawe.org
SUMMARY:NJ: (25-031) WE East at Dream Park #1
DESCRIPTION:Judge: Polly Limond\, “S”
URL:https://dev25.usawe.org/event/nj-25-031-we-east-at-dream-park-1/
LOCATION:Dream Park\, Logan Township\, NJ\, United States
CATEGORIES:Competitions (all),Region 6
ORGANIZER;CN="Maria Blackstone":MAILTO:mblackstone@renaissancefarmtn.com
END:VEVENT
BEGIN:VEVENT
DTSTART;VALUE=DATE:20250614
DTEND;VALUE=DATE:20250615
DTSTAMP:20260421T025057
CREATED:20250515T184909Z
LAST-MODIFIED:20250515T184909Z
UID:42903-1749859200-1749945599@dev25.usawe.org
SUMMARY:MD: Schooling Show
DESCRIPTION:Region 6 – Oak Spring Equestrian\, 15195 Bushy Park Rd. Woodbine MD 21797\n\n\n\n\n\n\n\n\n\nJune 14\, 2025; July 12\, 2025; August 22\, 2025
URL:https://dev25.usawe.org/event/md-schooling-show-6/
LOCATION:Oak Spring Equestrian\, 15195 Bushy Park Rd.\, Woodbine\, MD\, 21797\, United States
CATEGORIES:All Schooling Shows,Region 6
ORGANIZER;CN="Barb Sullivan":MAILTO:oakspringequestrianllc@gmail.com
END:VEVENT
BEGIN:VEVENT
DTSTART;VALUE=DATE:20250531
DTEND;VALUE=DATE:20250602
DTSTAMP:20260421T025057
CREATED:20250211T015643Z
LAST-MODIFIED:20250211T015643Z
UID:41942-1748649600-1748822399@dev25.usawe.org
SUMMARY:NY: (25-102) (25-103) NYSWE Licensed Show in Schaghticoke I & II
DESCRIPTION:License#(s): 25-102\nShow Name(s): NYSWE Licensed Show in Schaghticoke\nShow Date(s): 5/31/25\nLocation: Schaghticoke\, NY\nJudge: Amy Star “R”\nTD: Deb Quillinan\nGate Steward: TBD\nShow Manager: Bree-Sprik-Powell \nLicense #: 25-103\nShow Name(s): NYSWE Jump Into Spring Licensed Show\nShow Date(s): 6/1/25\nLocation: Schaghticoke\, NY\nJudge: Amy Star “R”\nTD: Deb Quillinan\nGate Steward: TBD\nShow Manager: Bree-Sprik-Powell
URL:https://dev25.usawe.org/event/ny-25-102-25-103-nyswe-licensed-show-in-schaghticoke-i-ii/
LOCATION:Schaghticoke\, NY\, Schaghticoke\, NY\, United States
CATEGORIES:Competitions (all),Region 6
ORGANIZER;CN="Bree Sprik":MAILTO:breannarenesport@gmail.com
END:VEVENT
BEGIN:VEVENT
DTSTART;VALUE=DATE:20250427
DTEND;VALUE=DATE:20250428
DTSTAMP:20260421T025057
CREATED:20241201T182212Z
LAST-MODIFIED:20241201T182212Z
UID:41005-1745712000-1745798399@dev25.usawe.org
SUMMARY:VA: (25-050) WE East at FPFP #2
DESCRIPTION:Judge: Rebecca Algar\, S
URL:https://dev25.usawe.org/event/va-25-050-we-east-at-fpfp-2/
LOCATION:Frying Pan Farm Park\, 2709 West Ox Rd.\, Herndon\, VA\, 20171\, United States
CATEGORIES:Competitions (all),Region 6
ORGANIZER;CN="Maria Blackstone":MAILTO:mblackstone@renaissancefarmtn.com
END:VEVENT
BEGIN:VEVENT
DTSTART;VALUE=DATE:20250426
DTEND;VALUE=DATE:20250427
DTSTAMP:20260421T025057
CREATED:20241126T201645Z
LAST-MODIFIED:20241126T201645Z
UID:40870-1745625600-1745711999@dev25.usawe.org
SUMMARY:VA: (25-030) WE East at FPFP #1
DESCRIPTION:Judge: Rebecca Algar\, S
URL:https://dev25.usawe.org/event/va-25-030-we-east-at-fpfp-1/
LOCATION:Frying Pan Farm Park\, 2709 West Ox Rd.\, Herndon\, VA\, 20171\, United States
CATEGORIES:Competitions (all),Region 6
ORGANIZER;CN="Maria Blackstone":MAILTO:mblackstone@renaissancefarmtn.com
END:VEVENT
BEGIN:VEVENT
DTSTART;VALUE=DATE:20250405
DTEND;VALUE=DATE:20250407
DTSTAMP:20260421T025057
CREATED:20250106T051250Z
LAST-MODIFIED:20250106T051346Z
UID:41415-1743811200-1743983999@dev25.usawe.org
SUMMARY:VA: NOVAWE Spring into WE Clinic
DESCRIPTION:WE Clinic and EOH Fix-A-Test sponsored by Affiliate Organization Northern Virginia Working Equitation. \nJoin NOVAWE and Kim Hillyer for a Working Equitation clinic weekend! This is a great opportunity to refresh or learn your obstacle skills and to prepare for the upcoming show season. Day 1 will be 90 min small group work with obstacles followed by an educational course walk with Kim Hillyer. Day 2 will be 30 min private EOH Ride-A-Test sessions where you will receive instruction how to improve the execution of an obstacle and/or improve your navigation. Lunches are included. NOVAWE member clinic fee: $215\, Non-member clinic fee: $225. Sign up will be through Striderpro.com. \n 
URL:https://dev25.usawe.org/event/va-novawe-spring-into-we-clinic/
LOCATION:Frying Pan Farm Park\, 2709 West Ox Rd.\, Herndon\, VA\, 20171\, United States
CATEGORIES:All Clinics,Region 6
ORGANIZER;CN="Biddie Lowry":MAILTO:novawe.blowry@gmail.com
END:VEVENT
BEGIN:VEVENT
DTSTART;TZID=America/Los_Angeles:20241028T170000
DTEND;TZID=America/Los_Angeles:20241028T190000
DTSTAMP:20260421T025057
CREATED:20231122T174359Z
LAST-MODIFIED:20231122T174359Z
UID:32614-1730134800-1730142000@dev25.usawe.org
SUMMARY:AO Quarterly Networking Hour
DESCRIPTION:AO Quarterly Networking Hour \nFor Affiliate Organization Leaders and leadership teams – Meet other USAWE Affiliate Organization leaders\, make friends\, share ideas\, be encouraged\, and build community! This quarterly meeting is all about getting to know one another and strengthening the support you receive as an Affiliate Organization. Fourth Mondays in these months: January\, April\, July\, October\n5 PM Pacific 6 pm Mountain 7 pm Central 8 pm Eastern
URL:https://dev25.usawe.org/event/ao-quarterly-networking-hour-4/
LOCATION:Virtual Zoom Meeting\, United States
CATEGORIES:Region 1,Region 2,Region 3,Region 4,Region 5,Region 6,Region 7
ORGANIZER;CN="Kristine Strasburger":MAILTO:neheartlandwe@gmail.com
END:VEVENT
BEGIN:VEVENT
DTSTART;VALUE=DATE:20241003
DTEND;VALUE=DATE:20241007
DTSTAMP:20260421T025057
CREATED:20240720T150420Z
LAST-MODIFIED:20240720T150443Z
UID:38831-1727913600-1728259199@dev25.usawe.org
SUMMARY:WAWE Qualifier
DESCRIPTION:WAWE Qualifier – A WAWE Qualifier invites all Master Level riders to compete for a score (a 62% or higher average of Dressage and Ease of Handling scores) that will allow them to be considered for a national team participating in the World Championship. \nIf you have any questions – please contact the International Committee at international@usawe.org \nOctober 3-6\, 2024\, at Three Bulls\, LLC\, Bulls Gap\, TN – WAWE Qualifier riders may compete in the Eastern Zone Championship or the Licensed Show \nWAWE Judge Fiona Price Jones (England) \nShow Manager: Maria Black Stone mblackstone2021@gmail.com
URL:https://dev25.usawe.org/event/wawe-qualifier/
LOCATION:Three Bulls LLC\, 625 Beech Grove Rd.\, Bulls Gap\, TN\, 37711\, United States
CATEGORIES:Competitions (all),Region 1,Region 2,Region 3,Region 4,Region 5,Region 6,Region 7
ATTACH;FMTTYPE=image/png:https://dev25.usawe.org/wp-content/uploads/2024/07/2024-WAWE-Qualifier-button.png
ORGANIZER;CN="USAWE International Committee":MAILTO:International@usawe.org
END:VEVENT
BEGIN:VEVENT
DTSTART;VALUE=DATE:20241003
DTEND;VALUE=DATE:20241007
DTSTAMP:20260421T025057
CREATED:20231023T231617Z
LAST-MODIFIED:20231130T175927Z
UID:32234-1727913600-1728259199@dev25.usawe.org
SUMMARY:TN: (24-017) USAWE Eastern Zone Championship
DESCRIPTION:(24-017) USAWE Eastern Zone Championship \nVisit usawe.org > Competitions > List of Licensed Competitions for license status\, performance levels offered\, show manager\, judge and technical delegate info.
URL:https://dev25.usawe.org/event/tn-24-017-usawe-eastern-zone-championship/
LOCATION:Three Bulls LLC\, 625 Beech Grove Rd.\, Bulls Gap\, TN\, 37711\, United States
CATEGORIES:Competitions (all),Region 6,Region 7
ORGANIZER;CN="Maria Blackstone":MAILTO:mblackstone@renaissancefarmtn.com
END:VEVENT
BEGIN:VEVENT
DTSTART;VALUE=DATE:20240921
DTEND;VALUE=DATE:20240923
DTSTAMP:20260421T025057
CREATED:20240806T213122Z
LAST-MODIFIED:20240806T213220Z
UID:39186-1726876800-1727049599@dev25.usawe.org
SUMMARY:NH: (24-133) & (24-134) NEWE @ Equanimity #2 & #3
DESCRIPTION:License#(s):  24-133; 24-134\nShow Name(s): NEWE @ Equanimity #2; NEWE @ Equanimity #3 \nShow Date(s): 9/21/2024; 9/22/24\nLocation: Brookfield\,NH \nJudge: Rebecca Algar\nTD: Deb Quillinan
URL:https://dev25.usawe.org/event/nh-24-133-24-134-newe-equanimity-2-3/
LOCATION:Equanimity Farm\, Brookfield\, NH\, United States
CATEGORIES:Competitions (all),Region 6
ORGANIZER;CN="New England Working Equitation":MAILTO:newenglandworkingequitation@gmail.com
END:VEVENT
BEGIN:VEVENT
DTSTART;VALUE=DATE:20240921
DTEND;VALUE=DATE:20240922
DTSTAMP:20260421T025057
CREATED:20240311T115258Z
LAST-MODIFIED:20240311T115258Z
UID:35378-1726876800-1726963199@dev25.usawe.org
SUMMARY:MD: Schooling Show
DESCRIPTION:Oak Spring Equestrian\, LLC is offering (5) working equitation schooling shows. This is a great low key environment for those that want to practice for a licensed show OR for those that just want to have fun and learn the sport. We will conclude the season with an awards banquet held at the farm.
URL:https://dev25.usawe.org/event/md-schooling-show-5/
LOCATION:Oak Spring Equestrian\, 15195 Bushy Park Rd.\, Woodbine\, MD\, 21797\, United States
CATEGORIES:All Schooling Shows,Region 6
ATTACH;FMTTYPE=image/png:https://dev25.usawe.org/wp-content/uploads/2024/03/Oak-Spring-Equestrian-LLC-Schooling-Shows-2024.png
ORGANIZER;CN="Barb Sullivan":MAILTO:oakspringequestrianllc@gmail.com
END:VEVENT
BEGIN:VEVENT
DTSTART;VALUE=DATE:20240918
DTEND;VALUE=DATE:20240923
DTSTAMP:20260421T025057
CREATED:20240720T145054Z
LAST-MODIFIED:20240920T152931Z
UID:38825-1726617600-1727049599@dev25.usawe.org
SUMMARY:International Competiton
DESCRIPTION:Held at our Western Zone Championships \nA WAWE International Competition invites foreign competitors to participate in an event held in the United States. \n\nTheir scores earned from Charlotta Ström (Sweden)\, WAWE International Judge at the event will count toward their placement in the WAWE International Horse and Rider ranking but cannot be used to qualify for the World Championship.\n\nIf you have any questions – please contact the International Committee at international@usawe.org
URL:https://dev25.usawe.org/event/international-competiton/
LOCATION:Oregon Horse Center\, 90751 Prairie Rd\, Eugene\, OR\, 97402\, United States
CATEGORIES:Competitions (all),Region 1,Region 2,Region 3,Region 4,Region 5,Region 6,Region 7
ATTACH;FMTTYPE=image/png:https://dev25.usawe.org/wp-content/uploads/2024/07/2024-wawe-international-competition.png
ORGANIZER;CN="USAWE International Committee":MAILTO:International@usawe.org
END:VEVENT
BEGIN:VEVENT
DTSTART;VALUE=DATE:20240907
DTEND;VALUE=DATE:20240908
DTSTAMP:20260421T025057
CREATED:20240616T143142Z
LAST-MODIFIED:20240616T143142Z
UID:37741-1725667200-1725753599@dev25.usawe.org
SUMMARY:PA: (24-121) EPAWE Summer Siesta Licensed Show
DESCRIPTION:License#(s): 24-121\nShow Name(s): EPAWE Summer Siesta Licensed Show\nShow Date(s): 9/7/2024\nLocation: Cochranville\, PA \nJudge: Amy Star\nTD: Lynsey Moritz\nGate Steward: Danni Toscano\nShow Manager: Kate Thomas
URL:https://dev25.usawe.org/event/pa-24-121-epawe-summer-siesta-licensed-show/
LOCATION:Collective Roots Dressage\, 602 Jennersville Rd\, Cochranville\, PA\, 19330\, United States
CATEGORIES:Competitions (all),Region 6
ORGANIZER;CN="Susan Felicia":MAILTO:sfelicia4899@gmail.com
END:VEVENT
BEGIN:VEVENT
DTSTART;VALUE=DATE:20240905
DTEND;VALUE=DATE:20240909
DTSTAMP:20260421T025057
CREATED:20240719T124941Z
LAST-MODIFIED:20240719T130754Z
UID:38767-1725494400-1725839999@dev25.usawe.org
SUMMARY:International Program Train to Win Clinic #3
DESCRIPTION:Train To Win Clinic #3\nSeptember 5-8\, 2024\nThree Bulls Farm\, Bulls Gap\, TN\n\n\n\n\nThe International Committee is pleased to invite USAWE members to participate as a rider or auditor in the Train to Win Clinic #3\, scheduled Sept 5-8\, 2024\, at Three Bulls Farm LLC\, Bulls Gap\, TN.  For International Program details\, please visit the usawe.org website > About > International Program > USAWE International Program. \nCLICK HERE to register for the 2024 Train to Win Clinic #3 \n\n\n\nA one-day Cattle Clinic (taught by Arielle Funaro\, Three Bulls Farm owner/manager) will be held September 5th.\nThe ‘Train to Win’ Clinic #3 (taught by Sr. Gilberto Felipe (Portugal)\, two-time WAWE World Champion of Working Equitation) will be conducted from 8am-5pm on September 6-8\, 2024\, at Three Bulls Farm LLC\, 625 Beech Grove Rd.\, Bulls Gap\, TN 37711\nRiders who participate in the clinic will be expected to be familiar with the WAWE Dressage test and to have both themselves and their horse fit enough for a demanding 50-minute lesson.\nInteractive Auditors includes use of headset plus a ‘Train to Win’ Manual\, commemorative T-Shirt and interactive discussion\nSilent Auditors includes use of headset but does not include the ‘Train to Win’ Manual or commemorative T-Shirt. Can listen to discussions but may not ask questions.\nGrounds Crew – four (4) non-rider ground crew volunteer positions available (first come\, first serve\, first paid) to members of the Professional Instructors program. The ‘Ground Crew’ will receive 50% off auditing fees – includes use of headset plus a ‘Train to Win’ Manual\, commemorative T-Shirt and interactive discussion.\nYouth Silent Auditor (non-rider 7-17 yrs. as of Jan 1\, 2024) – includes use of headset plus a ‘Train to Win’ Manual and commemorative T-Shirt.  Can listen to discussions but may not ask questions.\nAll participants (riders and auditors) must be members of USAWE.  Join USAWE
URL:https://dev25.usawe.org/event/international-program-train-to-win-clinic-3/
LOCATION:Three Bulls LLC\, 625 Beech Grove Rd.\, Bulls Gap\, TN\, 37711\, United States
CATEGORIES:All Clinics,Region 1,Region 2,Region 3,Region 4,Region 5,Region 6,Region 7
ATTACH;FMTTYPE=image/jpeg:https://dev25.usawe.org/wp-content/uploads/2024/06/T2W3-2024.jpg
ORGANIZER;CN="USAWE International Committee":MAILTO:International@usawe.org
END:VEVENT
BEGIN:VEVENT
DTSTART;VALUE=DATE:20240817
DTEND;VALUE=DATE:20240818
DTSTAMP:20260421T025057
CREATED:20231023T232716Z
LAST-MODIFIED:20231115T130413Z
UID:32247-1723852800-1723939199@dev25.usawe.org
SUMMARY:NJ: (24-021) Working Equitation at Dream Park #2
DESCRIPTION:(24-021) Working Equitation at Dream Park #2 \nVisit usawe.org > Competitions > List of Licensed Competitions for license status\, performance levels offered\, show manager\, judge and technical delegate info.
URL:https://dev25.usawe.org/event/nj-24-021-working-equitation-at-dream-park-3/
LOCATION:Gloucester County DREAM Park\, Logan Township\, NJ\, United States
CATEGORIES:Competitions (all),Region 6
ORGANIZER;CN="Maria Blackstone":MAILTO:mblackstone@renaissancefarmtn.com
END:VEVENT
BEGIN:VEVENT
DTSTART;VALUE=DATE:20240810
DTEND;VALUE=DATE:20240811
DTSTAMP:20260421T025057
CREATED:20240130T133643Z
LAST-MODIFIED:20240214T181752Z
UID:34560-1723248000-1723334399@dev25.usawe.org
SUMMARY:VA: NOVAWE Schooling Show
DESCRIPTION:NOVAWE Schooling Show hosted by AO Northern Virginia Working Equitation \nNOVAWE will host a Working Equitation schooling show for levels 1-3. Dressage\, EOH\, and Speed trials will be offered according to the USAWE rule book.\nJudge will be Amie Perryman\, USAWE “L” Candidate. More information will be posted on our website\, www.novawe.org
URL:https://dev25.usawe.org/event/va-novawe-schooling-show-2/
LOCATION:Frying Pan Farm Park\, 2709 West Ox Rd.\, Herndon\, VA\, 20171\, United States
CATEGORIES:All Schooling Shows,Region 6
ORGANIZER;CN="Biddie Lowry":MAILTO:novawe.blowry@gmail.com
END:VEVENT
BEGIN:VEVENT
DTSTART;VALUE=DATE:20240727
DTEND;VALUE=DATE:20240728
DTSTAMP:20260421T025057
CREATED:20240311T115155Z
LAST-MODIFIED:20240311T115155Z
UID:35376-1722038400-1722124799@dev25.usawe.org
SUMMARY:MD: Schooling Show
DESCRIPTION:Oak Spring Equestrian\, LLC is offering (5) working equitation schooling shows. This is a great low key environment for those that want to practice for a licensed show OR for those that just want to have fun and learn the sport. We will conclude the season with an awards banquet held at the farm.
URL:https://dev25.usawe.org/event/md-schooling-show-4/
LOCATION:Oak Spring Equestrian\, 15195 Bushy Park Rd.\, Woodbine\, MD\, 21797\, United States
CATEGORIES:All Schooling Shows,Region 6
ATTACH;FMTTYPE=image/png:https://dev25.usawe.org/wp-content/uploads/2024/03/Oak-Spring-Equestrian-LLC-Schooling-Shows-2024.png
ORGANIZER;CN="Barb Sullivan":MAILTO:oakspringequestrianllc@gmail.com
END:VEVENT
BEGIN:VEVENT
DTSTART;TZID=America/Los_Angeles:20240722T170000
DTEND;TZID=America/Los_Angeles:20240722T190000
DTSTAMP:20260421T025057
CREATED:20231122T174305Z
LAST-MODIFIED:20231122T174305Z
UID:32612-1721667600-1721674800@dev25.usawe.org
SUMMARY:AO Quarterly Networking Hour
DESCRIPTION:AO Quarterly Networking Hour \nFor Affiliate Organization Leaders and leadership teams – Meet other USAWE Affiliate Organization leaders\, make friends\, share ideas\, be encouraged\, and build community! This quarterly meeting is all about getting to know one another and strengthening the support you receive as an Affiliate Organization. Fourth Mondays in these months: January\, April\, July\, October\n5 PM Pacific 6 pm Mountain 7 pm Central 8 pm Eastern
URL:https://dev25.usawe.org/event/ao-quarterly-networking-hour-3/
LOCATION:Virtual Zoom Meeting\, United States
CATEGORIES:Region 1,Region 2,Region 3,Region 4,Region 5,Region 6,Region 7
ORGANIZER;CN="Kristine Strasburger":MAILTO:neheartlandwe@gmail.com
END:VEVENT
END:VCALENDAR