BEGIN:VCALENDAR
VERSION:2.0
PRODID:-//USA Working Equitation - ECPv6.15.20//NONSGML v1.0//EN
CALSCALE:GREGORIAN
METHOD:PUBLISH
X-ORIGINAL-URL:https://dev25.usawe.org
X-WR-CALDESC:Events for USA Working Equitation
REFRESH-INTERVAL;VALUE=DURATION:PT1H
X-Robots-Tag:noindex
X-PUBLISHED-TTL:PT1H
BEGIN:VTIMEZONE
TZID:America/Los_Angeles
BEGIN:DAYLIGHT
TZOFFSETFROM:-0800
TZOFFSETTO:-0700
TZNAME:PDT
DTSTART:20240310T100000
END:DAYLIGHT
BEGIN:STANDARD
TZOFFSETFROM:-0700
TZOFFSETTO:-0800
TZNAME:PST
DTSTART:20241103T090000
END:STANDARD
BEGIN:DAYLIGHT
TZOFFSETFROM:-0800
TZOFFSETTO:-0700
TZNAME:PDT
DTSTART:20250309T100000
END:DAYLIGHT
BEGIN:STANDARD
TZOFFSETFROM:-0700
TZOFFSETTO:-0800
TZNAME:PST
DTSTART:20251102T090000
END:STANDARD
BEGIN:DAYLIGHT
TZOFFSETFROM:-0800
TZOFFSETTO:-0700
TZNAME:PDT
DTSTART:20260308T100000
END:DAYLIGHT
BEGIN:STANDARD
TZOFFSETFROM:-0700
TZOFFSETTO:-0800
TZNAME:PST
DTSTART:20261101T090000
END:STANDARD
END:VTIMEZONE
BEGIN:VEVENT
DTSTART;VALUE=DATE:20250906
DTEND;VALUE=DATE:20250908
DTSTAMP:20260424T064852
CREATED:20250317T191136Z
LAST-MODIFIED:20250317T191136Z
UID:42364-1757116800-1757289599@dev25.usawe.org
SUMMARY:WI: (25-111) (25-112) Kemp Horsemanship Show #1 & #2
DESCRIPTION:License#(s): 25-111\, 25-112 \nShow Name(s): Kemp Horsemanship Show #1 and #2 \nShow Date(s): 9/6/2025 and 9/7/2025 \nLocation: \n\n\n\n\n\n\n\nThe Horse First Farm\nBrooklyn\nWI\n\n\n\nJudge: Rebecca Algar \nTD: Emily Kemp \nGate Steward: Ryan Kraemer \nShow Manager: Phyllis Kemp
URL:https://dev25.usawe.org/event/wi-25-111-25-112-kemp-horsemanship-show-1-2/
LOCATION:The Horse First Farm\, 5594 Alpine Dr.\, Brooklyn\, WI\, 53521\, United States
CATEGORIES:Competitions (all),Region 5
ORGANIZER;CN="Emily Kemp":MAILTO:KempHorsemanship@gmail.com
END:VEVENT
END:VCALENDAR