BEGIN:VCALENDAR
VERSION:2.0
PRODID:-//USA Working Equitation - ECPv6.15.20//NONSGML v1.0//EN
CALSCALE:GREGORIAN
METHOD:PUBLISH
X-ORIGINAL-URL:https://dev25.usawe.org
X-WR-CALDESC:Events for USA Working Equitation
REFRESH-INTERVAL;VALUE=DURATION:PT1H
X-Robots-Tag:noindex
X-PUBLISHED-TTL:PT1H
BEGIN:VTIMEZONE
TZID:America/Los_Angeles
BEGIN:DAYLIGHT
TZOFFSETFROM:-0800
TZOFFSETTO:-0700
TZNAME:PDT
DTSTART:20200308T100000
END:DAYLIGHT
BEGIN:STANDARD
TZOFFSETFROM:-0700
TZOFFSETTO:-0800
TZNAME:PST
DTSTART:20201101T090000
END:STANDARD
BEGIN:DAYLIGHT
TZOFFSETFROM:-0800
TZOFFSETTO:-0700
TZNAME:PDT
DTSTART:20210314T100000
END:DAYLIGHT
BEGIN:STANDARD
TZOFFSETFROM:-0700
TZOFFSETTO:-0800
TZNAME:PST
DTSTART:20211107T090000
END:STANDARD
BEGIN:DAYLIGHT
TZOFFSETFROM:-0800
TZOFFSETTO:-0700
TZNAME:PDT
DTSTART:20220313T100000
END:DAYLIGHT
BEGIN:STANDARD
TZOFFSETFROM:-0700
TZOFFSETTO:-0800
TZNAME:PST
DTSTART:20221106T090000
END:STANDARD
BEGIN:DAYLIGHT
TZOFFSETFROM:-0800
TZOFFSETTO:-0700
TZNAME:PDT
DTSTART:20230312T100000
END:DAYLIGHT
BEGIN:STANDARD
TZOFFSETFROM:-0700
TZOFFSETTO:-0800
TZNAME:PST
DTSTART:20231105T090000
END:STANDARD
END:VTIMEZONE
BEGIN:VEVENT
DTSTART;VALUE=DATE:20220617
DTEND;VALUE=DATE:20220620
DTSTAMP:20260425T084914
CREATED:20220511T053234Z
LAST-MODIFIED:20220511T053234Z
UID:20747-1655424000-1655683199@dev25.usawe.org
SUMMARY:CO: Working Equitation with Megan Kenney
DESCRIPTION:Friday-Private lessons Sat/Sun WE clinic intro-intermediate- advanced
URL:https://dev25.usawe.org/event/co-working-equitation-with-megan-kenney/
LOCATION:Sauls Creek Stables\, 3113 CR 527\, Bayfield\, CO\, 81122\, United States
CATEGORIES:All Clinics,Region 3
ORGANIZER;CN="Char Cornett":MAILTO:scotnchar@hotmail.com
END:VEVENT
BEGIN:VEVENT
DTSTART;VALUE=DATE:20220612
DTEND;VALUE=DATE:20220613
DTSTAMP:20260425T084914
CREATED:20220104T012921Z
LAST-MODIFIED:20220207T153613Z
UID:17598-1654992000-1655078399@dev25.usawe.org
SUMMARY:KS: WE of Kansas June Show #2
DESCRIPTION:License #22-064 \n  \nQuestions: Contact\nLinda Frazier lindafrazier8@gmail.com
URL:https://dev25.usawe.org/event/ks-we-of-kansas-june-show-2/
LOCATION:Kansas State Fairgrounds\, 2000 North Poplar\, Hutchinson\, KS\, 67502\, United States
CATEGORIES:Competitions (all),Region 3
ATTACH;FMTTYPE=image/jpeg:https://dev25.usawe.org/wp-content/uploads/2022/02/WEKS-logo-scaled.jpg
ORGANIZER;CN="Linda Frazier":MAILTO:lindafrazier8@gmail.com
END:VEVENT
BEGIN:VEVENT
DTSTART;VALUE=DATE:20220611
DTEND;VALUE=DATE:20220612
DTSTAMP:20260425T084914
CREATED:20220104T012756Z
LAST-MODIFIED:20220207T153527Z
UID:17595-1654905600-1654991999@dev25.usawe.org
SUMMARY:KS: WE of Kansas - June Show #1
DESCRIPTION:License #22-052 \n  \nQuestions: Contact\nLinda Frazier lindafrazier8@gmail.com
URL:https://dev25.usawe.org/event/ks-we-of-kansas-june-show-1/
LOCATION:Kansas State Fairgrounds\, 2000 North Poplar\, Hutchinson\, KS\, 67502\, United States
CATEGORIES:Competitions (all),Region 3
ATTACH;FMTTYPE=image/jpeg:https://dev25.usawe.org/wp-content/uploads/2022/02/WEKS-logo-scaled.jpg
ORGANIZER;CN="Alexis Bradley":MAILTO:bradley.alexist@gmail.com
END:VEVENT
BEGIN:VEVENT
DTSTART;VALUE=DATE:20220424
DTEND;VALUE=DATE:20220425
DTSTAMP:20260425T084914
CREATED:20220111T044501Z
LAST-MODIFIED:20220204T205932Z
UID:18174-1650758400-1650844799@dev25.usawe.org
SUMMARY:KS:  Kansas Kickoff Show #2
DESCRIPTION:License# 22-058
URL:https://dev25.usawe.org/event/ks-kansas-kickoff-show-2/
LOCATION:Ag Hall\, 900 Greeley\, Salinas\, KS\, 67401\, United States
CATEGORIES:Competitions (all),Region 3
ATTACH;FMTTYPE=image/jpeg:https://dev25.usawe.org/wp-content/uploads/2022/02/Kansas-Kickoff-2022.jpg
ORGANIZER;CN="Rachel Zenger":MAILTO:rsherck@gmail.com
END:VEVENT
BEGIN:VEVENT
DTSTART;VALUE=DATE:20220423
DTEND;VALUE=DATE:20220424
DTSTAMP:20260425T084914
CREATED:20220111T044021Z
LAST-MODIFIED:20220111T044352Z
UID:18169-1650672000-1650758399@dev25.usawe.org
SUMMARY:KS:  Kansas Kickoff Show #1
DESCRIPTION:License# 22-057
URL:https://dev25.usawe.org/event/ks-kansas-kickoff-show-1/
LOCATION:Ag Hall\, 900 Greeley\, Salinas\, KS\, 67401\, United States
CATEGORIES:Competitions (all),Region 3
ORGANIZER;CN="Rachel Zenger":MAILTO:rsherck@gmail.com
END:VEVENT
BEGIN:VEVENT
DTSTART;TZID=America/Los_Angeles:20220416T080000
DTEND;TZID=America/Los_Angeles:20220417T170000
DTSTAMP:20260425T084914
CREATED:20220325T161942Z
LAST-MODIFIED:20220325T161942Z
UID:20375-1650096000-1650214800@dev25.usawe.org
SUMMARY:TX: Sandhaven Spring "Green Up and Go" Show
DESCRIPTION:License#: 22-097
URL:https://dev25.usawe.org/event/tx-sandhaven-spring-green-up-and-go-show/
LOCATION:Sandhaven Performance Horses\, 1226 Old Hwy 20\, McDade\, TX\, 78650\, United States
CATEGORIES:Competitions (all),Region 3
ORGANIZER;CN="Kellee Campbell":MAILTO:Kelleekc@aol.com
END:VEVENT
BEGIN:VEVENT
DTSTART;TZID=America/Los_Angeles:20220412T180000
DTEND;TZID=America/Los_Angeles:20220412T190000
DTSTAMP:20260425T084914
CREATED:20211001T053905Z
LAST-MODIFIED:20211001T053905Z
UID:8812-1649786400-1649790000@dev25.usawe.org
SUMMARY:Quarterly AO Networking Hour
DESCRIPTION:A meet and greet style networking meeting for the USAWE Affiliate Organization community. \nOpen to all Affiliate Organization members\, and anyone interested in starting an Affiliate Organization.  Meet other USAWE Affiliate Organization leaders\, make friends\, share ideas\, be encouraged\, build community! This quarterly meeting is all about getting to know one another and strengthening the support you receive as an Affiliate Organization. Zoom meeting\, 6 pm Pacific Time on the second Tuesdays of these months: October\, January\, April\, and July.  Email Affiliate Organization Program Coordinator for meeting invite link.
URL:https://dev25.usawe.org/event/quarterly-ao-networking-hour-2/
LOCATION:KS
CATEGORIES:Region 1,Region 2,Region 3,Region 4,Region 5,Region 6,Region 7
ORGANIZER;CN="Kristine Strasburger":MAILTO:neheartlandwe@gmail.com
END:VEVENT
BEGIN:VEVENT
DTSTART;TZID=America/Los_Angeles:20220326T080000
DTEND;TZID=America/Los_Angeles:20220327T170000
DTSTAMP:20260425T084914
CREATED:20220216T230543Z
LAST-MODIFIED:20220216T230543Z
UID:19535-1648281600-1648400400@dev25.usawe.org
SUMMARY:TX:  Highlander Ranch March WE Show
DESCRIPTION:License#: 22-095
URL:https://dev25.usawe.org/event/tx-highlander-ranch-march-we-show/
LOCATION:Highlander Ranch\, 223 Cobbs Lane\, Waco\, TX\, 76708\, Waco\, United States
CATEGORIES:Competitions (all),Region 3
ORGANIZER;CN="Aimee Edwards":MAILTO:aedwards@mclennan.edu
END:VEVENT
BEGIN:VEVENT
DTSTART;TZID=America/Los_Angeles:20220111T180000
DTEND;TZID=America/Los_Angeles:20220111T190000
DTSTAMP:20260425T084914
CREATED:20211001T052157Z
LAST-MODIFIED:20211001T053533Z
UID:8799-1641924000-1641927600@dev25.usawe.org
SUMMARY:Quarterly AO Networking Hour
DESCRIPTION:A meet and greet style networking meeting for the USAWE Affiliate Organization community. \nOpen to all Affiliate Organization members\, and anyone interested in starting an Affiliate Organization.  Meet other USAWE Affiliate Organization leaders\, make friends\, share ideas\, be encouraged\, build community! This quarterly meeting is all about getting to know one another and strengthening the support you receive as an Affiliate Organization. Zoom meeting\, 6 pm Pacific Time on the second Tuesdays of these months: October\, January\, April\, and July.  Email Affiliate Organization Program Coordinator for meeting invite link.
URL:https://dev25.usawe.org/event/quarterly-ao-networking-hour/
LOCATION:KS
CATEGORIES:Region 1,Region 2,Region 3,Region 4,Region 5,Region 6,Region 7
ORGANIZER;CN="Kristine Strasburger":MAILTO:neheartlandwe@gmail.com
END:VEVENT
BEGIN:VEVENT
DTSTART;TZID=America/Los_Angeles:20211012T180000
DTEND;TZID=America/Los_Angeles:20211012T190000
DTSTAMP:20260425T084914
CREATED:20211001T052425Z
LAST-MODIFIED:20211001T052902Z
UID:8804-1634061600-1634065200@dev25.usawe.org
SUMMARY:Quarterly AO Networking Hour
DESCRIPTION:A meet and greet style networking meeting for the USAWE Affiliate Organization community. \nOpen to all Affiliate Organization members\, and anyone interested in starting an Affiliate Organization.  Meet other USAWE Affiliate Organization leaders\, make friends\, share ideas\, be encouraged\, build community! This quarterly meeting is all about getting to know one another and strengthening the support you receive as an Affiliate Organization. Zoom meeting\, 6 pm Pacific Time on the second Tuesdays of these months: October\, January\, April\, and July.  Email Affiliate Organization Program Coordinator for meeting invite link.
URL:https://dev25.usawe.org/event/quarterly-ao-networking-hour-4/
LOCATION:KS
CATEGORIES:Region 1,Region 2,Region 3,Region 4,Region 5,Region 6,Region 7
ORGANIZER;CN="Kristine Strasburger":MAILTO:neheartlandwe@gmail.com
END:VEVENT
BEGIN:VEVENT
DTSTART;VALUE=DATE:20211010
DTEND;VALUE=DATE:20211011
DTSTAMP:20260425T084914
CREATED:20210109T202929Z
LAST-MODIFIED:20210109T203300Z
UID:4767-1633824000-1633910399@dev25.usawe.org
SUMMARY:CO: High Country Working Equitation Show #7
DESCRIPTION:B-Rated show offering L1-L5 \nLicense #21-051(P) \nJudge: Jill Barron
URL:https://dev25.usawe.org/event/co-high-country-working-equitation-show-7/
LOCATION:Circle Star Arena\, 16191 Co Rd 17\, Platteville\, CO\, 80651\, United States
CATEGORIES:Competitions (all),Region 3
ORGANIZER;CN="Karen Burch":MAILTO:crickest413@gmail.com &amp; 1chstanko@gmail.com
END:VEVENT
BEGIN:VEVENT
DTSTART;VALUE=DATE:20211009
DTEND;VALUE=DATE:20211010
DTSTAMP:20260425T084914
CREATED:20210109T202812Z
LAST-MODIFIED:20210109T203416Z
UID:4765-1633737600-1633823999@dev25.usawe.org
SUMMARY:CO: High Country Working Equitation Show #6
DESCRIPTION:B-Rated show offering L1-L5 \nLicense # 21-050(P) \nJudge: Jill Barron
URL:https://dev25.usawe.org/event/co-high-country-working-equitation-show-6/
LOCATION:Circle Star Arena\, 16191 Co Rd 17\, Platteville\, CO\, 80651\, United States
CATEGORIES:Competitions (all),Region 3
ORGANIZER;CN="Karen Burch":MAILTO:crickest413@gmail.com &amp; 1chstanko@gmail.com
END:VEVENT
BEGIN:VEVENT
DTSTART;TZID=America/Los_Angeles:20210910T070000
DTEND;TZID=America/Los_Angeles:20210911T160000
DTSTAMP:20260425T084914
CREATED:20201127T212532Z
LAST-MODIFIED:20210602T165812Z
UID:4003-1631257200-1631376000@dev25.usawe.org
SUMMARY:KS Show - Working Equitation Kansas- State Fair
DESCRIPTION:B-Rated show offering L1 – L7 classes. \nFor more information\, please contact Show Manager Linda Frazier. \nKansas State Fair\, 2000 N. Poplar\, Hutchinson\, KS\, 67502 \nUSAWE License # 21-010(P)
URL:https://dev25.usawe.org/event/ks-show-working-equitation-kansas-state-fair/
LOCATION:Kansas State Fairgrounds\, 2000 North Poplar\, Hutchinson\, KS\, 67502\, United States
CATEGORIES:Competitions (all),Region 3
ORGANIZER;CN="Linda Frazier":MAILTO:lindafrazier8@gmail.com
END:VEVENT
BEGIN:VEVENT
DTSTART;VALUE=DATE:20210821
DTEND;VALUE=DATE:20210822
DTSTAMP:20260425T084914
CREATED:20210109T202327Z
LAST-MODIFIED:20210704T161654Z
UID:4754-1629504000-1629590399@dev25.usawe.org
SUMMARY:CO: High Country Working Equitation Show #3
DESCRIPTION:B-Rated show offering L1-L7\, hosted by HCWE and Classical Horse Club. \nLicense #: 21-047 \nJudge: Doreen Atkinson \nCircle Star Arena\, Platteville\, CO
URL:https://dev25.usawe.org/event/co-high-country-working-equitation-show-3/
LOCATION:Circle Star Arena\, 16191 Co Rd 17\, Platteville\, CO\, 80651\, United States
CATEGORIES:Competitions (all),Region 3
ORGANIZER;CN="Simone Windler":MAILTO:elegantrider@gmail.com
END:VEVENT
BEGIN:VEVENT
DTSTART;VALUE=DATE:20210711
DTEND;VALUE=DATE:20210712
DTSTAMP:20260425T084914
CREATED:20210109T204149Z
LAST-MODIFIED:20210109T204149Z
UID:4784-1625961600-1626047999@dev25.usawe.org
SUMMARY:CO: Schooling Show
DESCRIPTION:Schooling Show with Judge Kitty McLaughlin \nLook for more information on the High Country Working Equitation Facebook page and website!
URL:https://dev25.usawe.org/event/co-schooling-show/
LOCATION:Circle Star Arena\, 16191 Co Rd 17\, Platteville\, CO\, 80651\, United States
CATEGORIES:All Schooling Shows,Region 3
END:VEVENT
BEGIN:VEVENT
DTSTART;VALUE=DATE:20210613
DTEND;VALUE=DATE:20210614
DTSTAMP:20260425T084914
CREATED:20210109T202012Z
LAST-MODIFIED:20210109T203659Z
UID:4751-1623542400-1623628799@dev25.usawe.org
SUMMARY:CO: High Country Working Equitation Show #2
DESCRIPTION:B-Rated show offering L1-L7 \nShow Managers: Karen Burch (crickest413@gmail.com) and Chris Stanko (1chstanko@gmail.com) \nShow License: 21-046(P) \nJudge: Barbara Price
URL:https://dev25.usawe.org/event/co-high-country-working-equitation-show-2/
LOCATION:Plane View Farm\, 4738 Weld Co Rd 5.\, Erie\, CO\, 80516\, United States
CATEGORIES:Competitions (all),Region 3
ORGANIZER;CN="Karen Burch":MAILTO:crickest413@gmail.com &amp; 1chstanko@gmail.com
END:VEVENT
BEGIN:VEVENT
DTSTART;VALUE=DATE:20210612
DTEND;VALUE=DATE:20210613
DTSTAMP:20260425T084914
CREATED:20210109T201838Z
LAST-MODIFIED:20210520T221418Z
UID:4745-1623456000-1623542399@dev25.usawe.org
SUMMARY:CO: High Country Working Equitation (HCWE) Show #1
DESCRIPTION:B-Rated show offering L1-L7 \nShow Managers: Karen Burch (crickest413@gmail.com) and Chris Stanko (1chstanko@gmail.com) \nShow License: 21-045 \nJudge: Barbara Price \n  \n 
URL:https://dev25.usawe.org/event/co-high-country-working-equitation-hcwe-show-1/
LOCATION:Plane View Farm\, 4738 Weld Co Rd 5.\, Erie\, CO\, 80516\, United States
CATEGORIES:Competitions (all),Region 3
ORGANIZER;CN="Karen Burch":MAILTO:crickest413@gmail.com &amp; 1chstanko@gmail.com
END:VEVENT
BEGIN:VEVENT
DTSTART;VALUE=DATE:20210530
DTEND;VALUE=DATE:20210601
DTSTAMP:20260425T084914
CREATED:20210109T204102Z
LAST-MODIFIED:20210109T204102Z
UID:4780-1622332800-1622505599@dev25.usawe.org
SUMMARY:CO: Schooling Show - Gypsum
DESCRIPTION:Schooling Show with Judge Kitty McLaughlin \nLook for more information on the High Country Working Equitation Facebook page and website!
URL:https://dev25.usawe.org/event/co-schooling-show-gypsum/
LOCATION:Eagle County Fairgrounds\, 1400 Fairgrounds Rd\, Gypsum\, CO\, 81637\, United States
CATEGORIES:All Schooling Shows,Region 3
END:VEVENT
BEGIN:VEVENT
DTSTART;VALUE=DATE:20210418
DTEND;VALUE=DATE:20210419
DTSTAMP:20260425T084914
CREATED:20210109T203916Z
LAST-MODIFIED:20210109T203916Z
UID:4777-1618704000-1618790399@dev25.usawe.org
SUMMARY:CO: Schooling Show - Erie
DESCRIPTION:Schooling Show with Judge Kitty McLaughlin \nLook for more information on the High Country Working Equitation Facebook page and website!
URL:https://dev25.usawe.org/event/co-schooling-show-erie/
LOCATION:Plane View Farm\, 4738 Weld Co Rd 5.\, Erie\, CO\, 80516\, United States
CATEGORIES:All Schooling Shows,Region 3
END:VEVENT
BEGIN:VEVENT
DTSTART;VALUE=DATE:20210206
DTEND;VALUE=DATE:20210207
DTSTAMP:20260425T084914
CREATED:20210106T034334Z
LAST-MODIFIED:20210106T035431Z
UID:4697-1612569600-1612655999@dev25.usawe.org
SUMMARY:2021 Member Meeting
DESCRIPTION:Dear USAWE Members\, \nI would like to invite you to join the USAWE Board of Directors for the Annual Member Meeting (via Zoom) to be held Saturday\, February 6\, 2021 at 10 a.m. Mountain Standard time. \nThis is your opportunity to meet the full Board of Directors\, including an introduction to your Regional Director. \nAt the meeting we will provide you with information about the happenings at USAWE – some exciting\, and some that cover the day-to-day\, nitty gritty of running an organization. \nSeveral days prior to the meeting we will email you the meeting agenda along with a list of questions submitted by members when they registered for the meeting. \nOur goal is to have these questions guide the discussion and give the board the opportunity to provide you with information on a variety of topics. Included in the email will be the logon information to join the Zoom meeting. \nI hope you will consider joining us – come with a cup of coffee\, a snack and a smile! The board is looking forward to meeting more of our members and sharing our enthusiasm for working equitation and our brand new organization – USA Working Equitation! \nAll members were sent a meeting notice / invitation via MailChimp on Tuesday\, January 5\, 2021. If you did not receive the notification (your email server might have identified it as “spam”\, thinking it was a highly processed meat-like product) but would like to attend\, please email info@usawe.org to request a new link to RSVP / reserve your spot. \nWith Enthusiasm\, \nLeslie Martien\nPresident – USAWE
URL:https://dev25.usawe.org/event/2021-member-meeting/
LOCATION:KS
CATEGORIES:Region 1,Region 2,Region 3,Region 4,Region 5,Region 6,Region 7
END:VEVENT
END:VCALENDAR