BEGIN:VCALENDAR
VERSION:2.0
PRODID:-//USA Working Equitation - ECPv6.15.20//NONSGML v1.0//EN
CALSCALE:GREGORIAN
METHOD:PUBLISH
X-WR-CALNAME:USA Working Equitation
X-ORIGINAL-URL:https://dev25.usawe.org
X-WR-CALDESC:Events for USA Working Equitation
REFRESH-INTERVAL;VALUE=DURATION:PT1H
X-Robots-Tag:noindex
X-PUBLISHED-TTL:PT1H
BEGIN:VTIMEZONE
TZID:America/Los_Angeles
BEGIN:DAYLIGHT
TZOFFSETFROM:-0800
TZOFFSETTO:-0700
TZNAME:PDT
DTSTART:20220313T100000
END:DAYLIGHT
BEGIN:STANDARD
TZOFFSETFROM:-0700
TZOFFSETTO:-0800
TZNAME:PST
DTSTART:20221106T090000
END:STANDARD
BEGIN:DAYLIGHT
TZOFFSETFROM:-0800
TZOFFSETTO:-0700
TZNAME:PDT
DTSTART:20230312T100000
END:DAYLIGHT
BEGIN:STANDARD
TZOFFSETFROM:-0700
TZOFFSETTO:-0800
TZNAME:PST
DTSTART:20231105T090000
END:STANDARD
BEGIN:DAYLIGHT
TZOFFSETFROM:-0800
TZOFFSETTO:-0700
TZNAME:PDT
DTSTART:20240310T100000
END:DAYLIGHT
BEGIN:STANDARD
TZOFFSETFROM:-0700
TZOFFSETTO:-0800
TZNAME:PST
DTSTART:20241103T090000
END:STANDARD
BEGIN:DAYLIGHT
TZOFFSETFROM:-0800
TZOFFSETTO:-0700
TZNAME:PDT
DTSTART:20250309T100000
END:DAYLIGHT
BEGIN:STANDARD
TZOFFSETFROM:-0700
TZOFFSETTO:-0800
TZNAME:PST
DTSTART:20251102T090000
END:STANDARD
END:VTIMEZONE
BEGIN:VEVENT
DTSTART;VALUE=DATE:20240831
DTEND;VALUE=DATE:20240902
DTSTAMP:20260422T064344
CREATED:20240425T004035Z
LAST-MODIFIED:20240425T004035Z
UID:36950-1725062400-1725235199@dev25.usawe.org
SUMMARY:CA: (24-106) & (24-107) Wine Country - Labor Day Classic #1 & 2
DESCRIPTION:License#(s):  24-106\, 24-107 \nShow Name(s): Wine Country – Labor Day Classic # 1 & # 2 \nShow Date(s): 8/31/2024 and 9/1/2024 \nLocation: California Ranch Company\, Temecula\, CA \nJudge: TBD \nTD: Val Pearson (8/31/2024) \nGate Steward: Austin Gebhardt \nShow Manager: Amanda Latta
URL:https://dev25.usawe.org/event/ca-24-106-24-107-wine-country-labor-day-classic-1-2/
LOCATION:California Ranch Company\, 34520 de Portola Rd\, Temecula\, CA\, 92592\, United States
CATEGORIES:Competitions (all),Region 2
ORGANIZER;CN="Amanda Latta-Portillo":MAILTO:winecountryclassichorseshow@gmail.com
END:VEVENT
BEGIN:VEVENT
DTSTART;VALUE=DATE:20240825
DTEND;VALUE=DATE:20240826
DTSTAMP:20260422T064344
CREATED:20240426T181135Z
LAST-MODIFIED:20240426T181135Z
UID:36974-1724544000-1724630399@dev25.usawe.org
SUMMARY:AZ: (24-109) Chino Valley Summer Show
DESCRIPTION:License#(s): 24-109 \nShow Name(s): Chino Valley Summer Show \nShow Date(s): 8/25/2024 \nLocation: Chino Valley AZ \nJudge: Amy Star \nTD: Ashley Bowers \nGate Steward: Ann Callahan \nShow Manager: Tessa Nicolet / Victoria Clayton
URL:https://dev25.usawe.org/event/az-24-109-chino-valley-summer-show/
LOCATION:Chino Valley Equestrian Park\, Chino Valley\, AZ\, United States
CATEGORIES:Competitions (all),Region 2
END:VEVENT
BEGIN:VEVENT
DTSTART;VALUE=DATE:20240804
DTEND;VALUE=DATE:20240805
DTSTAMP:20260422T064344
CREATED:20240227T183855Z
LAST-MODIFIED:20240227T183855Z
UID:35139-1722729600-1722815999@dev25.usawe.org
SUMMARY:CA: (24-083) PVRA Summer USAWE Show
DESCRIPTION:License#(s): 24-083 \nShow Name(s): PVRA Summer USAWE Show \nShow Date(s): 8/4/2024 \nLocation: Poway Valley Riders Association\, Poway\, CA \nJudge: Sarah Pinney \nTD: Colleen Wright \nGate Steward: Sara Miller \nShow Manager: Janice Kall
URL:https://dev25.usawe.org/event/ca-24-083-pvra-summer-usawe-show/
LOCATION:Poway Valley Riders Association\, 14336 Tierra Bonita Rd\, Poway\, CA\, 92064\, United States
CATEGORIES:Competitions (all),Region 2
ORGANIZER;CN="Janice Kall":MAILTO:workingequ@pvra.com
END:VEVENT
BEGIN:VEVENT
DTSTART;VALUE=DATE:20240726
DTEND;VALUE=DATE:20240728
DTSTAMP:20260422T064344
CREATED:20240319T225620Z
LAST-MODIFIED:20240319T225711Z
UID:35840-1721952000-1722124799@dev25.usawe.org
SUMMARY:NV: (24-097 & 24-098) High Desert WE Show #5 & #6
DESCRIPTION:License#(s): 24-097 \nShow Name(s): High Desert Working Equitation Show #5  \nShow Date(s): 7/26/2024 \nLocation: Wellington\, NV \nJudge: Barbara Price \nTD: Andrea Sullivan \nGate Steward: TBD \nShow Manager: Jessica Mosbaugh  \n\nLicense#(s): 24-098 \nShow Name(s): High Desert Working Equitation Show #6 \nShow Date(s): 7/27/2024 \nLocation: Wellington\, NV \nJudge: Barbara Price \nTD: Andrea Sullivan \nGate Steward: TBD \nShow Manager: Jessica Mosbaugh 
URL:https://dev25.usawe.org/event/nv-24-097-24-098-high-desert-we-show-5-6/
LOCATION:Wellington\, NV
CATEGORIES:Competitions (all),Region 2
ORGANIZER;CN="Jessica Mosbaugh":MAILTO:jessicapph@aol.com
END:VEVENT
BEGIN:VEVENT
DTSTART;TZID=America/Los_Angeles:20240722T170000
DTEND;TZID=America/Los_Angeles:20240722T190000
DTSTAMP:20260422T064344
CREATED:20231122T174305Z
LAST-MODIFIED:20231122T174305Z
UID:32612-1721667600-1721674800@dev25.usawe.org
SUMMARY:AO Quarterly Networking Hour
DESCRIPTION:AO Quarterly Networking Hour \nFor Affiliate Organization Leaders and leadership teams – Meet other USAWE Affiliate Organization leaders\, make friends\, share ideas\, be encouraged\, and build community! This quarterly meeting is all about getting to know one another and strengthening the support you receive as an Affiliate Organization. Fourth Mondays in these months: January\, April\, July\, October\n5 PM Pacific 6 pm Mountain 7 pm Central 8 pm Eastern
URL:https://dev25.usawe.org/event/ao-quarterly-networking-hour-3/
LOCATION:Virtual Zoom Meeting\, United States
CATEGORIES:Region 1,Region 2,Region 3,Region 4,Region 5,Region 6,Region 7
ORGANIZER;CN="Kristine Strasburger":MAILTO:neheartlandwe@gmail.com
END:VEVENT
BEGIN:VEVENT
DTSTART;VALUE=DATE:20240720
DTEND;VALUE=DATE:20240722
DTSTAMP:20260422T064344
CREATED:20240609T011625Z
LAST-MODIFIED:20240609T011625Z
UID:37677-1721433600-1721606399@dev25.usawe.org
SUMMARY:AZ: (24-119 & 24-120) Coconino Cool Off Show 1 & 2
DESCRIPTION:License#(s): 24-119 and 24-120\nShow Name(s): Coconino Cool Off Show 1 & 2\nShow Date(s): 7/20/24 (show #1) and 7/21/24 (show #2)\nLocation: Flagstaff AZ\nJudge: Amy Star\nTD: Sarah Pinney\nGate Steward: Kelly Murphy\nShow Manager: Tessa Nicolet / Karen Anderson
URL:https://dev25.usawe.org/event/az-24-119-24-120-coconino-cool-off-show-1-2/
LOCATION:Fort Tuthill County Park\, Flagstaff\, AZ\, United States
CATEGORIES:Competitions (all),Region 2
END:VEVENT
BEGIN:VEVENT
DTSTART;TZID=America/Los_Angeles:20240708T080000
DTEND;TZID=America/Los_Angeles:20240710T170000
DTSTAMP:20260422T064344
CREATED:20240518T000711Z
LAST-MODIFIED:20240518T000711Z
UID:37369-1720425600-1720630800@dev25.usawe.org
SUMMARY:Train to Win Clinic #2
DESCRIPTION:CLICK HERE for information and registration on the Train to Win Clinic #2
URL:https://dev25.usawe.org/event/train-to-win-clinic-2/
LOCATION:El Campeón Farms\, 999 W. Potrero Rd.\, Thousand Oaks\, CA\, 91361\, United States
CATEGORIES:All Clinics,Region 1,Region 2
ATTACH;FMTTYPE=image/jpeg:https://dev25.usawe.org/wp-content/uploads/2024/05/T2W2Flyer1FNL-1.jpg
ORGANIZER;CN="USAWE International Committee":MAILTO:International@usawe.org
END:VEVENT
BEGIN:VEVENT
DTSTART;VALUE=DATE:20240705
DTEND;VALUE=DATE:20240708
DTSTAMP:20260422T064344
CREATED:20231119T043334Z
LAST-MODIFIED:20240123T030658Z
UID:32561-1720137600-1720396799@dev25.usawe.org
SUMMARY:CA (24-026) Stars and Stripes WE Show
DESCRIPTION:(24-026) Stars and Stripes WE Show \nVisit usawe.org > Competitions > List of Licensed Competitions for license status\, performance levels offered\, show manager\, judge and technical delegate info.
URL:https://dev25.usawe.org/event/ca-24-026-stars-and-stripes-we-show/
LOCATION:El Campeón Farms\, 999 W. Potrero Rd.\, Thousand Oaks\, CA\, 91361\, United States
CATEGORIES:Competitions (all),Region 2
ORGANIZER;CN="Christy Reich":MAILTO:creich@elcampeonfarms.com
END:VEVENT
BEGIN:VEVENT
DTSTART;VALUE=DATE:20240623
DTEND;VALUE=DATE:20240624
DTSTAMP:20260422T064344
CREATED:20240121T154749Z
LAST-MODIFIED:20240121T154749Z
UID:34278-1719100800-1719187199@dev25.usawe.org
SUMMARY:CA: BAWE Schooling Show
DESCRIPTION:BAWE Schooling Show \nSponsored by HC Equestrian\, Judge Kelly Krambs (L)
URL:https://dev25.usawe.org/event/ca-bawe-schooling-show/
LOCATION:Santa Cruz Horseman’s Association\, 1251 Graham Hill Rd\, Santa Cruz\, CA\, 95060\, United States
CATEGORIES:All Schooling Shows,Region 2
ORGANIZER;CN="Ali Kermeen":MAILTO:alikermeen@gmail.com
END:VEVENT
BEGIN:VEVENT
DTSTART;VALUE=DATE:20240620
DTEND;VALUE=DATE:20240623
DTSTAMP:20260422T064344
CREATED:20240121T154254Z
LAST-MODIFIED:20240121T154450Z
UID:34272-1718841600-1719100799@dev25.usawe.org
SUMMARY:CA: Santa Cruz Super Clinic
DESCRIPTION:Santa Cruz Super Clinic \nThe Train with Trust Project and Ali Kermeen Balanced Horsemanship have teamed up to offer a one of a kind educational experience!  \nThree days of mounted and unmounted classes in equine behavior\, dressage\, and working equitation. A WE schooling show is offered the next day at the same location!
URL:https://dev25.usawe.org/event/ca-santa-cruz-super-clinic/
LOCATION:Santa Cruz Horseman’s Association\, 1251 Graham Hill Rd\, Santa Cruz\, CA\, 95060\, United States
CATEGORIES:All Clinics,Region 2
ATTACH;FMTTYPE=image/jpeg:https://dev25.usawe.org/wp-content/uploads/2024/01/2024.06.20-22-Santa-Cruze-Super-Clinic.jpg
ORGANIZER;CN="Alice Bizri":MAILTO:alice.bizri@gmail.com
END:VEVENT
BEGIN:VEVENT
DTSTART;VALUE=DATE:20240602
DTEND;VALUE=DATE:20240603
DTSTAMP:20260422T064344
CREATED:20240327T182538Z
LAST-MODIFIED:20240327T182538Z
UID:36702-1717286400-1717372799@dev25.usawe.org
SUMMARY:CA: (24-102) PVRA June USAWE Show
DESCRIPTION:License#(s): 24-102 \nShow Name(s): PVRA June USAWE Show \nShow Date(s): 6/2/2024 \nLocation: Poway\, CA \nJudge: Barbara Price \nTD: Valerie Pearson \nGate Steward: Sara Miller \nShow Manager: Janice Kall
URL:https://dev25.usawe.org/event/ca-24-102-pvra-june-usawe-show/
LOCATION:Poway Valley Riders Association\, 14336 Tierra Bonita Rd\, Poway\, CA\, 92064\, United States
CATEGORIES:Competitions (all),Region 2
ORGANIZER;CN="Janice Kall":MAILTO:workingequ@pvra.com
END:VEVENT
BEGIN:VEVENT
DTSTART;VALUE=DATE:20240601
DTEND;VALUE=DATE:20240603
DTSTAMP:20260422T064344
CREATED:20240319T225856Z
LAST-MODIFIED:20240525T030612Z
UID:35843-1717200000-1717372799@dev25.usawe.org
SUMMARY:CA: (24-095 & 24-096) Summer Fun WE Show Series #3 & #4
DESCRIPTION:License#(s): 24-095 & 24-096 \nShow Name(s): Summer Fun Working Equitation Show Series 2024 #3 & #4 \nShow Date(s): 6/1/2024 – 6/2/2024 \nLocation: Copperopolis\, CA \nJudge: Rebecca Algar \nTD: Andrea Sullivan \nGate Steward: TBD \nShow Manager: Jessica Mosbaugh \n 
URL:https://dev25.usawe.org/event/ca-24-095-24-096-summer-fun-we-show-series-3-4/
LOCATION:Copperopolis\, CA
CATEGORIES:Competitions (all),Region 2
ORGANIZER;CN="Jessica Mosbaugh":MAILTO:jessicapph@aol.com
END:VEVENT
BEGIN:VEVENT
DTSTART;VALUE=DATE:20240601
DTEND;VALUE=DATE:20240602
DTSTAMP:20260422T064344
CREATED:20240426T181000Z
LAST-MODIFIED:20240426T181000Z
UID:36972-1717200000-1717286399@dev25.usawe.org
SUMMARY:AZ: (24-108) Rim Rider Show 1 of 3
DESCRIPTION:License#(s): 24-108 \nShow Name(s): Rim Rider Show 1 of 3 \nShow Date(s): 6/1/2024 \nLocation: Payson AZ \nJudge: Nicole Chastain \nTD: Ashley Bowers \nGate Steward: Kathleen Born \nShow Manager: Tessa Nicolet / Victoria Clayton
URL:https://dev25.usawe.org/event/az-24-108-rim-rider-show-1-of-3/
LOCATION:Patterson Training LLC\, 272 S Sprague Dr\, Star Valley\, AZ\, 85541\, United States
CATEGORIES:Competitions (all),Region 2
END:VEVENT
BEGIN:VEVENT
DTSTART;VALUE=DATE:20240525
DTEND;VALUE=DATE:20240527
DTSTAMP:20260422T064344
CREATED:20231119T043200Z
LAST-MODIFIED:20240123T030607Z
UID:32559-1716595200-1716767999@dev25.usawe.org
SUMMARY:CA: (24-025) Memorial Day Classic WE Show
DESCRIPTION:(24-025) Memorial Day Classic WE Show \nVisit usawe.org > Competitions > List of Licensed Competitions for license status\, performance levels offered\, show manager\, judge and technical delegate info.
URL:https://dev25.usawe.org/event/ca-24-025-memorial-day-classic-we-show/
LOCATION:El Campeón Farms\, 999 W. Potrero Rd.\, Thousand Oaks\, CA\, 91361\, United States
CATEGORIES:Competitions (all),Region 2
ORGANIZER;CN="Christy Reich":MAILTO:creich@elcampeonfarms.com
END:VEVENT
BEGIN:VEVENT
DTSTART;VALUE=DATE:20240504
DTEND;VALUE=DATE:20240506
DTSTAMP:20260422T064344
CREATED:20240319T230020Z
LAST-MODIFIED:20240319T230020Z
UID:35846-1714780800-1714953599@dev25.usawe.org
SUMMARY:CA: (24-093 & 24-094) Summer Fun Working Equitation Show Series 2024 #1 & #2
DESCRIPTION:License#(s): 24-093 \nShow Name(s): Summer Fun Working Equitation Show Series 2024 #1 \nShow Date(s): 5/4/2024 \nLocation: Copperopolis\, CA \nJudge: Nicole Chastain  \nTD: Andrea Sullivan \nGate Steward: TBD \nShow Manager: Jessica Mosbaugh \n\nLicense#(s): 24-094 \nShow Name(s): Summer Fun Working Equitation Show Series 2024 #2 \nShow Date(s): 5/5/2024 \nLocation: Copperopolis\, CA \nJudge: Nicole Chastain  \nTD: Andrea Sullivan \nGate Steward: TBD \nShow Manager: Jessica Mosbaugh
URL:https://dev25.usawe.org/event/ca-24-093-24-094-summer-fun-working-equitation-show-series-2024-1-2/
LOCATION:Copperopolis\, CA
CATEGORIES:Competitions (all),Region 2
ORGANIZER;CN="Jessica Mosbaugh":MAILTO:jessicapph@aol.com
END:VEVENT
BEGIN:VEVENT
DTSTART;TZID=America/Los_Angeles:20240422T170000
DTEND;TZID=America/Los_Angeles:20240422T190000
DTSTAMP:20260422T064344
CREATED:20231122T174158Z
LAST-MODIFIED:20231122T174158Z
UID:32610-1713805200-1713812400@dev25.usawe.org
SUMMARY:AO Quarterly Networking Hour
DESCRIPTION:AO Quarterly Networking Hour \nFor Affiliate Organization Leaders and leadership teams – Meet other USAWE Affiliate Organization leaders\, make friends\, share ideas\, be encouraged\, and build community! This quarterly meeting is all about getting to know one another and strengthening the support you receive as an Affiliate Organization. Fourth Mondays in these months: January\, April\, July\, October\n5 PM Pacific 6 pm Mountain 7 pm Central 8 pm Eastern
URL:https://dev25.usawe.org/event/ao-quarterly-networking-hour-2/
LOCATION:Virtual Zoom Meeting\, United States
CATEGORIES:Region 1,Region 2,Region 3,Region 4,Region 5,Region 6,Region 7
ORGANIZER;CN="Kristine Strasburger":MAILTO:neheartlandwe@gmail.com
END:VEVENT
BEGIN:VEVENT
DTSTART;VALUE=DATE:20240414
DTEND;VALUE=DATE:20240415
DTSTAMP:20260422T064344
CREATED:20240206T205747Z
LAST-MODIFIED:20240206T205747Z
UID:34697-1713052800-1713139199@dev25.usawe.org
SUMMARY:CA: Wine Country Classic - Mane Event 2
DESCRIPTION:License#(s): 24-072 \nShow Name(s): Wine Country Classic – Mane Event 2 \nShow Date(s): Start Date: 4/14/2024\, End Date: 4/14/2024 \nLocation: California Ranch Company\, Temecula\, CA \nJudge: Polly Limmond \nTD: TBD \nGate Steward: TBD \nShow Manager: Amanda Latta
URL:https://dev25.usawe.org/event/ca-wine-country-classic-mane-event-2/
LOCATION:California Ranch Company\, 34520 de Portola Rd\, Temecula\, CA\, 92592\, United States
CATEGORIES:Competitions (all),Region 2
ORGANIZER;CN="Amanda Latta-Portillo":MAILTO:winecountryclassichorseshow@gmail.com
END:VEVENT
BEGIN:VEVENT
DTSTART;VALUE=DATE:20240413
DTEND;VALUE=DATE:20240415
DTSTAMP:20260422T064344
CREATED:20240204T221947Z
LAST-MODIFIED:20240204T224806Z
UID:34647-1712966400-1713139199@dev25.usawe.org
SUMMARY:CA: WE North Bay Working Equitation Clinics
DESCRIPTION:WE North Bay Working Equitation Clinics \nFor those new to WE\, these clinics will be an introduction to the Dressage and Ease of Handling phases.  \nFor those experienced with WE\, this is an opportunity to refine your skills in a focused and supportive setting.
URL:https://dev25.usawe.org/event/ca-we-north-bay-working-equitation-clinics-2/
LOCATION:Woodridge Farm\, 1188 Jacobsen Lane\, Petaluma\, CA\, United States
CATEGORIES:All Clinics,Region 2
ATTACH;FMTTYPE=image/jpeg:https://dev25.usawe.org/wp-content/uploads/2024/02/WE-North-Bay-Clinics-03.2024-and-04.2024.jpg
ORGANIZER;CN="Jack Burns":MAILTO:ystemwedeldvm@hotmail.com
END:VEVENT
BEGIN:VEVENT
DTSTART;VALUE=DATE:20240412
DTEND;VALUE=DATE:20240413
DTSTAMP:20260422T064344
CREATED:20240206T205627Z
LAST-MODIFIED:20240206T205627Z
UID:34695-1712880000-1712966399@dev25.usawe.org
SUMMARY:CA: Wine Country Classic - Mane Event 1
DESCRIPTION:License#(s): 24-071\, 24-072\n\n\n\n\n\nShow Name(s): Wine Country Classic – Mane Event 1 \nShow Date(s): Start Date: 4/12/2024\, End Date: 4/12/2024 \nShow Name(s): Wine Country Classic – Mane Event 2 \nShow Date(s): Start Date: 4/14/2024\, End Date: 4/14/2024 \nLocation: California Ranch Company\, Temecula\, CA \nJudge: Polly Limmond \nTD: TBD \nGate Steward: TBD \nShow Manager: Amanda Latta
URL:https://dev25.usawe.org/event/ca-wine-country-classic-mane-event-1/
LOCATION:California Ranch Company\, 34520 de Portola Rd\, Temecula\, CA\, 92592\, United States
CATEGORIES:Competitions (all),Region 2
ORGANIZER;CN="Amanda Latta-Portillo":MAILTO:winecountryclassichorseshow@gmail.com
END:VEVENT
BEGIN:VEVENT
DTSTART;VALUE=DATE:20240407
DTEND;VALUE=DATE:20240408
DTSTAMP:20260422T064344
CREATED:20240227T183657Z
LAST-MODIFIED:20240405T170755Z
UID:35137-1712448000-1712534399@dev25.usawe.org
SUMMARY:POSTPONED DUE TO RAIN - CA: (24-082) PVRA Spring USAWE Show
DESCRIPTION:Sadly\, this competition is going to need to be rescheduled because heavy rain has made the arena footing unsuitable for riding. Please contact Janice Kall for more information. We will update the calendar with a new date once we know when the show will be taking place. \n\nLicense#(s): 24-082 \nShow Name(s): PVRA Spring USAWE Show (24-082) \nShow Date(s): 4/7/2024 \nLocation: Poway Valley Riders Association\, Poway\, CA \nJudge: Tracey Erway \nTD: Val Pearson \nGate Steward: Sara Miller \nShow Manager: Janice Kall
URL:https://dev25.usawe.org/event/ca-24-082-pvra-spring-usawe-show/
LOCATION:Poway Valley Riders Association\, 14336 Tierra Bonita Rd\, Poway\, CA\, 92064\, United States
CATEGORIES:Competitions (all),Region 2
ORGANIZER;CN="Janice Kall":MAILTO:workingequ@pvra.com
END:VEVENT
BEGIN:VEVENT
DTSTART;VALUE=DATE:20240406
DTEND;VALUE=DATE:20240407
DTSTAMP:20260422T064344
CREATED:20240213T064135Z
LAST-MODIFIED:20240213T192223Z
UID:34781-1712361600-1712447999@dev25.usawe.org
SUMMARY:AZ: (24-078) Sonoita Spring Fling
DESCRIPTION:License#(s): 24-078 \nShow Name(s): Sonoita Spring Fling \nShow Date(s): 4/6/2024 \nLocation: Sonoita\, AZ \nJudge: Cari Schwartz \nTD: Ashley Bowers \nGate Steward: Suzie Taylor \nShow Manager: Amy Star\, alternative Karen Anderson
URL:https://dev25.usawe.org/event/az-sonoita-spring-fling/
LOCATION:Sonoita\, Sonoita\, AZ\, United States
CATEGORIES:Competitions (all),Region 2
ORGANIZER;CN="Amy Star":MAILTO:AmyStarLusitanos@gmail.com
END:VEVENT
BEGIN:VEVENT
DTSTART;VALUE=DATE:20240303
DTEND;VALUE=DATE:20240304
DTSTAMP:20260422T064344
CREATED:20231216T154758Z
LAST-MODIFIED:20231216T154758Z
UID:33003-1709452800-1709485200@dev25.usawe.org
SUMMARY:CA: (24-034) Wine Country Classic @ Hansen Dam #2
DESCRIPTION:CA: (24-034) Wine Country Classic @ Hansen Dam #2 \nVisit usawe.org > Competitions > List of Licensed Competitions for license status\, performance levels offered\, show manager\, judge and technical delegate info.
URL:https://dev25.usawe.org/event/ca-24-034-wine-country-classic-hansen-dam-2/
LOCATION:Hansen Dam\, San Fernando Valley\, CA\, United States
CATEGORIES:Region 2
ORGANIZER;CN="Amanda Latta-Portillo":MAILTO:winecountryclassichorseshow@gmail.com
END:VEVENT
BEGIN:VEVENT
DTSTART;VALUE=DATE:20240303
DTEND;VALUE=DATE:20240304
DTSTAMP:20260422T064344
CREATED:20240204T221754Z
LAST-MODIFIED:20240204T224852Z
UID:34644-1709424000-1709510399@dev25.usawe.org
SUMMARY:CA: WE North Bay Working Equitation Clinics
DESCRIPTION:WE North Bay Working Equitation Clinics \nFor those new to WE\, these clinics will be an introduction to the Dressage and Ease of Handling phases.  \nFor those experienced with WE\, this is an opportunity to refine your skills in a focused and supportive setting.
URL:https://dev25.usawe.org/event/ca-we-north-bay-working-equitation-clinics/
LOCATION:Woodridge Farm\, 1188 Jacobsen Lane\, Petaluma\, CA\, United States
CATEGORIES:All Clinics,Region 2
ATTACH;FMTTYPE=image/jpeg:https://dev25.usawe.org/wp-content/uploads/2024/02/WE-North-Bay-Clinics-03.2024-and-04.2024.jpg
ORGANIZER;CN="Jack Burns":MAILTO:ystemwedeldvm@hotmail.com
END:VEVENT
BEGIN:VEVENT
DTSTART;VALUE=DATE:20240303
DTEND;VALUE=DATE:20240304
DTSTAMP:20260422T064344
CREATED:20231216T155709Z
LAST-MODIFIED:20231216T155710Z
UID:33017-1709424000-1709510399@dev25.usawe.org
SUMMARY:CA: (24-035) Wine Country Classic @ Hansen Dam #2
DESCRIPTION:CA: (24-035) Wine Country Classic @ Hansen Dam #2 \nVisit usawe.org > Competitions > List of Licensed Competitions for license status\, performance levels offered\, show manager\, judge and technical delegate info.
URL:https://dev25.usawe.org/event/ca-24-034-wine-country-classic-hansen-dam-2-2/
LOCATION:Hansen Dam\, San Fernando Valley\, CA\, United States
CATEGORIES:Region 2
ORGANIZER;CN="Amanda Latta-Portillo":MAILTO:winecountryclassichorseshow@gmail.com
END:VEVENT
BEGIN:VEVENT
DTSTART;VALUE=DATE:20240302
DTEND;VALUE=DATE:20240303
DTSTAMP:20260422T064344
CREATED:20231216T154645Z
LAST-MODIFIED:20231216T154645Z
UID:33000-1709337600-1709423999@dev25.usawe.org
SUMMARY:CA: (24-034) Wine Country Classic @ Hansen Dam #1
DESCRIPTION:CA: (24-034) Wine Country Classic @ Hansen Dam #1 \nVisit usawe.org > Competitions > List of Licensed Competitions for license status\, performance levels offered\, show manager\, judge and technical delegate info.
URL:https://dev25.usawe.org/event/ca-24-034-wine-country-classic-hansen-dam-1/
LOCATION:Hansen Dam\, San Fernando Valley\, CA\, United States
CATEGORIES:Competitions (all),Region 2
ORGANIZER;CN="Amanda Latta-Portillo":MAILTO:winecountryclassichorseshow@gmail.com
END:VEVENT
BEGIN:VEVENT
DTSTART;TZID=America/Los_Angeles:20240122T170000
DTEND;TZID=America/Los_Angeles:20240122T190000
DTSTAMP:20260422T064344
CREATED:20231122T174043Z
LAST-MODIFIED:20231122T174043Z
UID:32608-1705942800-1705950000@dev25.usawe.org
SUMMARY:AO Quarterly Networking Hour
DESCRIPTION:AO Quarterly Networking Hour \nFor Affiliate Organization Leaders and leadership teams – Meet other USAWE Affiliate Organization leaders\, make friends\, share ideas\, be encouraged\, and build community! This quarterly meeting is all about getting to know one another and strengthening the support you receive as an Affiliate Organization. Fourth Mondays in these months: January\, April\, July\, October\n5 PM Pacific 6 pm Mountain 7 pm Central 8 pm Eastern
URL:https://dev25.usawe.org/event/ao-quarterly-networking-hour/
LOCATION:Virtual Zoom Meeting\, United States
CATEGORIES:Region 1,Region 2,Region 3,Region 4,Region 5,Region 6,Region 7
ORGANIZER;CN="Kristine Strasburger":MAILTO:neheartlandwe@gmail.com
END:VEVENT
BEGIN:VEVENT
DTSTART;VALUE=DATE:20231105
DTEND;VALUE=DATE:20231106
DTSTAMP:20260422T064344
CREATED:20230813T105749Z
LAST-MODIFIED:20230813T105808Z
UID:30989-1699142400-1699228799@dev25.usawe.org
SUMMARY:CA: (23-134) El Campeon Farms' Fall Show #2
DESCRIPTION:Licensed Show (23-134) El Campeon Farms’ Fall Show #2 \nVisit usawe.org > Competitions > List of Licensed Competitions for license status\, performance levels offered\, show manager\, judge and technical delegate info.
URL:https://dev25.usawe.org/event/ca-23-134-el-campeon-farms-fall-show-2/
LOCATION:El Campeón Farms\, 999 W. Potrero Rd.\, Thousand Oaks\, CA\, 91361\, United States
CATEGORIES:Competitions (all),Region 2
ORGANIZER;CN="Christy Reich":MAILTO:creich@elcampeonfarms.com
END:VEVENT
BEGIN:VEVENT
DTSTART;VALUE=DATE:20231104
DTEND;VALUE=DATE:20231106
DTSTAMP:20260422T064344
CREATED:20230829T150209Z
LAST-MODIFIED:20230829T150209Z
UID:31240-1699056000-1699228799@dev25.usawe.org
SUMMARY:AZ: (23-137) AZWEC Sonoita Showcase
DESCRIPTION:Licensed Show (23-137) AZWEC Sonoita Showcase \nVisit usawe.org > Competitions > List of Licensed Competitions for license status\, performance levels offered\, show manager\, judge and technical delegate info.
URL:https://dev25.usawe.org/event/az-23-137-azwec-sonoita-showcase/
LOCATION:Santa Cruze Fairgrounds\, Sonoita\, AZ\, United States
CATEGORIES:Competitions (all),Region 2
ORGANIZER;CN="AZ Working Equitation Club":MAILTO:arizonawec@gmail.com
END:VEVENT
BEGIN:VEVENT
DTSTART;VALUE=DATE:20231104
DTEND;VALUE=DATE:20231105
DTSTAMP:20260422T064344
CREATED:20230813T105553Z
LAST-MODIFIED:20230813T105553Z
UID:30987-1699056000-1699142399@dev25.usawe.org
SUMMARY:CA: (23-133) El Campeon Farms' Fall Show #1
DESCRIPTION:Licensed Show (23-133) El Campeon Farms’ Fall Show #1 \nVisit usawe.org > Competitions > List of Licensed Competitions for license status\, performance levels offered\, show manager\, judge and technical delegate info.
URL:https://dev25.usawe.org/event/ca-23-133-el-campeon-farms-fall-show-1/
LOCATION:El Campeón Farms\, 999 W. Potrero Rd.\, Thousand Oaks\, CA\, 91361\, United States
CATEGORIES:Competitions (all),Region 2
ORGANIZER;CN="Christy Reich":MAILTO:creich@elcampeonfarms.com
END:VEVENT
BEGIN:VEVENT
DTSTART;VALUE=DATE:20231028
DTEND;VALUE=DATE:20231030
DTSTAMP:20260422T064344
CREATED:20230921T104857Z
LAST-MODIFIED:20230921T104857Z
UID:31629-1698451200-1698623999@dev25.usawe.org
SUMMARY:NV:  Dia de Los Muertos Schooling Show
DESCRIPTION:Dia de Los Muertos Schooling Show \nBroken Bit Ranch is hosting their annual Dia de Los Muertos Working Equitation Schooling Show on October 28 & 29\, 2023. We are excited to have USAWE licensed judge Sarah Pinney\, “r”\, returning as our officiant for the 3rd year in a row! This show is for levels 1 thru 3\, with Champion buckles awarded to both Intro and combined Novice divisions. Dressage test will be held on Saturday with EOH & Speed classes on Sunday. There will also be an award for the “Best Dia de Los Muertos dressed”. During the event a food drive and a raffle is held to benefit our local food pantries of the Healthy Communities Coalition of Lyon & Storey counties. Last year over 200# of canned and boxed food were collected and the raffle earned a tidy sum of $275 to help make the holidays a little brighter for those that might need a helping hand.  \n\nEntry fee for the show is $100. Show is limited to 36 riders. Limited stabling is available @ $45 for the weekend (3 nights). Dry camping is free.
URL:https://dev25.usawe.org/event/nv-dia-de-los-muertos-schooling-show/
LOCATION:Broken Bit Ranch\, 124 Upper Colony Road\, Wellington\, NV\, 89444\, United States
CATEGORIES:All Schooling Shows,Region 2
ATTACH;FMTTYPE=image/jpeg:https://dev25.usawe.org/wp-content/uploads/2023/09/Dia-De-Los-Muertos-Schooling-Show-2023.jpg
ORGANIZER;CN="Jill Fry":MAILTO:brokenbitranch@earthlink.net
END:VEVENT
END:VCALENDAR