BEGIN:VCALENDAR
VERSION:2.0
PRODID:-//USA Working Equitation - ECPv6.15.20//NONSGML v1.0//EN
CALSCALE:GREGORIAN
METHOD:PUBLISH
X-ORIGINAL-URL:https://dev25.usawe.org
X-WR-CALDESC:Events for USA Working Equitation
REFRESH-INTERVAL;VALUE=DURATION:PT1H
X-Robots-Tag:noindex
X-PUBLISHED-TTL:PT1H
BEGIN:VTIMEZONE
TZID:America/Los_Angeles
BEGIN:DAYLIGHT
TZOFFSETFROM:-0800
TZOFFSETTO:-0700
TZNAME:PDT
DTSTART:20210314T100000
END:DAYLIGHT
BEGIN:STANDARD
TZOFFSETFROM:-0700
TZOFFSETTO:-0800
TZNAME:PST
DTSTART:20211107T090000
END:STANDARD
BEGIN:DAYLIGHT
TZOFFSETFROM:-0800
TZOFFSETTO:-0700
TZNAME:PDT
DTSTART:20220313T100000
END:DAYLIGHT
BEGIN:STANDARD
TZOFFSETFROM:-0700
TZOFFSETTO:-0800
TZNAME:PST
DTSTART:20221106T090000
END:STANDARD
BEGIN:DAYLIGHT
TZOFFSETFROM:-0800
TZOFFSETTO:-0700
TZNAME:PDT
DTSTART:20230312T100000
END:DAYLIGHT
BEGIN:STANDARD
TZOFFSETFROM:-0700
TZOFFSETTO:-0800
TZNAME:PST
DTSTART:20231105T090000
END:STANDARD
END:VTIMEZONE
BEGIN:VEVENT
DTSTART;VALUE=DATE:20220923
DTEND;VALUE=DATE:20220924
DTSTAMP:20260423T213649
CREATED:20220920T173538Z
LAST-MODIFIED:20220920T173538Z
UID:21638-1663891200-1663977599@dev25.usawe.org
SUMMARY:CA: Summer Fun WE Show Series Clinic with judge Amy Star
DESCRIPTION:Come ride with our judge Amy Star before the Summer Fun shows! Clinic is open to all riders\, not just those that are participating in the shows.
URL:https://dev25.usawe.org/event/ca-summer-fun-we-show-series-clinic-with-judge-amy-star/
LOCATION:Murieta Equestrian Center\, 7200 Lone Pine Drive\, Rancho Murieta\, CA\, 95683\, United States
CATEGORIES:All Clinics,Region 2
ORGANIZER;CN="Jessica Mosbaugh":MAILTO:jessicapph@aol.com
END:VEVENT
BEGIN:VEVENT
DTSTART;VALUE=DATE:20220918
DTEND;VALUE=DATE:20220919
DTSTAMP:20260423T213649
CREATED:20220823T154947Z
LAST-MODIFIED:20220823T154947Z
UID:21405-1663459200-1663545599@dev25.usawe.org
SUMMARY:CA: Working Equitation clinic with Jessica Mosbaugh at MarVal Stables!
DESCRIPTION:Please join us at the fabulous MarVal Stables as we explore the Ease of Handling obstacles and discuss navigation between the obstacles. MarVal has constructed a beautiful Working Equitation course!\nThis is a perfect clinic for those who are interested in an introduction to this exciting sport\, and it’s also a great opportunity to prepare for the upcoming Working Equitation shows August 13 September 24 and 25 at Rancho Murieta. Groups of 2-4 will ride for approximately 1.5-2 hours each. \nCost: $150 to ride. Auditors\, please leave a donation for our facility host. Please note\, there are no refunds after you sign up unless we can fill your spot. \nContact Jessica Mosbaugh Panighetti 510-755-3639
URL:https://dev25.usawe.org/event/ca-working-equitation-clinic-with-jessica-mosbaugh-at-marval-stables/
LOCATION:MarVal Stables\, 706 W. Lucas Road\, Lodi\, CA\, United States
CATEGORIES:All Clinics,Region 2
ORGANIZER;CN="Jessica Mosbaugh":MAILTO:jessicapph@aol.com
END:VEVENT
BEGIN:VEVENT
DTSTART;VALUE=DATE:20220918
DTEND;VALUE=DATE:20220919
DTSTAMP:20260423T213649
CREATED:20220525T041117Z
LAST-MODIFIED:20220525T041117Z
UID:20899-1663459200-1663545599@dev25.usawe.org
SUMMARY:CA: Working Equitation Play Days at Vinyard Oak Dressage
DESCRIPTION:A FUN\, no pressure\, and relaxed way to get started & to practice! \nWorking Equitation (WE) is a new and growing horse sport that combines dressage and obstacles to develop the partnership between horse and rider. It can be ridden in English\, Dressage\, or Western equipment and is open to horses of any breed and type. It is something new\, a great cross training for riders from any discipline\, and IT IS FUN! \nExisting and new clients welcome\, riders brand new to the sport very welcome! Groups of up to six riders are scheduled by skill level/experience and to adhere to social distancing. Two 1.5 hour morning sessions will be offered on each date. Test you and your horse’s skill\, build trust and communication\, and have a quality\, positive\, and fun experience riding in our beautiful regulation Working Equitation course. New & upgraded obstacles including our baby jump bank & water obstacle! \nDirected by Stacy Sutton\, Cost: $70. per rider/horse. 8am and 10 am sessions. An additional 1pm session can be added if participation allows.\nMUST PRE-REGISTER and registration is available on our Working Equitation page:\nwww.vineyardoakdressage.com \nPlay Day Dates: \n9/18/22\, 10/16/22
URL:https://dev25.usawe.org/event/ca-working-equitation-play-days-at-vinyard-oak-dressage-3/
LOCATION:Vinyard Oak Dressage\, 14101 Indio Drive\, Sloughhouse\, CA\, 95683\, United States
CATEGORIES:All Playdays,Region 2
ORGANIZER;CN="Stacy Sutton":MAILTO:vineyardoakdressage@yahoo.com
END:VEVENT
BEGIN:VEVENT
DTSTART;VALUE=DATE:20220821
DTEND;VALUE=DATE:20220822
DTSTAMP:20260423T213649
CREATED:20220525T041028Z
LAST-MODIFIED:20220525T041028Z
UID:20897-1661040000-1661126399@dev25.usawe.org
SUMMARY:CA: Working Equitation Play Days at Vinyard Oak Dressage
DESCRIPTION:A FUN\, no pressure\, and relaxed way to get started & to practice! \nWorking Equitation (WE) is a new and growing horse sport that combines dressage and obstacles to develop the partnership between horse and rider. It can be ridden in English\, Dressage\, or Western equipment and is open to horses of any breed and type. It is something new\, a great cross training for riders from any discipline\, and IT IS FUN! \nExisting and new clients welcome\, riders brand new to the sport very welcome! Groups of up to six riders are scheduled by skill level/experience and to adhere to social distancing. Two 1.5 hour morning sessions will be offered on each date. Test you and your horse’s skill\, build trust and communication\, and have a quality\, positive\, and fun experience riding in our beautiful regulation Working Equitation course. New & upgraded obstacles including our baby jump bank & water obstacle! \nDirected by Stacy Sutton\, Cost: $70. per rider/horse. 8am and 10 am sessions. An additional 1pm session can be added if participation allows.\nMUST PRE-REGISTER and registration is available on our Working Equitation page:\nwww.vineyardoakdressage.com \nPlay Day Dates: \n5/29/22\, 6/26/22\, 8/21/22\, 9/18/22\, 10/16/22
URL:https://dev25.usawe.org/event/ca-working-equitation-play-days-at-vinyard-oak-dressage-2/
LOCATION:Vinyard Oak Dressage\, 14101 Indio Drive\, Sloughhouse\, CA\, 95683\, United States
CATEGORIES:All Playdays,Region 2
ORGANIZER;CN="Stacy Sutton":MAILTO:vineyardoakdressage@yahoo.com
END:VEVENT
BEGIN:VEVENT
DTSTART;VALUE=DATE:20220814
DTEND;VALUE=DATE:20220815
DTSTAMP:20260423T213649
CREATED:20211102T234037Z
LAST-MODIFIED:20211102T234037Z
UID:10081-1660435200-1660521599@dev25.usawe.org
SUMMARY:CA: Summer Fun Working Equitation Show Series 2022 #6
DESCRIPTION:License #22-019 \nOffering L1-L7
URL:https://dev25.usawe.org/event/ca-summer-fun-working-equitation-show-series-2022-6/
LOCATION:Murieta Equestrian Center\, 7200 Lone Pine Drive\, Rancho Murieta\, CA\, 95683\, United States
CATEGORIES:Competitions (all),Region 2
ORGANIZER;CN="Jessica Mosbaugh":MAILTO:jessicapph@aol.com
END:VEVENT
BEGIN:VEVENT
DTSTART;VALUE=DATE:20220813
DTEND;VALUE=DATE:20220814
DTSTAMP:20260423T213649
CREATED:20211102T233901Z
LAST-MODIFIED:20211102T233901Z
UID:10079-1660348800-1660435199@dev25.usawe.org
SUMMARY:CA: Summer Fun Working Equitation Show Series 2022 #5
DESCRIPTION:Competition License #22-018 \nOffering L1-L7
URL:https://dev25.usawe.org/event/ca-summer-fun-working-equitation-show-series-2022-5/
LOCATION:Murieta Equestrian Center\, 7200 Lone Pine Drive\, Rancho Murieta\, CA\, 95683\, United States
CATEGORIES:Competitions (all),Region 2
ORGANIZER;CN="Jessica Mosbaugh":MAILTO:jessicapph@aol.com
END:VEVENT
BEGIN:VEVENT
DTSTART;TZID=America/Los_Angeles:20220807T080000
DTEND;TZID=America/Los_Angeles:20220807T170000
DTSTAMP:20260423T213649
CREATED:20220126T013735Z
LAST-MODIFIED:20220126T013735Z
UID:18981-1659859200-1659891600@dev25.usawe.org
SUMMARY:CA: PVRA Summer WE Show #2
DESCRIPTION:License#: 22-089
URL:https://dev25.usawe.org/event/ca-pvra-summer-we-show-2/
LOCATION:Poway Valley Riders Association\, 14336 Tierra Bonita Rd\, Poway\, CA\, 92064\, United States
CATEGORIES:Competitions (all),Region 2
ORGANIZER;CN="Janice Kall":MAILTO:workingequ@pvra.com
END:VEVENT
BEGIN:VEVENT
DTSTART;TZID=America/Los_Angeles:20220723T080000
DTEND;TZID=America/Los_Angeles:20220724T170000
DTSTAMP:20260423T213649
CREATED:20220324T010137Z
LAST-MODIFIED:20220324T010137Z
UID:20345-1658563200-1658682000@dev25.usawe.org
SUMMARY:CA: Wine Country Classic - Show #1 and Show #2
DESCRIPTION:Show #1 License#: 22-026-A \nShow #2 Licensed#: 22-026-B
URL:https://dev25.usawe.org/event/ca-wine-country-classic-show-1-and-show-2/
LOCATION:California Ranch Company\, 34520 de Portola Rd\, Temecula\, CA\, 92592\, United States
CATEGORIES:Competitions (all),Region 2
ORGANIZER;CN="Amanda Latta-Portillo":MAILTO:winecountryclassichorseshow@gmail.com
END:VEVENT
BEGIN:VEVENT
DTSTART;TZID=America/Los_Angeles:20220712T180000
DTEND;TZID=America/Los_Angeles:20220712T190000
DTSTAMP:20260423T213649
CREATED:20211001T054606Z
LAST-MODIFIED:20230921T105443Z
UID:8818-1657648800-1657652400@dev25.usawe.org
SUMMARY:Quarterly AO Networking Hour
DESCRIPTION:A meet and greet style networking meeting for the USAWE Affiliate Organization community. \nOpen to all Affiliate Organization members\, and anyone interested in starting an Affiliate Organization. Meet other USAWE Affiliate Organization leaders\, make friends\, share ideas\, be encouraged\, build community! This quarterly meeting is all about getting to know one another and strengthening the support you receive as an Affiliate Organization. Zoom meeting\, 6 pm Pacific Time on the second Tuesdays of these months: October\, January\, April\, and July. Email Affiliate Organization Program Coordinator for meeting invite link.
URL:https://dev25.usawe.org/event/quarterly-ao-networking-hour-5/
LOCATION:CA
CATEGORIES:Region 1,Region 2,Region 3,Region 4,Region 5,Region 6,Region 7
ORGANIZER;CN="Kristine Strasburger":MAILTO:neheartlandwe@gmail.com
END:VEVENT
BEGIN:VEVENT
DTSTART;VALUE=DATE:20220709
DTEND;VALUE=DATE:20220710
DTSTAMP:20260423T213649
CREATED:20220604T200454Z
LAST-MODIFIED:20220604T200558Z
UID:20955-1657324800-1657411199@dev25.usawe.org
SUMMARY:CA: Clinic
DESCRIPTION:Please join us as we begin to explore the Working Equitation Ease of Handling obstacles and discuss navigation between the obstacles. Jessica has competed successfully in Working Equitation since 2016. For more information please go to pph.weebly.com.\nGroups of 2-4 will ride for approximately 1.5-2 hours each. \nCost: $135 to ride. Auditors\, please leave a donation for our facility host
URL:https://dev25.usawe.org/event/ca-clinic-3/
LOCATION:Alexander’s Acres\, 7560 CA-193\, Georgetown\, CA\, United States
CATEGORIES:All Clinics,Region 2
ORGANIZER;CN="Jessica Mosbaugh":MAILTO:jessicapph@aol.com
END:VEVENT
BEGIN:VEVENT
DTSTART;VALUE=DATE:20220626
DTEND;VALUE=DATE:20220627
DTSTAMP:20260423T213649
CREATED:20220525T040944Z
LAST-MODIFIED:20220525T040944Z
UID:20895-1656201600-1656287999@dev25.usawe.org
SUMMARY:CA: Working Equitation Play Days at Vinyard Oak Dressage
DESCRIPTION:A FUN\, no pressure\, and relaxed way to get started & to practice! \nWorking Equitation (WE) is a new and growing horse sport that combines dressage and obstacles to develop the partnership between horse and rider. It can be ridden in English\, Dressage\, or Western equipment and is open to horses of any breed and type. It is something new\, a great cross training for riders from any discipline\, and IT IS FUN! \nExisting and new clients welcome\, riders brand new to the sport very welcome! Groups of up to six riders are scheduled by skill level/experience and to adhere to social distancing. Two 1.5 hour morning sessions will be offered on each date. Test you and your horse’s skill\, build trust and communication\, and have a quality\, positive\, and fun experience riding in our beautiful regulation Working Equitation course. New & upgraded obstacles including our baby jump bank & water obstacle! \nDirected by Stacy Sutton\, Cost: $70. per rider/horse. 8am and 10 am sessions. An additional 1pm session can be added if participation allows.\nMUST PRE-REGISTER and registration is available on our Working Equitation page:\nwww.vineyardoakdressage.com \nPlay Day Dates: \n6/26/22\, 8/21/22\, 9/18/22\, 10/16/22
URL:https://dev25.usawe.org/event/ca-working-equitation-play-days-at-vinyard-oak-dressage/
LOCATION:Vinyard Oak Dressage\, 14101 Indio Drive\, Sloughhouse\, CA\, 95683\, United States
CATEGORIES:All Playdays,Region 2
ORGANIZER;CN="Stacy Sutton":MAILTO:vineyardoakdressage@yahoo.com
END:VEVENT
BEGIN:VEVENT
DTSTART;TZID=America/Los_Angeles:20220624T080000
DTEND;TZID=America/Los_Angeles:20220626T170000
DTSTAMP:20260423T213649
CREATED:20220124T200155Z
LAST-MODIFIED:20220124T200155Z
UID:18901-1656057600-1656262800@dev25.usawe.org
SUMMARY:CA:  Summer ECF WE Series #3
DESCRIPTION:License# 22-086
URL:https://dev25.usawe.org/event/ca-summer-ecf-we-series-3/
LOCATION:El Campeón Farms\, 999 W. Potrero Rd.\, Thousand Oaks\, CA\, 91361\, United States
CATEGORIES:Competitions (all),Region 2
ORGANIZER;CN="Christy Reich":MAILTO:creich@elcampeonfarms.com
END:VEVENT
BEGIN:VEVENT
DTSTART;VALUE=DATE:20220624
DTEND;VALUE=DATE:20220627
DTSTAMP:20260423T213649
CREATED:20211102T233408Z
LAST-MODIFIED:20220124T200015Z
UID:10073-1656028800-1656287999@dev25.usawe.org
SUMMARY:CA: ECF STARS AND STRIPES WE SHOW SERIES #4
DESCRIPTION:License #22-015 \nOffering L1-L7 \n 
URL:https://dev25.usawe.org/event/ca-ecf-stars-and-stripes-we-show-series-4/
LOCATION:El Campeón Farms\, 999 W. Potrero Rd.\, Thousand Oaks\, CA\, 91361\, United States
CATEGORIES:Competitions (all),Region 2
ORGANIZER;CN="Christy Reich":MAILTO:creich@elcampeonfarms.com
END:VEVENT
BEGIN:VEVENT
DTSTART;TZID=America/Los_Angeles:20220612T080000
DTEND;TZID=America/Los_Angeles:20220612T170000
DTSTAMP:20260423T213649
CREATED:20211102T234320Z
LAST-MODIFIED:20220118T003845Z
UID:10085-1655020800-1655053200@dev25.usawe.org
SUMMARY:CA: Summer Fun Working Equitation Show Series 2022 #4
DESCRIPTION:License #22-080 \nOffering L1-L7
URL:https://dev25.usawe.org/event/ca-summer-fun-working-equitation-show-series-2022-4/
LOCATION:Murieta Equestrian Center\, 7200 Lone Pine Drive\, Rancho Murieta\, CA\, 95683\, United States
CATEGORIES:Competitions (all),Region 2
ORGANIZER;CN="Jessica Mosbaugh":MAILTO:jessicapph@aol.com
END:VEVENT
BEGIN:VEVENT
DTSTART;TZID=America/Los_Angeles:20220611T080000
DTEND;TZID=America/Los_Angeles:20220611T170000
DTSTAMP:20260423T213649
CREATED:20211102T234150Z
LAST-MODIFIED:20220118T003749Z
UID:10083-1654934400-1654966800@dev25.usawe.org
SUMMARY:CA: Summer Fun Working Equitation Show Series 2022 #3
DESCRIPTION:License #22-079 \nOffering L1-L7
URL:https://dev25.usawe.org/event/ca-summer-fun-working-equitation-show-series-2022-3/
LOCATION:Murieta Equestrian Center\, 7200 Lone Pine Drive\, Rancho Murieta\, CA\, 95683\, United States
CATEGORIES:Competitions (all),Region 2
ORGANIZER;CN="Jessica Mosbaugh":MAILTO:jessicapph@aol.com
END:VEVENT
BEGIN:VEVENT
DTSTART;VALUE=DATE:20220611
DTEND;VALUE=DATE:20220612
DTSTAMP:20260423T213649
CREATED:20220524T021915Z
LAST-MODIFIED:20220524T224339Z
UID:20871-1654905600-1654991999@dev25.usawe.org
SUMMARY:CA: Working Equitation Workshop
DESCRIPTION:Working Equitation Workshop with Kathleen Elliott\n8:00 am to 11:00 am Dressage\n12:00 pm Lunch\n1:00 pm Obstacle Courses\nLimited Participants\n$165 includes deposit and Lunch\n$50 Deposit\n43475 Tenaja Road\nMurrieta\, CA\nKathleen Elliott\nARIA Certified Trainer\nUSEF Licensed Western Dressage Judge (r)\nWww.westerndressagetrainer.com\nph 951-288-0521
URL:https://dev25.usawe.org/event/ca-working-equitation-workshop/
LOCATION:Oaks Ranch\, 43475 Tenaja Rd\, Murrieta\, CA\, United States
CATEGORIES:All Clinics,Region 2
ATTACH;FMTTYPE=image/jpeg:https://dev25.usawe.org/wp-content/uploads/2022/05/CA-Clinic_June-2022-scaled.jpg
ORGANIZER;CN="Kathleen Elliott":MAILTO:Kathleendressagetrainer@gmail.com
END:VEVENT
BEGIN:VEVENT
DTSTART;TZID=America/Los_Angeles:20220605T080000
DTEND;TZID=America/Los_Angeles:20220605T170000
DTSTAMP:20260423T213649
CREATED:20220126T013622Z
LAST-MODIFIED:20220126T013622Z
UID:18978-1654416000-1654448400@dev25.usawe.org
SUMMARY:CA:  PVRA Summer WE Show #1
DESCRIPTION:License#: 22-088
URL:https://dev25.usawe.org/event/ca-pvra-summer-we-show-1/
LOCATION:Poway Valley Riders Association\, 14336 Tierra Bonita Rd\, Poway\, CA\, 92064\, United States
CATEGORIES:Competitions (all),Region 2
ORGANIZER;CN="Janice Kall":MAILTO:workingequ@pvra.com
END:VEVENT
BEGIN:VEVENT
DTSTART;VALUE=DATE:20220605
DTEND;VALUE=DATE:20220606
DTSTAMP:20260423T213649
CREATED:20220604T200641Z
LAST-MODIFIED:20220604T200641Z
UID:20959-1654387200-1654473599@dev25.usawe.org
SUMMARY:CA: Clinic
DESCRIPTION:Please join us at the fabulous MarVal Stables as we explore the Ease of Handling obstacles and discuss navigation between the obstacles. MarVal has constructed a beautiful Working Equitation course!\nThis is a perfect clinic for those who are interested in an introduction to this exciting sport\, and it’s also a great opportunity to prepare for the upcoming Working Equitation shows June 11-12 at Rancho Murieta. Groups of 2-4 will ride for approximately 1.5-2 hours each. \nCost: $150 to ride. Auditors\, please leave a donation for our facility host
URL:https://dev25.usawe.org/event/ca-clinic-4/
LOCATION:CA
CATEGORIES:All Clinics,Region 2
ORGANIZER;CN="Jessica Mosbaugh":MAILTO:jessicapph@aol.com
END:VEVENT
BEGIN:VEVENT
DTSTART;VALUE=DATE:20220604
DTEND;VALUE=DATE:20220606
DTSTAMP:20260423T213649
CREATED:20220110T233608Z
LAST-MODIFIED:20220110T233608Z
UID:18119-1654300800-1654473599@dev25.usawe.org
SUMMARY:AZ: Rim Riders Late Spring WE Show
DESCRIPTION:License# 22-071
URL:https://dev25.usawe.org/event/az-rim-riders-late-spring-we-show/
LOCATION:Patterson Training LLC\, 272 S Sprague Dr\, Star Valley\, AZ\, 85541\, United States
CATEGORIES:Competitions (all),Region 2
END:VEVENT
BEGIN:VEVENT
DTSTART;VALUE=DATE:20220604
DTEND;VALUE=DATE:20220605
DTSTAMP:20260423T213649
CREATED:20220604T200216Z
LAST-MODIFIED:20220604T200216Z
UID:20952-1654300800-1654387199@dev25.usawe.org
SUMMARY:CA: Clinic
DESCRIPTION:Please join us at the fabulous MarVal Stables as we explore the Ease of Handling obstacles and discuss navigation between the obstacles. MarVal has constructed a beautiful Working Equitation course!\nThis is a perfect clinic for those who are interested in an introduction to this exciting sport\, and it’s also a great opportunity to prepare for the upcoming Working Equitation shows June 11-12 at Rancho Murieta. Groups of 2-4 will ride for approximately 1.5-2 hours each. \nCost: $150 to ride. Auditors\, please leave a donation for our facility host
URL:https://dev25.usawe.org/event/ca-clinic-2/
LOCATION:MarVal Stables\, 706 W. Lucas Road\, Lodi\, CA\, United States
CATEGORIES:All Clinics,Region 2
ATTACH;FMTTYPE=image/png:https://dev25.usawe.org/wp-content/uploads/2022/03/USAWE-WesternZone2.png
ORGANIZER;CN="Jessica Mosbaugh":MAILTO:jessicapph@aol.com
END:VEVENT
BEGIN:VEVENT
DTSTART;VALUE=DATE:20220529
DTEND;VALUE=DATE:20220530
DTSTAMP:20260423T213649
CREATED:20220525T040826Z
LAST-MODIFIED:20220525T040826Z
UID:20891-1653782400-1653868799@dev25.usawe.org
SUMMARY:CA: Working Equitation Play Days at Vineyard Oak Dressage
DESCRIPTION:A FUN\, no pressure\, and relaxed way to get started & to practice! \nWorking Equitation (WE) is a new and growing horse sport that combines dressage and obstacles to develop the partnership between horse and rider. It can be ridden in English\, Dressage\, or Western equipment and is open to horses of any breed and type. It is something new\, a great cross training for riders from any discipline\, and IT IS FUN! \nExisting and new clients welcome\, riders brand new to the sport very welcome! Groups of up to six riders are scheduled by skill level/experience and to adhere to social distancing. Two 1.5 hour morning sessions will be offered on each date. Test you and your horse’s skill\, build trust and communication\, and have a quality\, positive\, and fun experience riding in our beautiful regulation Working Equitation course. New & upgraded obstacles including our baby jump bank & water obstacle! \nDirected by Stacy Sutton\, Cost: $70. per rider/horse. 8am and 10 am sessions. An additional 1pm session can be added if participation allows.\nMUST PRE-REGISTER and registration is available on our Working Equitation page:\nwww.vineyardoakdressage.com \nPlay Day Dates: \n5/29/22\, 6/26/22\, 8/21/22\, 9/18/22\, 10/16/22
URL:https://dev25.usawe.org/event/ca-working-equitation-play-days-at-vineyard-oak-dressage/
LOCATION:Vinyard Oak Dressage\, 14101 Indio Drive\, Sloughhouse\, CA\, 95683\, United States
CATEGORIES:All Playdays,Region 2
ORGANIZER;CN="Stacy Sutton":MAILTO:vineyardoakdressage@yahoo.com
END:VEVENT
BEGIN:VEVENT
DTSTART;VALUE=DATE:20220508
DTEND;VALUE=DATE:20220509
DTSTAMP:20260423T213649
CREATED:20211102T233731Z
LAST-MODIFIED:20211102T233731Z
UID:10077-1651968000-1652054399@dev25.usawe.org
SUMMARY:CA: Summer Fun Working Equitation Show Series 2022 #2
DESCRIPTION:License #22-017 \nOffering L1-L7
URL:https://dev25.usawe.org/event/ca-summer-fun-working-equitation-show-series-2022-2/
LOCATION:Murieta Equestrian Center\, 7200 Lone Pine Drive\, Rancho Murieta\, CA\, 95683\, United States
CATEGORIES:Competitions (all),Region 2
ORGANIZER;CN="Jessica Mosbaugh":MAILTO:jessicapph@aol.com
END:VEVENT
BEGIN:VEVENT
DTSTART;TZID=America/Los_Angeles:20220507T080000
DTEND;TZID=America/Los_Angeles:20220507T170000
DTSTAMP:20260423T213649
CREATED:20220325T234207Z
LAST-MODIFIED:20220325T234207Z
UID:20384-1651910400-1651942800@dev25.usawe.org
SUMMARY:AZ:  AZWEC Hot to Trot Show
DESCRIPTION:License#:: 22-098
URL:https://dev25.usawe.org/event/az-azwec-hot-to-trot-show/
LOCATION:J6 Equestrian Center\, 3036 W Williams Rd\, Benson\, AZ\, 85602\, United States
CATEGORIES:Competitions (all),Region 2
ATTACH;FMTTYPE=image/png:https://dev25.usawe.org/wp-content/uploads/2022/01/AZWEC.png
ORGANIZER;CN="Amy Star":MAILTO:AmyStarLusitanos@gmail.com
END:VEVENT
BEGIN:VEVENT
DTSTART;VALUE=DATE:20220507
DTEND;VALUE=DATE:20220508
DTSTAMP:20260423T213649
CREATED:20211102T233625Z
LAST-MODIFIED:20211102T233625Z
UID:10075-1651881600-1651967999@dev25.usawe.org
SUMMARY:CA: Summer Fun Working Equitation Show Series 2022 #1
DESCRIPTION:License #22-016 \nOffering L1-L7
URL:https://dev25.usawe.org/event/ca-summer-fun-working-equitation-show-series-2022-1/
LOCATION:Murieta Equestrian Center\, 7200 Lone Pine Drive\, Rancho Murieta\, CA\, 95683\, United States
CATEGORIES:Competitions (all),Region 2
ORGANIZER;CN="Jessica Mosbaugh":MAILTO:jessicapph@aol.com
END:VEVENT
BEGIN:VEVENT
DTSTART;VALUE=DATE:20220424
DTEND;VALUE=DATE:20220425
DTSTAMP:20260423T213649
CREATED:20211102T233202Z
LAST-MODIFIED:20211102T233202Z
UID:10069-1650758400-1650844799@dev25.usawe.org
SUMMARY:CA: ECF WORKING EQUITATION SERIES #2
DESCRIPTION:License #22-013 \n\Offering L1-L7
URL:https://dev25.usawe.org/event/ca-ecf-working-equitation-series-2/
LOCATION:El Campeón Farms\, 999 W. Potrero Rd.\, Thousand Oaks\, CA\, 91361\, United States
CATEGORIES:Competitions (all),Region 2
ORGANIZER;CN="Christy Reich":MAILTO:creich@elcampeonfarms.com
END:VEVENT
BEGIN:VEVENT
DTSTART;VALUE=DATE:20220423
DTEND;VALUE=DATE:20220424
DTSTAMP:20260423T213649
CREATED:20211102T232918Z
LAST-MODIFIED:20211102T232918Z
UID:10067-1650672000-1650758399@dev25.usawe.org
SUMMARY:CA: ECF WORKING EQUITATION SERIES #1
DESCRIPTION:License #22-012 \nOffering L1-L7 \n 
URL:https://dev25.usawe.org/event/ca-ecf-working-equitation-series-1/
LOCATION:El Campeón Farms\, 999 W. Potrero Rd.\, Thousand Oaks\, CA\, 91361\, United States
CATEGORIES:Competitions (all),Region 2
ORGANIZER;CN="Christy Reich":MAILTO:creich@elcampeonfarms.com
END:VEVENT
BEGIN:VEVENT
DTSTART;TZID=America/Los_Angeles:20220416T080000
DTEND;TZID=America/Los_Angeles:20220417T170000
DTSTAMP:20260423T213649
CREATED:20220221T232802Z
LAST-MODIFIED:20220221T232802Z
UID:19669-1650096000-1650214800@dev25.usawe.org
SUMMARY:AZ:  AZWEC April WE Show
DESCRIPTION:License#: 22-096
URL:https://dev25.usawe.org/event/az-azwec-april-we-show/
LOCATION:Unforgiven Ranch\, Kingman\, AZ\, United States
CATEGORIES:Competitions (all),Region 2
ATTACH;FMTTYPE=image/png:https://dev25.usawe.org/wp-content/uploads/2022/01/AZWEC.png
ORGANIZER;CN="Joy Chadsey":MAILTO:joy7@aol.com
END:VEVENT
BEGIN:VEVENT
DTSTART;TZID=America/Los_Angeles:20220412T180000
DTEND;TZID=America/Los_Angeles:20220412T190000
DTSTAMP:20260423T213649
CREATED:20211001T053905Z
LAST-MODIFIED:20211001T053905Z
UID:8812-1649786400-1649790000@dev25.usawe.org
SUMMARY:Quarterly AO Networking Hour
DESCRIPTION:A meet and greet style networking meeting for the USAWE Affiliate Organization community. \nOpen to all Affiliate Organization members\, and anyone interested in starting an Affiliate Organization.  Meet other USAWE Affiliate Organization leaders\, make friends\, share ideas\, be encouraged\, build community! This quarterly meeting is all about getting to know one another and strengthening the support you receive as an Affiliate Organization. Zoom meeting\, 6 pm Pacific Time on the second Tuesdays of these months: October\, January\, April\, and July.  Email Affiliate Organization Program Coordinator for meeting invite link.
URL:https://dev25.usawe.org/event/quarterly-ao-networking-hour-2/
LOCATION:CA
CATEGORIES:Region 1,Region 2,Region 3,Region 4,Region 5,Region 6,Region 7
ORGANIZER;CN="Kristine Strasburger":MAILTO:neheartlandwe@gmail.com
END:VEVENT
BEGIN:VEVENT
DTSTART;TZID=America/Los_Angeles:20220410T080000
DTEND;TZID=America/Los_Angeles:20220410T170000
DTSTAMP:20260423T213649
CREATED:20220128T042634Z
LAST-MODIFIED:20220317T225638Z
UID:19123-1649577600-1649610000@dev25.usawe.org
SUMMARY:CA:  PVRA Spring WE Show - CANCELLED
DESCRIPTION:License#: 22-092 – CANCELLED 3/17/22 DUE TO EHV-1 outbreak in California
URL:https://dev25.usawe.org/event/ca-pvra-spring-we-show/
LOCATION:Poway Valley Riders Association\, 14336 Tierra Bonita Rd\, Poway\, CA\, 92064\, United States
CATEGORIES:Competitions (all),Region 2
ATTACH;FMTTYPE=image/jpeg:https://dev25.usawe.org/wp-content/uploads/2022/01/PVRA.jpg
ORGANIZER;CN="Janice Kall":MAILTO:workingequ@pvra.com
END:VEVENT
BEGIN:VEVENT
DTSTART;VALUE=DATE:20220410
DTEND;VALUE=DATE:20220411
DTSTAMP:20260423T213649
CREATED:20220304T214703Z
LAST-MODIFIED:20220304T214703Z
UID:20042-1649548800-1649635199@dev25.usawe.org
SUMMARY:CA: Fuzzy Wuzzy No Frills Working Equitation Schooling Show
DESCRIPTION:This Schooling Show is open to all levels. Judge: Bailey Yee \nClasses will be scored but not placed. Special awards will be given to the Highest Dressage score\, Highest EOH score\, and Fasted Speed Round.
URL:https://dev25.usawe.org/event/ca-fuzzy-wuzzy-no-frills-working-equitation-schooling-show/
LOCATION:20606 E. Acampo Rd\, Clements\, CA\, 20606 E. Acampo Rd\, Acampo\, CA\, United States
CATEGORIES:All Schooling Shows,Region 2
ORGANIZER;CN="Jessica Mosbaugh":MAILTO:jessicapph@aol.com
END:VEVENT
END:VCALENDAR