BEGIN:VCALENDAR
VERSION:2.0
PRODID:-//USA Working Equitation - ECPv6.15.20//NONSGML v1.0//EN
CALSCALE:GREGORIAN
METHOD:PUBLISH
X-WR-CALNAME:USA Working Equitation
X-ORIGINAL-URL:https://dev25.usawe.org
X-WR-CALDESC:Events for USA Working Equitation
REFRESH-INTERVAL;VALUE=DURATION:PT1H
X-Robots-Tag:noindex
X-PUBLISHED-TTL:PT1H
BEGIN:VTIMEZONE
TZID:America/Los_Angeles
BEGIN:DAYLIGHT
TZOFFSETFROM:-0800
TZOFFSETTO:-0700
TZNAME:PDT
DTSTART:20230312T100000
END:DAYLIGHT
BEGIN:STANDARD
TZOFFSETFROM:-0700
TZOFFSETTO:-0800
TZNAME:PST
DTSTART:20231105T090000
END:STANDARD
BEGIN:DAYLIGHT
TZOFFSETFROM:-0800
TZOFFSETTO:-0700
TZNAME:PDT
DTSTART:20240310T100000
END:DAYLIGHT
BEGIN:STANDARD
TZOFFSETFROM:-0700
TZOFFSETTO:-0800
TZNAME:PST
DTSTART:20241103T090000
END:STANDARD
BEGIN:DAYLIGHT
TZOFFSETFROM:-0800
TZOFFSETTO:-0700
TZNAME:PDT
DTSTART:20250309T100000
END:DAYLIGHT
BEGIN:STANDARD
TZOFFSETFROM:-0700
TZOFFSETTO:-0800
TZNAME:PST
DTSTART:20251102T090000
END:STANDARD
BEGIN:DAYLIGHT
TZOFFSETFROM:-0800
TZOFFSETTO:-0700
TZNAME:PDT
DTSTART:20260308T100000
END:DAYLIGHT
BEGIN:STANDARD
TZOFFSETFROM:-0700
TZOFFSETTO:-0800
TZNAME:PST
DTSTART:20261101T090000
END:STANDARD
END:VTIMEZONE
BEGIN:VEVENT
DTSTART;VALUE=DATE:20251206
DTEND;VALUE=DATE:20251208
DTSTAMP:20260421T043453
CREATED:20250528T181754Z
LAST-MODIFIED:20250528T181754Z
UID:43000-1764979200-1765151999@dev25.usawe.org
SUMMARY:AZ: (25-139) (25-140) AZWEC Fall Sonoita Show & State Finals
DESCRIPTION:License#(s): 25-139 \nShow Name(s):  AZWEC Fall Sonoita Show \nShow Date(s):  12/6/2025 \nLocation: \n\n\n\n\n\n\n\nSanta Cruz County Fairgrounds\nSonoita\nAZ\n\n\n\nJudge: Sarah Pinney and Marie Maloney \nTD: Joy Chadsey \nGate Steward: Susie Taylor \nShow Manager: Amy Star and Karen Anderson \nLicense#(s): 25-140 \nShow Name(s): AZWEC State Finals \nShow Date(s):  12/7/2025 \nLocation: \n\n\n\n\n\n\n\nSanta Cruz County Fairgrounds\nSonoita\nAZ\n\n\n\nJudge: Sarah Pinney and Marie Maloney \nTD: Joy Chadsey \nGate Steward: Suzie Taylor \nShow Manager Amy Star and Karen Anderson
URL:https://dev25.usawe.org/event/az-25-139-25-140-azwec-fall-sonoita-show-state-finals/
LOCATION:Santa Cruz County Fairgrounds\, Sonita\, AZ\, United States
CATEGORIES:Competitions (all),Region 2
ORGANIZER;CN="Amy Star":MAILTO:AmyStarLusitanos@gmail.com
END:VEVENT
BEGIN:VEVENT
DTSTART;VALUE=DATE:20251108
DTEND;VALUE=DATE:20251110
DTSTAMP:20260421T043453
CREATED:20241126T210321Z
LAST-MODIFIED:20241126T210321Z
UID:40921-1762560000-1762732799@dev25.usawe.org
SUMMARY:CA: (25-017) (25-018) El Campeon Farms WE #5 & #6
DESCRIPTION:
URL:https://dev25.usawe.org/event/ca-25-017-25-018-el-campeon-farms-we-5-6/
LOCATION:El Campeón Farms\, 999 W. Potrero Rd.\, Thousand Oaks\, CA\, 91361\, United States
CATEGORIES:Competitions (all),Region 2
ORGANIZER;CN="Christy Reich":MAILTO:creich@elcampeonfarms.com
END:VEVENT
BEGIN:VEVENT
DTSTART;VALUE=DATE:20251018
DTEND;VALUE=DATE:20251020
DTSTAMP:20260421T043453
CREATED:20250813T212537Z
LAST-MODIFIED:20250813T212537Z
UID:43448-1760745600-1760918399@dev25.usawe.org
SUMMARY:CA: Rawking Horse Ranch Halloween Clinic & Schooling Show
DESCRIPTION:Saturday Clinic with Ali Kermeen. Sunday Schooling Show with Judge Kelly Krambs. Costumes encouraged!
URL:https://dev25.usawe.org/event/ca-rawking-horse-ranch-halloween-clinic-schooling-show/
LOCATION:Rawking Horse Ranch\, Briones\, CA\, United States
CATEGORIES:All Clinics,All Schooling Shows,Region 2
ORGANIZER;CN="Ali Kermeen":MAILTO:alikermeen@gmail.com
END:VEVENT
BEGIN:VEVENT
DTSTART;VALUE=DATE:20251010
DTEND;VALUE=DATE:20251013
DTSTAMP:20260421T043453
CREATED:20250108T193320Z
LAST-MODIFIED:20250108T193320Z
UID:41528-1760054400-1760313599@dev25.usawe.org
SUMMARY:CA: (25-071) USAWE Region 2 Championship
DESCRIPTION:
URL:https://dev25.usawe.org/event/ca-25-071-usawe-region-2-championship/
LOCATION:California Ranch Company\, 34520 de Portola Rd\, Temecula\, CA\, 92592\, United States
CATEGORIES:Competitions (all),Region 2
ORGANIZER;CN="Amanda Latta":MAILTO:winecountryclassichorseshow@gmail.com
END:VEVENT
BEGIN:VEVENT
DTSTART;VALUE=DATE:20251010
DTEND;VALUE=DATE:20251013
DTSTAMP:20260421T043453
CREATED:20241126T205815Z
LAST-MODIFIED:20241126T205815Z
UID:40913-1760054400-1760313599@dev25.usawe.org
SUMMARY:CA: USAWE R2 Championship
DESCRIPTION:Look for more information on the USAWE website in the spring.
URL:https://dev25.usawe.org/event/ca-usawe-r2-championship/
LOCATION:California Ranch Company\, 34520 de Portola Rd\, Temecula\, CA\, 92592\, United States
CATEGORIES:Competitions (all),Region 2
ORGANIZER;CN="Amanda Latta":MAILTO:winecountryclassichorseshow@gmail.com
END:VEVENT
BEGIN:VEVENT
DTSTART;VALUE=DATE:20250920
DTEND;VALUE=DATE:20250922
DTSTAMP:20260421T043453
CREATED:20250404T043704Z
LAST-MODIFIED:20250404T043758Z
UID:42553-1758326400-1758499199@dev25.usawe.org
SUMMARY:AZ: (25-120) (25-121) Rim Rider WE Show #3 & #4
DESCRIPTION:License#(s): 25-120 and 25-121\nShow Name(s): Rim Rider WE show #3 & #4\nShow Date(s): 9/20/2025 & 9/21/2025\nLocation: Payson Event Center\, Payson\, AZ\nJudge: Andre Ganc\nTD: Joy Chadsey\nGate Steward: Candace Berry\nShow Manager: Victoria Clayton and Tessa Nicolet
URL:https://dev25.usawe.org/event/az-25-120-25-121-rim-rider-we-show-3-4/
LOCATION:Payson Event Center\, Payson\, AZ\, United States
CATEGORIES:Competitions (all),Region 2
END:VEVENT
BEGIN:VEVENT
DTSTART;VALUE=DATE:20250914
DTEND;VALUE=DATE:20250915
DTSTAMP:20260421T043453
CREATED:20250404T045525Z
LAST-MODIFIED:20250404T045525Z
UID:42558-1757808000-1757894399@dev25.usawe.org
SUMMARY:CA: (25-114) PVRA Fall USAWE Show
DESCRIPTION:License#(s): 25-114\nShow Name: PVRA Fall USAWE Show\nPoway Valley Riders Association\nJudge: Sarah Pinney\, “R”\nShow Manager: Janice Kall
URL:https://dev25.usawe.org/event/ca-25-114-pvra-fall-usawe-show/
LOCATION:Poway Valley Riders Association\, 14336 Tierra Bonita Rd\, Poway\, CA\, 92064\, United States
CATEGORIES:Competitions (all),Region 2
ORGANIZER;CN="Janice Kall":MAILTO:workingequ@pvra.com
END:VEVENT
BEGIN:VEVENT
DTSTART;VALUE=DATE:20250914
DTEND;VALUE=DATE:20250915
DTSTAMP:20260421T043453
CREATED:20250106T052120Z
LAST-MODIFIED:20250106T052120Z
UID:41424-1757808000-1757894399@dev25.usawe.org
SUMMARY:CA: Equinox Schooling Show\, judged by Kelly Krambs (L)
DESCRIPTION:Schooling show for L1-L7.
URL:https://dev25.usawe.org/event/ca-equinox-schooling-show-judged-by-kelly-krambs-l/
LOCATION:Santa Cruz Horseman’s Association\, 1251 Graham Hill Rd\, Santa Cruz\, CA\, 95060\, United States
CATEGORIES:All Schooling Shows,Region 2
ORGANIZER;CN="Ali Kermeen":MAILTO:alikermeen@gmail.com
END:VEVENT
BEGIN:VEVENT
DTSTART;VALUE=DATE:20250913
DTEND;VALUE=DATE:20250915
DTSTAMP:20260421T043453
CREATED:20250501T014445Z
LAST-MODIFIED:20250501T014445Z
UID:42709-1757721600-1757894399@dev25.usawe.org
SUMMARY:CA: (25-135) (25-136) BAWE Equinox #1 & #2
DESCRIPTION:License#(s): 25-135 \nShow Name(s): BAWE Equinox #1 \nShow Date(s):  9/13/2024 \nLocation: Santa Cruz County Horsemen’s Association\, Santa Cruz\, CA \nJudge: Kim Roe \nTD: Julie Alonzo \nGate Steward: TBD \nShow Manager: Ali Kermeen (Darren Hawks Alternate) \nLicense#(s): 25-136 \nShow Name(s): BAWE Equinox #2 \nShow Date(s):  9/14/2024 \nLocation: Santa Cruz County Horsemen’s Association\, Santa Cruz\, CA \nJudge: Kim Roe \nTD: Julie Alonzo \nGate Steward: TBD \nShow Manager: Ali Kermeen (Darren Hawks Alternate)
URL:https://dev25.usawe.org/event/ca-25-135-25-136-bawe-equinox-1-2/
LOCATION:Santa Cruz Horseman’s Association\, 1251 Graham Hill Rd\, Santa Cruz\, CA\, 95060\, United States
CATEGORIES:Competitions (all),Region 2
ORGANIZER;CN="Ali Kermeen":MAILTO:alikermeen@gmail.com
END:VEVENT
BEGIN:VEVENT
DTSTART;VALUE=DATE:20250913
DTEND;VALUE=DATE:20250914
DTSTAMP:20260421T043453
CREATED:20250106T051924Z
LAST-MODIFIED:20250106T051954Z
UID:41422-1757721600-1757807999@dev25.usawe.org
SUMMARY:CA: Dressage and EOH clinic with Ali Kermeen and Kelly Krambs
DESCRIPTION:
URL:https://dev25.usawe.org/event/ca-dressage-and-eoh-clinic-with-ali-kermeen-and-kelly-krambs/
LOCATION:Santa Cruz Horseman’s Association\, 1251 Graham Hill Rd\, Santa Cruz\, CA\, 95060\, United States
CATEGORIES:All Clinics,Region 2
ORGANIZER;CN="Ali Kermeen":MAILTO:alikermeen@gmail.com
END:VEVENT
BEGIN:VEVENT
DTSTART;VALUE=DATE:20250830
DTEND;VALUE=DATE:20250901
DTSTAMP:20260421T043453
CREATED:20250614T170703Z
LAST-MODIFIED:20250614T171015Z
UID:43133-1756512000-1756684799@dev25.usawe.org
SUMMARY:CA: (25-144) (25-145)
DESCRIPTION:Wine Country Classic Labor Day Show #1 and #2! \nSummerhill Equestrian Center\, Santa Clarita\, CA \nContact Amanda Latta for more information.
URL:https://dev25.usawe.org/event/ca-25-144-25-145/
LOCATION:Summerhill
CATEGORIES:Competitions (all),Region 2
ORGANIZER;CN="Amanda Latta":MAILTO:winecountryclassichorseshow@gmail.com
END:VEVENT
BEGIN:VEVENT
DTSTART;VALUE=DATE:20250802
DTEND;VALUE=DATE:20250804
DTSTAMP:20260421T043453
CREATED:20250607T183848Z
LAST-MODIFIED:20250607T183848Z
UID:43050-1754092800-1754265599@dev25.usawe.org
SUMMARY:CA: (25-142) (25-143) Wine Country Classic WE Show
DESCRIPTION:License#(s): 25-142 \, 25-143 \nShow Name(s): Wine Country Classic WE Show \nShow Date(s): 8/2/25 – 8/3/25 \nLocation: Rancho Descanso \nJudge: Barbara Price ‘R’ \nTD: Jill Mahdessian \nGate Steward: Josh Asbil \nShow Manager: Amanda Latta
URL:https://dev25.usawe.org/event/ca-25-142-25-143-wine-country-classic-we-show/
LOCATION:Rancho Descanso\, 29748 Valley Center Rd (call for directions)\, Valley Center\, CA\, United States
CATEGORIES:Competitions (all),Region 2
ORGANIZER;CN="Amanda Latta":MAILTO:winecountryclassichorseshow@gmail.com
END:VEVENT
BEGIN:VEVENT
DTSTART;VALUE=DATE:20250719
DTEND;VALUE=DATE:20250721
DTSTAMP:20260421T043453
CREATED:20250108T194140Z
LAST-MODIFIED:20250108T194140Z
UID:41535-1752883200-1753055999@dev25.usawe.org
SUMMARY:CA: (25-076) & (25-077) Wine Country Classic - Christmas in July #1 & #2
DESCRIPTION:
URL:https://dev25.usawe.org/event/ca-25-076-25-077-wine-country-classic-christmas-in-july-1-2/
LOCATION:Kathleen Elliott’s Equestrian Center
CATEGORIES:Competitions (all),Region 2
ORGANIZER;CN="Amanda Latta":MAILTO:winecountryclassichorseshow@gmail.com
END:VEVENT
BEGIN:VEVENT
DTSTART;VALUE=DATE:20250622
DTEND;VALUE=DATE:20250623
DTSTAMP:20260421T043453
CREATED:20250106T051744Z
LAST-MODIFIED:20250106T051744Z
UID:41420-1750550400-1750636799@dev25.usawe.org
SUMMARY:CA: Summer Solstice Schooling Show
DESCRIPTION:Schooling Show for L1 – L7!
URL:https://dev25.usawe.org/event/ca-summer-solstice-schooling-show/
LOCATION:Santa Cruz Horseman’s Association\, 1251 Graham Hill Rd\, Santa Cruz\, CA\, 95060\, United States
CATEGORIES:All Schooling Shows,Region 2
ORGANIZER;CN="Ali Kermeen":MAILTO:alikermeen@gmail.com
END:VEVENT
BEGIN:VEVENT
DTSTART;VALUE=DATE:20250621
DTEND;VALUE=DATE:20250623
DTSTAMP:20260421T043453
CREATED:20241126T203802Z
LAST-MODIFIED:20241126T203802Z
UID:40893-1750464000-1750636799@dev25.usawe.org
SUMMARY:CA: (25-015) (25-021) ECF WE Summer Classic #1 & WE #4
DESCRIPTION:
URL:https://dev25.usawe.org/event/ca-25-015-25-021-ecf-we-summer-classic-1-we-4/
LOCATION:El Campeón Farms\, 999 W. Potrero Rd.\, Thousand Oaks\, CA\, 91361\, United States
CATEGORIES:Competitions (all),Region 2
ORGANIZER;CN="Christy Reich":MAILTO:creich@elcampeonfarms.com
END:VEVENT
BEGIN:VEVENT
DTSTART;VALUE=DATE:20250619
DTEND;VALUE=DATE:20250621
DTSTAMP:20260421T043453
CREATED:20250106T051547Z
LAST-MODIFIED:20250106T051547Z
UID:41418-1750291200-1750463999@dev25.usawe.org
SUMMARY:CA: BAWE Moo (Clinic)
DESCRIPTION:Dressage\, Ease of Handling\, and Cattle Clinic with Ali Kermeen\, Alice Bizri\, and Heather Koerneman
URL:https://dev25.usawe.org/event/ca-bawe-moo-clinic/
LOCATION:Santa Cruz Horseman’s Association\, 1251 Graham Hill Rd\, Santa Cruz\, CA\, 95060\, United States
CATEGORIES:All Clinics,Region 2
ORGANIZER;CN="Ali Kermeen":MAILTO:alikermeen@gmail.com
END:VEVENT
BEGIN:VEVENT
DTSTART;VALUE=DATE:20250601
DTEND;VALUE=DATE:20250602
DTSTAMP:20260421T043453
CREATED:20250404T045653Z
LAST-MODIFIED:20250404T045653Z
UID:42560-1748736000-1748822399@dev25.usawe.org
SUMMARY:CA: (25-115) PVRA Summer USAWE Show
DESCRIPTION:License#(s): 25-115\nShow Name: PVRA Summer USAWE Show\nPoway Valley Riders Association\nJudge: TBD\nShow Manager: Janice Kall
URL:https://dev25.usawe.org/event/ca-25-115-pvra-summer-usawe-show/
LOCATION:Poway Valley Riders Association\, 14336 Tierra Bonita Rd\, Poway\, CA\, 92064\, United States
CATEGORIES:Competitions (all),Region 2
ORGANIZER;CN="Janice Kall":MAILTO:workingequ@pvra.com
END:VEVENT
BEGIN:VEVENT
DTSTART;VALUE=DATE:20250531
DTEND;VALUE=DATE:20250602
DTSTAMP:20260421T043453
CREATED:20250404T044022Z
LAST-MODIFIED:20250404T044022Z
UID:42556-1748649600-1748822399@dev25.usawe.org
SUMMARY:AZ: (25-118) (25-119) Rim Rider WE Show #1 & #2
DESCRIPTION:License#(s): 25-118 and 25-119\nShow Name(s): Rim Rider WE show #1 & #2\nShow Date(s): 5/31/2025 & 6/1/2025\nLocation: Payson Event Center\, Payson\, AZ\nJudge: Rebecca Algar\nTD: Joy ChadseyGate Steward: Candace Berry\nShow Manager: Victoria Clayton and Tessa Nicolet
URL:https://dev25.usawe.org/event/az-25-118-25-119-rim-rider-we-show-1-2/
LOCATION:Payson Event Center\, Payson\, AZ\, United States
CATEGORIES:Competitions (all),Region 2
END:VEVENT
BEGIN:VEVENT
DTSTART;TZID=America/Los_Angeles:20250528T080000
DTEND;TZID=America/Los_Angeles:20250528T170000
DTSTAMP:20260421T043453
CREATED:20250528T181054Z
LAST-MODIFIED:20250528T181054Z
UID:42996-1748419200-1748451600@dev25.usawe.org
SUMMARY:AZ: (25-138) Coconino Cool Off
DESCRIPTION:License#(s):  25-138 \nShow Name(s): Coconino Cool Off \nShow Date(s): 8/10/2025 \nLocation: Northern Arizona Riding Stable\, Flagstaff\, AZ \nJudge: Susan Watkins \nTD: Ashley Bowers \nGate Steward: Susan Hapak \nShow Manager: Robin Lindsey
URL:https://dev25.usawe.org/event/az-25-138-coconino-cool-off/
LOCATION:Northern Arizona Riding Stable\, Flagstaff\, AZ\, United States
CATEGORIES:Competitions (all),Region 2
ORGANIZER;CN="Robin Lindsey":MAILTO:robinlindsey03@gmail.com
END:VEVENT
BEGIN:VEVENT
DTSTART;VALUE=DATE:20250524
DTEND;VALUE=DATE:20250526
DTSTAMP:20260421T043453
CREATED:20250515T184202Z
LAST-MODIFIED:20250515T184202Z
UID:42895-1748044800-1748217599@dev25.usawe.org
SUMMARY:CA: Rising Phoenix Working Equitation Clinic and 3rd Schooling Show in the Buckle Series
DESCRIPTION:Region 2\, El Rodeo Equestrian Center\, 4449 Carbon Canyon Rd\, Brea\, CA \n\n\n\n\nRiding Clinic\, both private and group sessions\, offered on Saturday. Schooling Show (3rd in the 2025 buckle series) offered on Sunday\, all levels and divisions offered. We’ll have awards\, prizes and some special CASH PRIZES!\n\n\n\n\n\n\n\n\n\n 
URL:https://dev25.usawe.org/event/ca-rising-phoenix-working-equitation-clinic-and-3rd-schooling-show-in-the-buckle-series/
LOCATION:El Rodeo Equestian Center\, 4449 Carbon Canyon Rd.\, Brea\, CA\, 92823\, United States
CATEGORIES:All Clinics,All Schooling Shows,Region 2
ORGANIZER;CN="Ashley Bowers":MAILTO:RisingPhoenixEquestrian@gmail.com
END:VEVENT
BEGIN:VEVENT
DTSTART;VALUE=DATE:20250503
DTEND;VALUE=DATE:20250505
DTSTAMP:20260421T043453
CREATED:20250108T193743Z
LAST-MODIFIED:20250108T193743Z
UID:41533-1746230400-1746403199@dev25.usawe.org
SUMMARY:CA: (25-074) & (25-075) Wine Country Classic - May the 4th Be With You #1 & #2
DESCRIPTION:
URL:https://dev25.usawe.org/event/ca-25-074-25-075-wine-country-classic-may-the-4th-be-with-you-1-2/
LOCATION:California Ranch Company\, 34520 de Portola Rd\, Temecula\, CA\, 92592\, United States
CATEGORIES:Competitions (all),Region 2
ORGANIZER;CN="Amanda Latta":MAILTO:winecountryclassichorseshow@gmail.com
END:VEVENT
BEGIN:VEVENT
DTSTART;VALUE=DATE:20250406
DTEND;VALUE=DATE:20250407
DTSTAMP:20260421T043453
CREATED:20250202T192510Z
LAST-MODIFIED:20250202T192510Z
UID:41875-1743897600-1743983999@dev25.usawe.org
SUMMARY:AZ: (25-083) Sonita Spring Fling
DESCRIPTION:License#(s): 25-083\nShow Name(s): Sonoita Spring Fling\nShow Date(s): 4/6/2025\nLocation:\nSanta Cruz County Fairgrounds Sonoita AZ\nJudge: Sarah Pinney\nTD:Joy Chadsey\nGate Steward: Susie Taylor\nShow Manager: Amy Star and Karen Anderson
URL:https://dev25.usawe.org/event/az-25-083-sonita-spring-fling/
LOCATION:Santa Cruz County Fairgrounds\, Sonita\, AZ\, United States
CATEGORIES:Competitions (all),Region 2
ORGANIZER;CN="Amy Star":MAILTO:AmyStarLusitanos@gmail.com
END:VEVENT
BEGIN:VEVENT
DTSTART;VALUE=DATE:20250405
DTEND;VALUE=DATE:20250408
DTSTAMP:20260421T043453
CREATED:20241126T200608Z
LAST-MODIFIED:20241126T200608Z
UID:40863-1743811200-1744070399@dev25.usawe.org
SUMMARY:CA: (25-019) & (25-020) El Campeon Farms WE #1 & #2
DESCRIPTION:Please check the listing of Licensed Competitons on the USAWE website for more information\, or contact Show Manager Christy Reich.
URL:https://dev25.usawe.org/event/ca-25-019-25-020-el-campeon-farms-we-1-2/
LOCATION:El Campeón Farms\, 999 W. Potrero Rd.\, Thousand Oaks\, CA\, 91361\, United States
CATEGORIES:Competitions (all),Region 2
ORGANIZER;CN="Christy Reich":MAILTO:creich@elcampeonfarms.com
END:VEVENT
BEGIN:VEVENT
DTSTART;VALUE=DATE:20250329
DTEND;VALUE=DATE:20250331
DTSTAMP:20260421T043453
CREATED:20250303T030814Z
LAST-MODIFIED:20250303T030814Z
UID:42164-1743206400-1743379199@dev25.usawe.org
SUMMARY:CA: Clinic & Schooling Show
DESCRIPTION:Comprehensive dressage and obstacle training from beginner to advanced with Kathleen Elliot and Mary Young on Saturday\, lunch included. entry includes 3h each with both clinicians. Auditors welcome. full WE schooling show Sunday\, open to all. \nMarch 29 dressage and obstacle clinic\, March 30 WE schooling show
URL:https://dev25.usawe.org/event/ca-clinic-schooling-show/
LOCATION:Kathleen Elliott’s Equestrian Center
CATEGORIES:All Clinics,All Schooling Shows,Region 2
ATTACH;FMTTYPE=image/png:https://dev25.usawe.org/wp-content/uploads/2025/03/thumbnail_image0-1-Mary-Young.png
ORGANIZER;CN="Kathleen Elliott":MAILTO:Kathleendressagetrainer@gmail.com
END:VEVENT
BEGIN:VEVENT
DTSTART;VALUE=DATE:20250322
DTEND;VALUE=DATE:20250324
DTSTAMP:20260421T043453
CREATED:20250303T030142Z
LAST-MODIFIED:20250303T030142Z
UID:42160-1742601600-1742774399@dev25.usawe.org
SUMMARY:CA: March 2025 WE Clinic & Schooling Show
DESCRIPTION:Private and Group Sessions in Saturday Clinic\, Schooling Show Sunday with awards\, prizes and some newly added cash prizes.\nRegion 2 – El Rodeo Equestrian Center\, 4449 Carbon Canyon Rd\, Brea\, CA 92823 \nMarch 22nd – 23rd\, 2025 \nSaturday – Clinic\, Sunday – Schooling Show \n 
URL:https://dev25.usawe.org/event/ca-march-2025-we-clinic-schooling-show/
LOCATION:El Rodeo Equestian Center\, 4449 Carbon Canyon Rd.\, Brea\, CA\, 92823\, United States
CATEGORIES:All Clinics,All Schooling Shows,Region 2
ATTACH;FMTTYPE=image/png:https://dev25.usawe.org/wp-content/uploads/2025/03/NEW-WE-Clinic-and-Schooling-Show-at-El-Rodeo-March-2025-Ashley-Bowers.png
ORGANIZER;CN="Ashley Bowers":MAILTO:RisingPhoenixEquestrian@gmail.com
END:VEVENT
BEGIN:VEVENT
DTSTART;VALUE=DATE:20250315
DTEND;VALUE=DATE:20250316
DTSTAMP:20260421T043453
CREATED:20250202T194121Z
LAST-MODIFIED:20250202T194121Z
UID:41888-1741996800-1742083199@dev25.usawe.org
SUMMARY:AZ: (25-097) AZWEC at Unforgiven Ranch #2
DESCRIPTION:Show Name(s):\nAZWEC at Unforgiven Ranch #2 \nShow Date(s):\n3/15/2025 \nLocation:\nUnforgiven Ranch Kingman AZ \nJudge:\nAmy Star and Miguel Undabarenna
URL:https://dev25.usawe.org/event/az-25-097-azwec-at-unforgiven-ranch-2/
LOCATION:Unforgiven Ranch\, Kingman\, AZ\, United States
CATEGORIES:Competitions (all),Region 2
ORGANIZER;CN="Joy Chadsey":MAILTO:joy7@aol.com
END:VEVENT
BEGIN:VEVENT
DTSTART;VALUE=DATE:20250308
DTEND;VALUE=DATE:20250310
DTSTAMP:20260421T043453
CREATED:20250108T193542Z
LAST-MODIFIED:20250108T193542Z
UID:41530-1741392000-1741564799@dev25.usawe.org
SUMMARY:CA: (25-072) & (25-073) Wine Country Classic in LA - Show #1 & #2
DESCRIPTION:
URL:https://dev25.usawe.org/event/ca-25-072-25-073-wine-country-classic-in-la-show-1-2/
LOCATION:Summerhill
CATEGORIES:Competitions (all),Region 2
ORGANIZER;CN="Amanda Latta":MAILTO:winecountryclassichorseshow@gmail.com
END:VEVENT
BEGIN:VEVENT
DTSTART;VALUE=DATE:20250208
DTEND;VALUE=DATE:20250209
DTSTAMP:20260421T043453
CREATED:20250202T193918Z
LAST-MODIFIED:20250202T193918Z
UID:41886-1738972800-1739059199@dev25.usawe.org
SUMMARY:AZ: (25-096) AZWEC at Unforgiven Ranch #1
DESCRIPTION:Show Name(s):\nAZWEC at Unforgiven Ranch \nShow Date(s):\n2/8/2025 \nLocation:\nUnforgiven Ranch Kingman AZ \nJudge:\nAmy Star \nTD:\nJoy Chadsey
URL:https://dev25.usawe.org/event/az-25-096-azwec-at-unforgiven-ranch-1/
LOCATION:Unforgiven Ranch\, Kingman\, AZ\, United States
CATEGORIES:Competitions (all),Region 2
ORGANIZER;CN="Joy Chadsey":MAILTO:joy7@aol.com
END:VEVENT
BEGIN:VEVENT
DTSTART;VALUE=DATE:20241109
DTEND;VALUE=DATE:20241111
DTSTAMP:20260421T043453
CREATED:20231119T043901Z
LAST-MODIFIED:20240123T030844Z
UID:32568-1731110400-1731283199@dev25.usawe.org
SUMMARY:CA: (24-029) Fall Into WE
DESCRIPTION:(24-029) Fall Into WE \nVisit usawe.org > Competitions > List of Licensed Competitions for license status\, performance levels offered\, show manager\, judge and technical delegate info.
URL:https://dev25.usawe.org/event/ca-24-029-fall-into-we/
LOCATION:El Campeón Farms\, 999 W. Potrero Rd.\, Thousand Oaks\, CA\, 91361\, United States
CATEGORIES:Competitions (all),Region 2
ORGANIZER;CN="Christy Reich":MAILTO:creich@elcampeonfarms.com
END:VEVENT
BEGIN:VEVENT
DTSTART;TZID=America/Los_Angeles:20241028T170000
DTEND;TZID=America/Los_Angeles:20241028T190000
DTSTAMP:20260421T043453
CREATED:20231122T174359Z
LAST-MODIFIED:20231122T174359Z
UID:32614-1730134800-1730142000@dev25.usawe.org
SUMMARY:AO Quarterly Networking Hour
DESCRIPTION:AO Quarterly Networking Hour \nFor Affiliate Organization Leaders and leadership teams – Meet other USAWE Affiliate Organization leaders\, make friends\, share ideas\, be encouraged\, and build community! This quarterly meeting is all about getting to know one another and strengthening the support you receive as an Affiliate Organization. Fourth Mondays in these months: January\, April\, July\, October\n5 PM Pacific 6 pm Mountain 7 pm Central 8 pm Eastern
URL:https://dev25.usawe.org/event/ao-quarterly-networking-hour-4/
LOCATION:Virtual Zoom Meeting\, United States
CATEGORIES:Region 1,Region 2,Region 3,Region 4,Region 5,Region 6,Region 7
ORGANIZER;CN="Kristine Strasburger":MAILTO:neheartlandwe@gmail.com
END:VEVENT
END:VCALENDAR