BEGIN:VCALENDAR
VERSION:2.0
PRODID:-//USA Working Equitation - ECPv6.15.20//NONSGML v1.0//EN
CALSCALE:GREGORIAN
METHOD:PUBLISH
X-ORIGINAL-URL:https://dev25.usawe.org
X-WR-CALDESC:Events for USA Working Equitation
REFRESH-INTERVAL;VALUE=DURATION:PT1H
X-Robots-Tag:noindex
X-PUBLISHED-TTL:PT1H
BEGIN:VTIMEZONE
TZID:America/Los_Angeles
BEGIN:DAYLIGHT
TZOFFSETFROM:-0800
TZOFFSETTO:-0700
TZNAME:PDT
DTSTART:20240310T100000
END:DAYLIGHT
BEGIN:STANDARD
TZOFFSETFROM:-0700
TZOFFSETTO:-0800
TZNAME:PST
DTSTART:20241103T090000
END:STANDARD
BEGIN:DAYLIGHT
TZOFFSETFROM:-0800
TZOFFSETTO:-0700
TZNAME:PDT
DTSTART:20250309T100000
END:DAYLIGHT
BEGIN:STANDARD
TZOFFSETFROM:-0700
TZOFFSETTO:-0800
TZNAME:PST
DTSTART:20251102T090000
END:STANDARD
BEGIN:DAYLIGHT
TZOFFSETFROM:-0800
TZOFFSETTO:-0700
TZNAME:PDT
DTSTART:20260308T100000
END:DAYLIGHT
BEGIN:STANDARD
TZOFFSETFROM:-0700
TZOFFSETTO:-0800
TZNAME:PST
DTSTART:20261101T090000
END:STANDARD
END:VTIMEZONE
BEGIN:VEVENT
DTSTART;TZID=America/Los_Angeles:20250302T170000
DTEND;TZID=America/Los_Angeles:20250302T183000
DTSTAMP:20260421T002108
CREATED:20250228T204545Z
LAST-MODIFIED:20250228T204545Z
UID:42129-1740934800-1740940200@dev25.usawe.org
SUMMARY:Executive Committee Meeting - Closed session
DESCRIPTION:Agenda: \nDressage Illustrated comp approval (see attached covers)\nBilling issues\nRegroup\nBoard and Committee Resourcing (Secretary\, Marketing\, Web announcements)\nMember complaints\n\nThis closed session meeting of the Executive Committee will take place via Zoom\, starting at 5:00 pm pst\, Sunday\, March 2.
URL:https://dev25.usawe.org/event/executive-committee-meeting-closed-session/
CATEGORIES:Corporate Meetings
END:VEVENT
END:VCALENDAR