BEGIN:VCALENDAR
VERSION:2.0
PRODID:-//USA Working Equitation - ECPv6.15.20//NONSGML v1.0//EN
CALSCALE:GREGORIAN
METHOD:PUBLISH
X-WR-CALNAME:USA Working Equitation
X-ORIGINAL-URL:https://dev25.usawe.org
X-WR-CALDESC:Events for USA Working Equitation
REFRESH-INTERVAL;VALUE=DURATION:PT1H
X-Robots-Tag:noindex
X-PUBLISHED-TTL:PT1H
BEGIN:VTIMEZONE
TZID:America/Los_Angeles
BEGIN:DAYLIGHT
TZOFFSETFROM:-0800
TZOFFSETTO:-0700
TZNAME:PDT
DTSTART:20240310T100000
END:DAYLIGHT
BEGIN:STANDARD
TZOFFSETFROM:-0700
TZOFFSETTO:-0800
TZNAME:PST
DTSTART:20241103T090000
END:STANDARD
BEGIN:DAYLIGHT
TZOFFSETFROM:-0800
TZOFFSETTO:-0700
TZNAME:PDT
DTSTART:20250309T100000
END:DAYLIGHT
BEGIN:STANDARD
TZOFFSETFROM:-0700
TZOFFSETTO:-0800
TZNAME:PST
DTSTART:20251102T090000
END:STANDARD
BEGIN:DAYLIGHT
TZOFFSETFROM:-0800
TZOFFSETTO:-0700
TZNAME:PDT
DTSTART:20260308T100000
END:DAYLIGHT
BEGIN:STANDARD
TZOFFSETFROM:-0700
TZOFFSETTO:-0800
TZNAME:PST
DTSTART:20261101T090000
END:STANDARD
END:VTIMEZONE
BEGIN:VEVENT
DTSTART;VALUE=DATE:20250927
DTEND;VALUE=DATE:20250929
DTSTAMP:20260425T115607
CREATED:20250718T004536Z
LAST-MODIFIED:20250718T004536Z
UID:43389-1758931200-1759103999@dev25.usawe.org
SUMMARY:NC: (25-152) WENC Down East Fall Festival
DESCRIPTION:License#(s):  25-152 \nShow Name(s): Working Equitation of North Carolina Down East Fall Festival \nShow Date(s): 9/27 – 28/2025 \nLocation: Carolina Horse Park\, Raeford\, NC \nJudge: Amy Star \nTD: Stephani Kame \nGate Steward: Lisa Wall \nShow Manager: Kasey Riddle
URL:https://dev25.usawe.org/event/nc-25-152-wenc-down-east-fall-festival/
LOCATION:Carolina Horse Park\, Raeford\, NC\, United States
CATEGORIES:Competitions (all),Region 7
ORGANIZER;CN="Kasey Riddle":MAILTO:PonytailFarm@yahoo.com
END:VEVENT
BEGIN:VEVENT
DTSTART;VALUE=DATE:20250920
DTEND;VALUE=DATE:20250922
DTSTAMP:20260425T115607
CREATED:20250404T043704Z
LAST-MODIFIED:20250404T043758Z
UID:42553-1758326400-1758499199@dev25.usawe.org
SUMMARY:AZ: (25-120) (25-121) Rim Rider WE Show #3 & #4
DESCRIPTION:License#(s): 25-120 and 25-121\nShow Name(s): Rim Rider WE show #3 & #4\nShow Date(s): 9/20/2025 & 9/21/2025\nLocation: Payson Event Center\, Payson\, AZ\nJudge: Andre Ganc\nTD: Joy Chadsey\nGate Steward: Candace Berry\nShow Manager: Victoria Clayton and Tessa Nicolet
URL:https://dev25.usawe.org/event/az-25-120-25-121-rim-rider-we-show-3-4/
LOCATION:Payson Event Center\, Payson\, AZ\, United States
CATEGORIES:Competitions (all),Region 2
END:VEVENT
BEGIN:VEVENT
DTSTART;VALUE=DATE:20250920
DTEND;VALUE=DATE:20250922
DTSTAMP:20260425T115607
CREATED:20250202T192646Z
LAST-MODIFIED:20250202T192646Z
UID:41878-1758326400-1758499199@dev25.usawe.org
SUMMARY:VA: (25-084) NOVAWE Licensed Show
DESCRIPTION:License#(s): 25-084\nShow Name(s): NOVAWE Licensed Show\nShow Date(s): 9/20/2025 – 9/21/25\nLocation: Herndon\, VA\nJudge: Polly Limond\nTD: Lynsey Moritz\nGate Steward: TBD\nShow Manager: Biddie Lowry
URL:https://dev25.usawe.org/event/va-25-084-novawe-licensed-show/
LOCATION:GA
CATEGORIES:Competitions (all),Region 6
ORGANIZER;CN="Biddie Lowry":MAILTO:novawe.blowry@gmail.com
END:VEVENT
BEGIN:VEVENT
DTSTART;VALUE=DATE:20250919
DTEND;VALUE=DATE:20250922
DTSTAMP:20260425T115607
CREATED:20240901T214029Z
LAST-MODIFIED:20240901T220422Z
UID:39506-1758240000-1758499199@dev25.usawe.org
SUMMARY:2025 USAWE Region 1 Championship
DESCRIPTION:2025 USAWE Region 1 Championship \nEntry deadline: August 31\, 2025\nShow Dates: \nSeptember 17 – 21\, 2025 \nWednesday\, September 17 – early move-in is available to accommodate horses traveling long distances and those who want to arrive early \nThursday\, September 18 – official move-in day. Vet Check – between 3:30 and 5:30 pm. \nFriday\, September 19 – Dressage Trial \nSaturday\, September 20 – EOH Trial \nSunday\, September 21 – Speed & CaRle Trial Show \nLocation: \nOregon Horse Center 90751 Prairie Rd. Eugene\, OR\, 97404 \n  \nAdditional information to be added closer to the event.
URL:https://dev25.usawe.org/event/2025-usawe-region-1-championship/
LOCATION:Oregon Horse Center\, 90751 Prairie Rd\, Eugene\, OR\, 97402\, United States
CATEGORIES:Competitions (all),Region 1
ORGANIZER;CN="Julie Alonzo":MAILTO:workingequitationoregon@gmail.com
END:VEVENT
BEGIN:VEVENT
DTSTART;VALUE=DATE:20250917
DTEND;VALUE=DATE:20250922
DTSTAMP:20260425T115607
CREATED:20241126T205412Z
LAST-MODIFIED:20241126T205412Z
UID:40909-1758067200-1758499199@dev25.usawe.org
SUMMARY:OR: (25-047) USAWE R1 Championship
DESCRIPTION:Look for more information in the spring on the USAWE website.
URL:https://dev25.usawe.org/event/or-25-047-usawe-r1-championship/
LOCATION:Oregon Horse Center\, 90751 Prairie Rd\, Eugene\, OR\, 97402\, United States
CATEGORIES:Competitions (all),Region 1
ORGANIZER;CN="Julie Alonzo":MAILTO:workingequitationoregon@gmail.com
END:VEVENT
BEGIN:VEVENT
DTSTART;VALUE=DATE:20250914
DTEND;VALUE=DATE:20250915
DTSTAMP:20260425T115607
CREATED:20250404T045525Z
LAST-MODIFIED:20250404T045525Z
UID:42558-1757808000-1757894399@dev25.usawe.org
SUMMARY:CA: (25-114) PVRA Fall USAWE Show
DESCRIPTION:License#(s): 25-114\nShow Name: PVRA Fall USAWE Show\nPoway Valley Riders Association\nJudge: Sarah Pinney\, “R”\nShow Manager: Janice Kall
URL:https://dev25.usawe.org/event/ca-25-114-pvra-fall-usawe-show/
LOCATION:Poway Valley Riders Association\, 14336 Tierra Bonita Rd\, Poway\, CA\, 92064\, United States
CATEGORIES:Competitions (all),Region 2
ORGANIZER;CN="Janice Kall":MAILTO:workingequ@pvra.com
END:VEVENT
BEGIN:VEVENT
DTSTART;VALUE=DATE:20250913
DTEND;VALUE=DATE:20250915
DTSTAMP:20260425T115607
CREATED:20250501T014445Z
LAST-MODIFIED:20250501T014445Z
UID:42709-1757721600-1757894399@dev25.usawe.org
SUMMARY:CA: (25-135) (25-136) BAWE Equinox #1 & #2
DESCRIPTION:License#(s): 25-135 \nShow Name(s): BAWE Equinox #1 \nShow Date(s):  9/13/2024 \nLocation: Santa Cruz County Horsemen’s Association\, Santa Cruz\, CA \nJudge: Kim Roe \nTD: Julie Alonzo \nGate Steward: TBD \nShow Manager: Ali Kermeen (Darren Hawks Alternate) \nLicense#(s): 25-136 \nShow Name(s): BAWE Equinox #2 \nShow Date(s):  9/14/2024 \nLocation: Santa Cruz County Horsemen’s Association\, Santa Cruz\, CA \nJudge: Kim Roe \nTD: Julie Alonzo \nGate Steward: TBD \nShow Manager: Ali Kermeen (Darren Hawks Alternate)
URL:https://dev25.usawe.org/event/ca-25-135-25-136-bawe-equinox-1-2/
LOCATION:Santa Cruz Horseman’s Association\, 1251 Graham Hill Rd\, Santa Cruz\, CA\, 95060\, United States
CATEGORIES:Competitions (all),Region 2
ORGANIZER;CN="Ali Kermeen":MAILTO:alikermeen@gmail.com
END:VEVENT
BEGIN:VEVENT
DTSTART;VALUE=DATE:20250913
DTEND;VALUE=DATE:20250915
DTSTAMP:20260425T115607
CREATED:20250211T014330Z
LAST-MODIFIED:20250211T014330Z
UID:41938-1757721600-1757894399@dev25.usawe.org
SUMMARY:OR: (25-100) (25-101) WE East of the Cascades I & II
DESCRIPTION:License#(s): 25-100\nShow Name(s): Working Equitation East of the Cascades I\nShow Date(s):Powell Butte OR\nLocation: 9/13/2025\nJudge: Tracy Erway “r”\nTD: Laura Stutesman\nGate Steward: Stephen Hurst\nShow Manager: Jill Hamann Bannister \nLicense#(s): 25-101\nShow Name(s): Working Equitation East of the Cascades II\nShow Date(s): 9/14/2025\nLocation: Powell Butte OR\nJudge: Tracy Erway “r”\nTD: Laura Stutesman\nGate Steward: Stephen Hurst\nShow Manager: Terry Crawford
URL:https://dev25.usawe.org/event/or-25-100-25-101-we-east-of-the-cascades-i-ii/
LOCATION:Powell Butte\, OR\, Powell Butte\, OR\, United States
CATEGORIES:Competitions (all),Region 1
ORGANIZER;CN="Terry Crawford":MAILTO:terryonitswayhome@gmail.com
END:VEVENT
BEGIN:VEVENT
DTSTART;VALUE=DATE:20250913
DTEND;VALUE=DATE:20250915
DTSTAMP:20260425T115607
CREATED:20250202T191857Z
LAST-MODIFIED:20250202T191857Z
UID:41868-1757721600-1757894399@dev25.usawe.org
SUMMARY:CO: (25-057) & (25-058) HCWE Show #3 & #4
DESCRIPTION:License#(s):\n25-057 & 25-058 \nShow Name(s):\nHigh Country Working Equitation Show #3 & #4 \nShow Date(s):\n9/13/2025 & 9/14/2025 \nLocation:\nBoulder Valley Fairgrounds Boulder CO \nJudge:\nDoreen Atkinson \nTD:\nChris Stanko \nShow Manager:\nLeslie Martien
URL:https://dev25.usawe.org/event/co-25-057-25-058-hcwe-show-3-4/
LOCATION:Boulder Valley Fairgrounds\, CO\, United States
CATEGORIES:Competitions (all),Region 3
ORGANIZER;CN="High Country Working Equitation":MAILTO:jamesoncahill78@gmail.com
END:VEVENT
BEGIN:VEVENT
DTSTART;VALUE=DATE:20250906
DTEND;VALUE=DATE:20250908
DTSTAMP:20260425T115607
CREATED:20250415T184416Z
LAST-MODIFIED:20250415T184416Z
UID:42617-1757116800-1757289599@dev25.usawe.org
SUMMARY:TX: (25-133) Highlander Ranch September Show
DESCRIPTION:Judge: Nicole Chastain\, “S”
URL:https://dev25.usawe.org/event/tx-25-133-highlander-ranch-september-show/
LOCATION:Highlander Ranch\, 223 Cobbs Lane\, Waco\, TX\, 76708\, Waco\, United States
CATEGORIES:Competitions (all),Region 4
ORGANIZER;CN="Aimee Edwards":MAILTO:aedwards@mclennan.edu
END:VEVENT
BEGIN:VEVENT
DTSTART;VALUE=DATE:20250906
DTEND;VALUE=DATE:20250908
DTSTAMP:20260425T115607
CREATED:20250317T191136Z
LAST-MODIFIED:20250317T191136Z
UID:42364-1757116800-1757289599@dev25.usawe.org
SUMMARY:WI: (25-111) (25-112) Kemp Horsemanship Show #1 & #2
DESCRIPTION:License#(s): 25-111\, 25-112 \nShow Name(s): Kemp Horsemanship Show #1 and #2 \nShow Date(s): 9/6/2025 and 9/7/2025 \nLocation: \n\n\n\n\n\n\n\nThe Horse First Farm\nBrooklyn\nWI\n\n\n\nJudge: Rebecca Algar \nTD: Emily Kemp \nGate Steward: Ryan Kraemer \nShow Manager: Phyllis Kemp
URL:https://dev25.usawe.org/event/wi-25-111-25-112-kemp-horsemanship-show-1-2/
LOCATION:The Horse First Farm\, 5594 Alpine Dr.\, Brooklyn\, WI\, 53521\, United States
CATEGORIES:Competitions (all),Region 5
ORGANIZER;CN="Emily Kemp":MAILTO:KempHorsemanship@gmail.com
END:VEVENT
BEGIN:VEVENT
DTSTART;VALUE=DATE:20250906
DTEND;VALUE=DATE:20250908
DTSTAMP:20260425T115607
CREATED:20241126T205208Z
LAST-MODIFIED:20250515T033939Z
UID:40907-1757116800-1757289599@dev25.usawe.org
SUMMARY:MT: (24-014) WE Under the Big Sky Show #2
DESCRIPTION:Judge: Sarah Pinney
URL:https://dev25.usawe.org/event/mt-24-014-we-under-the-big-sky-show-2/
LOCATION:Big Sky Horse Park\, 3500 North Avenue\, Missoula\, 59804\, United States
CATEGORIES:Competitions (all),Region 1
ORGANIZER;CN="Sheila Mealey":MAILTO:weunderthebigsky@gmail.com
END:VEVENT
BEGIN:VEVENT
DTSTART;VALUE=DATE:20250905
DTEND;VALUE=DATE:20250908
DTSTAMP:20260425T115607
CREATED:20250725T014036Z
LAST-MODIFIED:20250725T014036Z
UID:43405-1757030400-1757289599@dev25.usawe.org
SUMMARY:KS (25-153) (25-154) State Fair #1 & #2
DESCRIPTION:License#(s): 25-153\nShow Name(s): WEKS #7 STATE FAIR\nShow Date(s): 9/5/25\nLocation: Hutchinson\, KS\nJudge: Sue Watkins “R”\nTD:Layn Russell\nGate Steward: TJ Hoskinson\nShow Manager: Linda Frazier/Kris Westhoff \nLicense#(s): 25-154\nShow Name(s):  WEKS #8 Ks State Fair Day 2\nShow Date(s): 9/6/25 – 9/7/25\nLocation: Hutchinson\, KS\nJudge: Sue Watkins “R”\nTD:Layn Russell\nGate Steward: TJ Hoskinson\nShow Manager: Linda Frazier/Kris Westhoff
URL:https://dev25.usawe.org/event/ks-25-153-25-154-state-fair-1-2/
LOCATION:Kansas State Fairgrounds\, 2000 North Poplar\, Hutchinson\, KS\, 67502\, United States
CATEGORIES:Competitions (all),Region 3
ORGANIZER;CN="Linda Frazier":MAILTO:lindafrazier8@gmail.com
END:VEVENT
BEGIN:VEVENT
DTSTART;VALUE=DATE:20250830
DTEND;VALUE=DATE:20250901
DTSTAMP:20260425T115607
CREATED:20250614T170703Z
LAST-MODIFIED:20250614T171015Z
UID:43133-1756512000-1756684799@dev25.usawe.org
SUMMARY:CA: (25-144) (25-145)
DESCRIPTION:Wine Country Classic Labor Day Show #1 and #2! \nSummerhill Equestrian Center\, Santa Clarita\, CA \nContact Amanda Latta for more information.
URL:https://dev25.usawe.org/event/ca-25-144-25-145/
LOCATION:Summerhill
CATEGORIES:Competitions (all),Region 2
ORGANIZER;CN="Amanda Latta":MAILTO:winecountryclassichorseshow@gmail.com
END:VEVENT
BEGIN:VEVENT
DTSTART;VALUE=DATE:20250830
DTEND;VALUE=DATE:20250901
DTSTAMP:20260425T115607
CREATED:20241206T200234Z
LAST-MODIFIED:20241206T200234Z
UID:41088-1756512000-1756684799@dev25.usawe.org
SUMMARY:NH: (25-055) NEWE at Gelinas Farm
DESCRIPTION:License#(s): 25-055 \nShow Name(s): NEWE at Gelinas Farm \nShow Date(s): 8/30/25 and 8/31/25 \nLocation: Pembroke\, NH \nJudge: Rebecca Algar \nTD:Deb Quillinan \nGate Steward: Linda Ritzer  \nShow Manager: Stephanie Hayes\, Day Manager Elaina Enzien
URL:https://dev25.usawe.org/event/nh-25-055-newe-at-gelinas-farm/
LOCATION:Gelinas Farm\, 471 4th Range Rd\, Pembroke\, NH\, United States
CATEGORIES:Competitions (all),Region 6
ORGANIZER;CN="Stephanie Hayes":MAILTO:vtblackpony@aol.com
END:VEVENT
BEGIN:VEVENT
DTSTART;VALUE=DATE:20250823
DTEND;VALUE=DATE:20250825
DTSTAMP:20260425T115607
CREATED:20250415T184913Z
LAST-MODIFIED:20250415T184913Z
UID:42619-1755907200-1756079999@dev25.usawe.org
SUMMARY:GA: (25-129) (25-130) Georgia's Working Equitation Classic Show 1 & 2
DESCRIPTION:Judge: Doreen Atkinson\, “S” \nOffering two licensed competitions over the weekend!
URL:https://dev25.usawe.org/event/ga-25-129-25-130-georgias-working-equitation-classic-show-1-2/
LOCATION:Chicopee Agricultural Center\, Gainesville\, GA\, United States
CATEGORIES:Competitions (all),Region 7
ORGANIZER;CN="Betsy Moles Fajen":MAILTO:Naturalhorsesolutions@gmail.com
END:VEVENT
BEGIN:VEVENT
DTSTART;VALUE=DATE:20250823
DTEND;VALUE=DATE:20250824
DTSTAMP:20260425T115607
CREATED:20250418T165734Z
LAST-MODIFIED:20250418T165734Z
UID:42694-1755907200-1755993599@dev25.usawe.org
SUMMARY:MD: (25-134) OSEWE Summer Fun
DESCRIPTION:License#(s): 25-134\nShow Name(s): OSEWE Summer Fun\nShow Date(s): 8/23/25\nLocation: Woodbine MD \nJudge: Rebecca Algar “S”\nTD: Lynsey Moritz\nGate Steward: Karen Miller\nShow Manager: Barb Sullivan – Alternate Adair Soho
URL:https://dev25.usawe.org/event/md-25-134-osewe-summer-fun/
LOCATION:Woodbine\, MD\, MD\, United States
CATEGORIES:Competitions (all),Region 6
ORGANIZER;CN="Barb Sullivan":MAILTO:oakspringequestrianllc@gmail.com
END:VEVENT
BEGIN:VEVENT
DTSTART;VALUE=DATE:20250822
DTEND;VALUE=DATE:20250825
DTSTAMP:20260425T115607
CREATED:20250417T023625Z
LAST-MODIFIED:20250417T024448Z
UID:42635-1755820800-1756079999@dev25.usawe.org
SUMMARY:MD: Schooling Show\, Licensed Show\, Clinic w/Rebecca Algar @ Oak Spring Equestrian
DESCRIPTION:A schooling show will be held on Friday\, a licensed show on Saturday and a clinic on Sunday \nFor more information: \nContact: Barb Sullivan\noakspringequestrianllc@gmail.com; 443-745-5067 \nhttps://drive.google.com/open?id=1LLEZ5OHlhP5kJ7jwE0v734kGgQeHnB6Q 
URL:https://dev25.usawe.org/event/md-schooling-show-licensed-show-clinic-w-rebecca-algar-oak-spring-equestrian/
LOCATION:Oak Spring Equestrian\, 15195 Bushy Park Rd.\, Woodbine\, MD\, 21797\, United States
CATEGORIES:All Clinics,All Schooling Shows,Competitions (all),Region 6
ORGANIZER;CN="Barb Sullivan":MAILTO:oakspringequestrianllc@gmail.com
END:VEVENT
BEGIN:VEVENT
DTSTART;VALUE=DATE:20250821
DTEND;VALUE=DATE:20250825
DTSTAMP:20260425T115607
CREATED:20241126T204905Z
LAST-MODIFIED:20241126T204905Z
UID:40903-1755734400-1756079999@dev25.usawe.org
SUMMARY:OR: (25-045) (25-046) WE Oregon August Clinic & Shows
DESCRIPTION:August 21-22 (clinic) 23-24 (show) – Judges Amy Star & Cari Schwartz \nTo enter\, fill out the online entry form at: \nhttps://forms.gle/i3UpHEdW54FXv7xG9
URL:https://dev25.usawe.org/event/or-25-045-25-046-we-oregon-august-clinic-shows/
LOCATION:Oregon Horse Center\, 90751 Prairie Rd\, Eugene\, OR\, 97402\, United States
CATEGORIES:All Clinics,Competitions (all),Region 1
ORGANIZER;CN="Julie Alonzo":MAILTO:workingequitationoregon@gmail.com
END:VEVENT
BEGIN:VEVENT
DTSTART;VALUE=DATE:20250816
DTEND;VALUE=DATE:20250818
DTSTAMP:20260425T115607
CREATED:20250306T010702Z
LAST-MODIFIED:20250306T010702Z
UID:42299-1755302400-1755475199@dev25.usawe.org
SUMMARY:MT: (25-108) (25-109) WE in the Valley #1 & #2
DESCRIPTION:License#(s): 25-108\nShow Name(s): WE in the Valley #1\nShow Date(s): 8/16/25 & 8/17/25\nLocation: Belgrade\, MT\nJudge: Amy Starr\nTD: Kim Pearson\nGate Steward: Sophia Wass\nShow Manager: Stacie Boswell \nLicense#(s): 25-109\nShow Name(s): WE in the Valley #2\nShow Date(s): 8/16/25 & 8/17/25\nLocation: Belgrade\, MT\nJudge: Amy Starr\nTD: Kim Pearson\nGate Steward: Sophia Wass\nShow Manager: Stacie Boswell
URL:https://dev25.usawe.org/event/mt-25-108-25-109-we-in-the-valley-1-2/
LOCATION:Belgrade\, MT
CATEGORIES:Competitions (all),Region 1
ORGANIZER;CN="Stacie Boswell":MAILTO:gvworkingequitation@gmail.com
END:VEVENT
BEGIN:VEVENT
DTSTART;VALUE=DATE:20250816
DTEND;VALUE=DATE:20250818
DTSTAMP:20260425T115607
CREATED:20250108T192523Z
LAST-MODIFIED:20250108T192523Z
UID:41520-1755302400-1755475199@dev25.usawe.org
SUMMARY:MI: (25-063) & (25-064) Rach Riding Academy #3 & #4
DESCRIPTION:License#(s): 25-063 \nShow Name(s): Rach Riding Academy #3 \nShow Date(s): 8/16/2025 \nLocation: Rach Riding Academy\, Milford\, MI \nJudge: Doreen Atkinson \nTD: Emma McClintock \nGate Steward: TBD \nShow Manager: Hilarie Zarazua \nLicense#(s): 25-064 \nShow Name(s): Rach Riding Academy #4 \nShow Date(s): 8/17/2025 \nLocation: Rach Riding Academy\, Milford\, MI \nJudge: Doreen Atkinson \nTD: Emma McClintock \nGate Steward: TBD \nShow Manager:  Hilarie Zarazua
URL:https://dev25.usawe.org/event/mi-25-063-25-064-rach-riding-academy-3-4/
LOCATION:Rach Riding Academy\, 3380 Morrow Lane\, Milford\, Michigan\, 48381\, United States
CATEGORIES:Competitions (all),Region 5
END:VEVENT
BEGIN:VEVENT
DTSTART;VALUE=DATE:20250809
DTEND;VALUE=DATE:20250811
DTSTAMP:20260425T115607
CREATED:20250415T191332Z
LAST-MODIFIED:20250415T191332Z
UID:42627-1754697600-1754870399@dev25.usawe.org
SUMMARY:MN: (25-126) (25-127) South of the River WE #3 & #4
DESCRIPTION:Judge: Polly Limond\, “S”
URL:https://dev25.usawe.org/event/mn-25-126-25-127-south-of-the-river-we-3-4/
LOCATION:Mon Cheval Training Center\, Cannon Falls\, MN\, United States
CATEGORIES:Competitions (all),Region 5
ORGANIZER;CN="Mindy Price":MAILTO:MonChevalTC@gmail.com
END:VEVENT
BEGIN:VEVENT
DTSTART;VALUE=DATE:20250802
DTEND;VALUE=DATE:20250804
DTSTAMP:20260425T115607
CREATED:20250607T183848Z
LAST-MODIFIED:20250607T183848Z
UID:43050-1754092800-1754265599@dev25.usawe.org
SUMMARY:CA: (25-142) (25-143) Wine Country Classic WE Show
DESCRIPTION:License#(s): 25-142 \, 25-143 \nShow Name(s): Wine Country Classic WE Show \nShow Date(s): 8/2/25 – 8/3/25 \nLocation: Rancho Descanso \nJudge: Barbara Price ‘R’ \nTD: Jill Mahdessian \nGate Steward: Josh Asbil \nShow Manager: Amanda Latta
URL:https://dev25.usawe.org/event/ca-25-142-25-143-wine-country-classic-we-show/
LOCATION:Rancho Descanso\, 29748 Valley Center Rd (call for directions)\, Valley Center\, CA\, United States
CATEGORIES:Competitions (all),Region 2
ORGANIZER;CN="Amanda Latta":MAILTO:winecountryclassichorseshow@gmail.com
END:VEVENT
BEGIN:VEVENT
DTSTART;VALUE=DATE:20250726
DTEND;VALUE=DATE:20250728
DTSTAMP:20260425T115607
CREATED:20250404T050240Z
LAST-MODIFIED:20250404T050240Z
UID:42565-1753488000-1753660799@dev25.usawe.org
SUMMARY:KS: (25-116) (25-117) WEKS #5 & #6
DESCRIPTION:WEKS Show #5 & #6\nJudge: Kim Roe\, “R”\, Washington\nShow Manager: Sharon Reed\, alternate Dionne Newton
URL:https://dev25.usawe.org/event/ks-25-116-25-117-weks-5-6/
LOCATION:R & D Ranch\, KS\, United States
CATEGORIES:Competitions (all),Region 3
END:VEVENT
BEGIN:VEVENT
DTSTART;VALUE=DATE:20250726
DTEND;VALUE=DATE:20250728
DTSTAMP:20260425T115607
CREATED:20250108T192110Z
LAST-MODIFIED:20250108T192110Z
UID:41516-1753488000-1753660799@dev25.usawe.org
SUMMARY:WI: (25-059) & (25-060) Blue Hills USAWE Show #1 & #2
DESCRIPTION:License#(s): 25-059\, 25-060 \nShow Name(s): Blue Hills USAWE Show #1 & #2 \nShow Date(s): 7/26/2025 & 7/27/2025 \nLocation: Rusk County Fairgrounds\, Ladysmith\, WI \nJudge: Polly Limond \nTD: Sammi Korinek \nGate Steward: Jessica Cordell \nShow Manager: Robin Trott. / Chrostine Righeimer
URL:https://dev25.usawe.org/event/wi-25-059-25-060-blue-hills-usawe-show-1-2/
LOCATION:Rusk County Fairgrounds\, Ladysmith\, WI\, United States
CATEGORIES:Competitions (all),Region 5
END:VEVENT
BEGIN:VEVENT
DTSTART;VALUE=DATE:20250725
DTEND;VALUE=DATE:20250728
DTSTAMP:20260425T115607
CREATED:20250202T190938Z
LAST-MODIFIED:20250524T200217Z
UID:41862-1753401600-1753660799@dev25.usawe.org
SUMMARY:WA: Skyreach Equestrian Center WE Festival #1
DESCRIPTION:License#: 25-087 \nShow Name: Skyreach Equestrian Center Working Equitation Festival \nShow Date(s): 7/25/2025-7/27/2025 \nLocation: Roy\, WA \nJudge: Rebecca Algar “S” ; Tracy Erway “r” \nTD: Val Pearson \nGate Steward: Finn Kriess \nShow Manager: Jennifer Trecker-Karpowicz and Jude Kriess
URL:https://dev25.usawe.org/event/wa-skyreach-equestrian-center-we-festival-1/
LOCATION:Skyreach Equestrian Center\, Troy\, WA\, United States
CATEGORIES:Competitions (all),Region 1
ORGANIZER;CN="Jennifer Trecker":MAILTO:Jennifertrecker@hotmail.com
END:VEVENT
BEGIN:VEVENT
DTSTART;VALUE=DATE:20250725
DTEND;VALUE=DATE:20250728
DTSTAMP:20260425T115607
CREATED:20250202T190800Z
LAST-MODIFIED:20250524T213808Z
UID:41858-1753401600-1753660799@dev25.usawe.org
SUMMARY:WA: (25-088) Skyreach Equestrian Center WE Festival 2
DESCRIPTION:License#(s): 25-088\nShow Name(s): Skyreach Equestrian Center Working Equitation Festival 2\nShow Date(s): 7/25/25 -7/27/25\nLocation: Roy\, WA\nJudge: Rebecca Algar “S” Tracey Erway “r”\nTD:  Val Pearson\nGate Steward:  Finn Kriess\nShow Manager: Jennifer Trecker-Karpowicz and Jude Kriess
URL:https://dev25.usawe.org/event/wa-25-088-skyreach-equestrian-center-we-festival-2/
LOCATION:Skyreach Equestrian Center\, Troy\, WA\, United States
CATEGORIES:Competitions (all),Region 1
ORGANIZER;CN="Jennifer Trecker":MAILTO:Jennifertrecker@hotmail.com
END:VEVENT
BEGIN:VEVENT
DTSTART;VALUE=DATE:20250719
DTEND;VALUE=DATE:20250721
DTSTAMP:20260425T115607
CREATED:20250108T194140Z
LAST-MODIFIED:20250108T194140Z
UID:41535-1752883200-1753055999@dev25.usawe.org
SUMMARY:CA: (25-076) & (25-077) Wine Country Classic - Christmas in July #1 & #2
DESCRIPTION:
URL:https://dev25.usawe.org/event/ca-25-076-25-077-wine-country-classic-christmas-in-july-1-2/
LOCATION:Kathleen Elliott’s Equestrian Center
CATEGORIES:Competitions (all),Region 2
ORGANIZER;CN="Amanda Latta":MAILTO:winecountryclassichorseshow@gmail.com
END:VEVENT
BEGIN:VEVENT
DTSTART;VALUE=DATE:20250719
DTEND;VALUE=DATE:20250721
DTSTAMP:20260425T115607
CREATED:20241126T204605Z
LAST-MODIFIED:20250106T181133Z
UID:40901-1752883200-1753055999@dev25.usawe.org
SUMMARY:IL: (25-043) (25-044) FVSA July Show #1 & #2
DESCRIPTION:Enter online at:  https://forms.gle/nh5Vgaz5M6yXucFa7 \nThese competitions are licensed by USA Working Equitation. \nShow Entry Fee: $300 to participate in one show; $400 to participate in both shows. This covers your stall (Friday 3 pm – Sunday\, end of show)\, your entry fee\, and lunch for one on each day you are signed up to participate. (meals will be available for purchase for family/friends as well). \n\n\nWE Oregon Youth rider sponsorship – $100 off youth entries if entering both shows! \nTack Stall: $100 \nJust-for-fun Leadline modified Ease of Handling: $10 (suitable for young horses or riders who are not yet ready to go it alone). \n\n\nCamping spots with electrical hookups are available on site for an additional charge of $30/day\, and there is plenty of room for “dry camping” without electricity.To compete\, riders must be current members of USAWE\, and all horses must be recorded with USAWE. If you are participating for schooling only\, this requirement is waived. \n\n\n\nJudge: Nicole Chastain\, S\, California \nIMPORTANT NOTE:\nRefunds (less a $75 processing fee) are offered if you are unable to attend due to a true medical emergency (COVID exposure\, sickness\, medically unsound to ride\, horse health issues). \n\n\n\nProof of negative Coggin’s test is required for all horses entering Fox Valley. Out-of-state horses should also have a current health certificate. \n-Julie
URL:https://dev25.usawe.org/event/il-25-043-25-044-fvsa-july-show-1-2/
LOCATION:Fox Valley Saddle Association\, 44W300 Rohrsen Rd.\, Hampshire\, IL\, 60140\, United States
CATEGORIES:Competitions (all),Region 5
ORGANIZER;CN="Julie Alonzo":MAILTO:workingequitationoregon@gmail.com
END:VEVENT
BEGIN:VEVENT
DTSTART;VALUE=DATE:20250719
DTEND;VALUE=DATE:20250721
DTSTAMP:20260425T115607
CREATED:20241107T125039Z
LAST-MODIFIED:20241107T125039Z
UID:40305-1752883200-1753055999@dev25.usawe.org
SUMMARY:MT: (25-027) WE Under the Big Sky July Show
DESCRIPTION:License#(s): 25-027 \nShow Name(s): WE Under the Big Sky July Show \nShow Date(s): 7/19/25 – 7/20/25 \nLocation: Stevensville\, MT \nJudge: Kim Roe \nTD: Dawn Swensson \nGate Steward: Jan Harris   \nShow Manager: Alyssa Briceland
URL:https://dev25.usawe.org/event/mt-25-027-we-under-the-big-sky-july-show/
LOCATION:Sleeping Willow Ranch\, 888. South Burnt Fork Rd\, Stevensville\, MT\, 59870\, United States
CATEGORIES:Competitions (all),Region 1
ORGANIZER;CN="Alyssa Briceland":MAILTO:swrcattle@gmail.com
END:VEVENT
END:VCALENDAR