BEGIN:VCALENDAR
VERSION:2.0
PRODID:-//USA Working Equitation - ECPv6.15.20//NONSGML v1.0//EN
CALSCALE:GREGORIAN
METHOD:PUBLISH
X-WR-CALNAME:USA Working Equitation
X-ORIGINAL-URL:https://dev25.usawe.org
X-WR-CALDESC:Events for USA Working Equitation
REFRESH-INTERVAL;VALUE=DURATION:PT1H
X-Robots-Tag:noindex
X-PUBLISHED-TTL:PT1H
BEGIN:VTIMEZONE
TZID:America/Los_Angeles
BEGIN:DAYLIGHT
TZOFFSETFROM:-0800
TZOFFSETTO:-0700
TZNAME:PDT
DTSTART:20240310T100000
END:DAYLIGHT
BEGIN:STANDARD
TZOFFSETFROM:-0700
TZOFFSETTO:-0800
TZNAME:PST
DTSTART:20241103T090000
END:STANDARD
BEGIN:DAYLIGHT
TZOFFSETFROM:-0800
TZOFFSETTO:-0700
TZNAME:PDT
DTSTART:20250309T100000
END:DAYLIGHT
BEGIN:STANDARD
TZOFFSETFROM:-0700
TZOFFSETTO:-0800
TZNAME:PST
DTSTART:20251102T090000
END:STANDARD
BEGIN:DAYLIGHT
TZOFFSETFROM:-0800
TZOFFSETTO:-0700
TZNAME:PDT
DTSTART:20260308T100000
END:DAYLIGHT
BEGIN:STANDARD
TZOFFSETFROM:-0700
TZOFFSETTO:-0800
TZNAME:PST
DTSTART:20261101T090000
END:STANDARD
END:VTIMEZONE
BEGIN:VEVENT
DTSTART;TZID=America/Los_Angeles:20250718T080000
DTEND;TZID=America/Los_Angeles:20250718T170000
DTSTAMP:20260425T031931
CREATED:20250221T033817Z
LAST-MODIFIED:20250221T033817Z
UID:42096-1752825600-1752858000@dev25.usawe.org
SUMMARY:IL: WE Clinic at Fox Valley Saddle Association
DESCRIPTION:In response to the incredible excitement our May clinic/competition combo has generated\, we’re delighted to offer another clinic/show combination at Fox Valley Saddle Association!\n\nPriority for the clinic will be for those new to the sport (for the purpose of this clinic\, defined as a horse/rider pair that has competed in 2 or fewer Working Equitation competitions). We’ll start by filling clinic spots with people who have limited (or no) experience in WE. After June 20\, we will fill remaining clinic spots with more experienced WE riders. The time stamp when your online entry is received will establish the order in which you’ll be added to the clinic spots as they become available.\n\nClinicians: \nJulie Alonzo has been actively involved in Working Equitation since 2010 and has competed at L1 – L5 on a variety of horses. She regularly travels to Portugal to enhance her knowledge of the sport and has attended multiple judge seminars taught by international WE judges. A USAWE Technical Delegate\, Julie has taught over 125 clinics in locations as distant as Australia and Canada as well as Alaska\, California\, Oregon\, Washington\, Idaho\, Montana\, Illinois\, Nebraska\, Louisiana\, New York\, Michigan\, Missouri\, Texas\, Utah\, and Florida.\n\nKristine Strasburger is a USAWE Technical Delegate and has taught Introductory Working Equitation clinics in Idaho\, Montana\, and Nebraska. She has competed in L1 and L2. She attended a four-day Judge Seminar taught by WAWE International Judge Antonio Vicente\, from Portugal in August of 2024 and will be spending 2 days at an Immersive Educational Event in Portugal this May\, where she’ll be learning from WAWE International Judges while watching a Portuguese WE competition\, before spending five days taking WE lessons at one of the most successful competitive WE barns in Portugal.\n\nClinic Structure: \n8 – 9 AM – Introductory Lecture in the Fox Valley Clubhouse – an overview of the sport and what judges are looking for.\n9:15 – 9:45 – On foot instruction on the obstacles (no horses yet)\n\n10 – 11 Group 1 Obstacles (4 people / 2 instructors)\n11 – 12 Group 2 Obstacles (4 people / 2 instructors)\n\n12 – 12:45 Lunch\n\n1 – 2 Group 3 Obstacles  (4 people / 2 instructors)\n2 – 3 Group 4 Obstacles  (4 people / 2 instructors)\n\n3:15 – 3:45 Group Lesson – Learn the L1 Dressage Test (8 people / 2 instructors)\n3:45 – 4:15 Group Lesson – Learn the L1 Dressage Test (8 people / 2 instructors)\n\nClinic Entry Fee:\n$75 per horse/rider\n$35 per stall (available from 5:30 pm Thursday). If you need to come in earlier\, please let us know; we’ll try to accommodate!\n\nTo enter\, please complete the online entry form (the same form is also being used for the competitions being held the weekend immediately following our clinic): \nhttps://forms.gle/AzwzjK6GsyekF1Ch6
URL:https://dev25.usawe.org/event/il-we-clinic-at-fox-valley-saddle-association/
LOCATION:Fox Valley Saddle Association\, 44W300 Rohrsen Rd.\, Hampshire\, IL\, 60140\, United States
CATEGORIES:All Clinics,Region 5
ORGANIZER;CN="Julie Alonzo":MAILTO:workingequitationoregon@gmail.com
END:VEVENT
END:VCALENDAR