BEGIN:VCALENDAR
VERSION:2.0
PRODID:-//USA Working Equitation - ECPv6.15.20//NONSGML v1.0//EN
CALSCALE:GREGORIAN
METHOD:PUBLISH
X-ORIGINAL-URL:https://dev25.usawe.org
X-WR-CALDESC:Events for USA Working Equitation
REFRESH-INTERVAL;VALUE=DURATION:PT1H
X-Robots-Tag:noindex
X-PUBLISHED-TTL:PT1H
BEGIN:VTIMEZONE
TZID:America/Los_Angeles
BEGIN:DAYLIGHT
TZOFFSETFROM:-0800
TZOFFSETTO:-0700
TZNAME:PDT
DTSTART:20240310T100000
END:DAYLIGHT
BEGIN:STANDARD
TZOFFSETFROM:-0700
TZOFFSETTO:-0800
TZNAME:PST
DTSTART:20241103T090000
END:STANDARD
BEGIN:DAYLIGHT
TZOFFSETFROM:-0800
TZOFFSETTO:-0700
TZNAME:PDT
DTSTART:20250309T100000
END:DAYLIGHT
BEGIN:STANDARD
TZOFFSETFROM:-0700
TZOFFSETTO:-0800
TZNAME:PST
DTSTART:20251102T090000
END:STANDARD
BEGIN:DAYLIGHT
TZOFFSETFROM:-0800
TZOFFSETTO:-0700
TZNAME:PDT
DTSTART:20260308T100000
END:DAYLIGHT
BEGIN:STANDARD
TZOFFSETFROM:-0700
TZOFFSETTO:-0800
TZNAME:PST
DTSTART:20261101T090000
END:STANDARD
END:VTIMEZONE
BEGIN:VEVENT
DTSTART;VALUE=DATE:20250705
DTEND;VALUE=DATE:20250707
DTSTAMP:20260424T041644
CREATED:20241126T204419Z
LAST-MODIFIED:20250106T181618Z
UID:40899-1751673600-1751846399@dev25.usawe.org
SUMMARY:OR: (25-041) (25-042) WE in Wine Country - July #1 & #2
DESCRIPTION:Come join us for a fantastic weekend show\, complete with cattle handling clinics on Thursday and Friday and a Cattle Trial on Sunday!\n\nEnter online at: https://forms.gle/7WtCyVmNrBUb7gv58\nThis Working Equitation competition is licensed by USA Working Equitation and will take place at the beautiful WW facility in Milton-Freewater\, Oregon (just south of Walla Walla\, WA)\, the heart of eastern Oregon/Washington’s Wine Country. In addition\, we’ll be offering a cattle clinic on Friday before the show. This is a great opportunity to learn more about working with cattle in a low-stress\, supportive environment. \nThe first 15 people who register and pay in full will have the option of competing in TWO competitions over the weeekend. After that\, opportunity to compete in both shows will depend on availability / time. \n\nAll competing riders must be members of USAWE\, and all competing horses must have a horse recording number issued by USAWE to participate. Those participating as schooling rides only do not need to be members/have horse recording numbers. \nEntry Fee: $250 for one show; $150 additional to add a second show (if spots are available); $75 per spot in the Cattle Clinic (available both Thursday and Friday)\, $50 for Cattle Trial on Sunday\nStabling: $25 per day \nBedding: $15 per bag (or wheelbarrow\, if the facility opts to provide bulk bedding)\nStall Cleaning Deposit: $75 – will be refunded within one week after the competition provided you strip your stall completely prior to departure. \nCamping is available on site for $40/night with electric; $25 dry camping. \nJudges: \nAmy Star\, R\, AZ\nErica Peet\, r\, IL\n\nIMPORTANT NOTE:\nRefunds (less a $75 processing fee) are only possible for illness (horse or human) with medical verification.
URL:https://dev25.usawe.org/event/or-25-041-25-042-we-in-wine-country-july-1-2/
LOCATION:WW Arena\, 85207 Telephone Pole Road\, Milton-Freewater\, OR\, 97862\, United States
CATEGORIES:Competitions (all),Region 1
ORGANIZER;CN="Julie Alonzo":MAILTO:workingequitationoregon@gmail.com
END:VEVENT
BEGIN:VEVENT
DTSTART;VALUE=DATE:20250705
DTEND;VALUE=DATE:20250707
DTSTAMP:20260424T041644
CREATED:20250223T232641Z
LAST-MODIFIED:20250223T232641Z
UID:42115-1751673600-1751846399@dev25.usawe.org
SUMMARY:MT: WE Boot Camp #2
DESCRIPTION:Come learn from one of Montana’s most accomplished WE competitors\, trainers\, and instructors. USAWE Professional Instructor Trisha Reed!
URL:https://dev25.usawe.org/event/mt-we-boot-camp-2/
LOCATION:Run-A-Muck Ranch\, Wolf Creek\, United States
CATEGORIES:All Clinics,Region 1
ATTACH;FMTTYPE=image/jpeg:https://dev25.usawe.org/wp-content/uploads/2025/02/Screenshot_20250223_110928_Messenger.jpg
ORGANIZER;CN="Trisha Reed":MAILTO:torunamucksome@gmail.com
END:VEVENT
END:VCALENDAR