BEGIN:VCALENDAR
VERSION:2.0
PRODID:-//USA Working Equitation - ECPv6.15.20//NONSGML v1.0//EN
CALSCALE:GREGORIAN
METHOD:PUBLISH
X-WR-CALNAME:USA Working Equitation
X-ORIGINAL-URL:https://dev25.usawe.org
X-WR-CALDESC:Events for USA Working Equitation
REFRESH-INTERVAL;VALUE=DURATION:PT1H
X-Robots-Tag:noindex
X-PUBLISHED-TTL:PT1H
BEGIN:VTIMEZONE
TZID:America/Los_Angeles
BEGIN:DAYLIGHT
TZOFFSETFROM:-0800
TZOFFSETTO:-0700
TZNAME:PDT
DTSTART:20240310T100000
END:DAYLIGHT
BEGIN:STANDARD
TZOFFSETFROM:-0700
TZOFFSETTO:-0800
TZNAME:PST
DTSTART:20241103T090000
END:STANDARD
BEGIN:DAYLIGHT
TZOFFSETFROM:-0800
TZOFFSETTO:-0700
TZNAME:PDT
DTSTART:20250309T100000
END:DAYLIGHT
BEGIN:STANDARD
TZOFFSETFROM:-0700
TZOFFSETTO:-0800
TZNAME:PST
DTSTART:20251102T090000
END:STANDARD
BEGIN:DAYLIGHT
TZOFFSETFROM:-0800
TZOFFSETTO:-0700
TZNAME:PDT
DTSTART:20260308T100000
END:DAYLIGHT
BEGIN:STANDARD
TZOFFSETFROM:-0700
TZOFFSETTO:-0800
TZNAME:PST
DTSTART:20261101T090000
END:STANDARD
END:VTIMEZONE
BEGIN:VEVENT
DTSTART;VALUE=DATE:20250510
DTEND;VALUE=DATE:20250512
DTSTAMP:20260420T175134
CREATED:20241107T124922Z
LAST-MODIFIED:20241107T124922Z
UID:40303-1746835200-1747007999@dev25.usawe.org
SUMMARY:MT: (25-026) WE Under the Big Sky May Show
DESCRIPTION:License#(s): 25-026 \nShow Name(s): WE Under the Big Sky May Show \nShow Date(s): 5/10/25 – 5/11/25 \nLocation: Stevensville\, MT \nJudge: Nicole Chastain \nTD: Dawn Swensson \nGate Steward: KR Rose \nShow Manager: Alyssa Briceland
URL:https://dev25.usawe.org/event/mt-25-026-we-under-the-big-sky-may-show/
LOCATION:Sleeping Willow Ranch\, 888. South Burnt Fork Rd\, Stevensville\, MT\, 59870\, United States
CATEGORIES:Competitions (all),Region 1
ORGANIZER;CN="Alyssa Briceland":MAILTO:swrcattle@gmail.com
END:VEVENT
BEGIN:VEVENT
DTSTART;VALUE=DATE:20250510
DTEND;VALUE=DATE:20250512
DTSTAMP:20260420T175134
CREATED:20250204T062036Z
LAST-MODIFIED:20250204T062036Z
UID:41903-1746835200-1747007999@dev25.usawe.org
SUMMARY:WI: The Sunrise Ranch Buckle Series
DESCRIPTION:May 10/11\, June 7/8\, July 12/13\, Aug 30/31\, Oct 11/1 \nThis is a schooling show buckle series. Each of the five weekends will include a Saturday WE clinic or lessons and a Sunday WE schooling show and have a different USAWE instructor/judge. The SRR may offer a cattle clinic on the Friday before. Placings for the buckle series will be from the cumulative score of each rider’s three best rides in the series. Come join in this low-pressure fun way to engage in Working Equitation!  \n 
URL:https://dev25.usawe.org/event/wi-the-sunrise-ranch-buckle-series/
LOCATION:The Sunrise Ranch\, 60055 Roy Anderson Rd\, Mason\, WI\, 54856\, United States
CATEGORIES:All Clinics,All Schooling Shows,Region 5
ATTACH;FMTTYPE=image/jpeg:https://dev25.usawe.org/wp-content/uploads/2025/02/Working-Equitation-Demo-at-the-SRR-2-Adrienne-Dymesich.jpg
ORGANIZER;CN="Adrienne Dymesich":MAILTO:Thesunriseranch@gmail
END:VEVENT
END:VCALENDAR