BEGIN:VCALENDAR
VERSION:2.0
PRODID:-//USA Working Equitation - ECPv6.15.20//NONSGML v1.0//EN
CALSCALE:GREGORIAN
METHOD:PUBLISH
X-ORIGINAL-URL:https://dev25.usawe.org
X-WR-CALDESC:Events for USA Working Equitation
REFRESH-INTERVAL;VALUE=DURATION:PT1H
X-Robots-Tag:noindex
X-PUBLISHED-TTL:PT1H
BEGIN:VTIMEZONE
TZID:America/Los_Angeles
BEGIN:DAYLIGHT
TZOFFSETFROM:-0800
TZOFFSETTO:-0700
TZNAME:PDT
DTSTART:20240310T100000
END:DAYLIGHT
BEGIN:STANDARD
TZOFFSETFROM:-0700
TZOFFSETTO:-0800
TZNAME:PST
DTSTART:20241103T090000
END:STANDARD
BEGIN:DAYLIGHT
TZOFFSETFROM:-0800
TZOFFSETTO:-0700
TZNAME:PDT
DTSTART:20250309T100000
END:DAYLIGHT
BEGIN:STANDARD
TZOFFSETFROM:-0700
TZOFFSETTO:-0800
TZNAME:PST
DTSTART:20251102T090000
END:STANDARD
BEGIN:DAYLIGHT
TZOFFSETFROM:-0800
TZOFFSETTO:-0700
TZNAME:PDT
DTSTART:20260308T100000
END:DAYLIGHT
BEGIN:STANDARD
TZOFFSETFROM:-0700
TZOFFSETTO:-0800
TZNAME:PST
DTSTART:20261101T090000
END:STANDARD
END:VTIMEZONE
BEGIN:VEVENT
DTSTART;TZID=America/Los_Angeles:20250112T080000
DTEND;TZID=America/Los_Angeles:20250112T170000
DTSTAMP:20260421T091207
CREATED:20250112T212914Z
LAST-MODIFIED:20250112T214521Z
UID:41565-1736668800-1736701200@dev25.usawe.org
SUMMARY:MD: Train to Win Clinic with European and World Champion Gilberto Filipe
DESCRIPTION:The clinic will be held March 22-23\, 2025 at Oak Spring Equestrian in Woodbine\, Maryland. We are very excited to be welcoming two-time Working Equitation World Champion & 2024 WAWE European Champion Gilberto Filipe as our clinician! \nRiders who had registered and paid for the previously cancelled TTW3 clinic have been given the opportunity to pre-register. The remaining rider spots will be open first to Region 6 and 7 Advanced and Masters competitors. Auditors are welcome and encouraged to join this sure-to-be very educational and fun event. \nRegister online at: https://docs.google.com/forms/d/e/1FAIpQLSdZOGHv3aelgH3AlQ5zvdkxAQb2bIghUjgkiuPQaNtlMKFbtg/viewform
URL:https://dev25.usawe.org/event/md-train-to-win-clinic-with-european-and-world-champion-gilberto-filipe/
LOCATION:Oak Spring Equestrian\, 15195 Bushy Park Rd.\, Woodbine\, MD\, 21797\, United States
CATEGORIES:All Clinics,Region 7,Seminars
END:VEVENT
END:VCALENDAR