BEGIN:VCALENDAR
VERSION:2.0
PRODID:-//USA Working Equitation - ECPv6.15.20//NONSGML v1.0//EN
CALSCALE:GREGORIAN
METHOD:PUBLISH
X-WR-CALNAME:USA Working Equitation
X-ORIGINAL-URL:https://dev25.usawe.org
X-WR-CALDESC:Events for USA Working Equitation
REFRESH-INTERVAL;VALUE=DURATION:PT1H
X-Robots-Tag:noindex
X-PUBLISHED-TTL:PT1H
BEGIN:VTIMEZONE
TZID:America/Los_Angeles
BEGIN:DAYLIGHT
TZOFFSETFROM:-0800
TZOFFSETTO:-0700
TZNAME:PDT
DTSTART:20230312T100000
END:DAYLIGHT
BEGIN:STANDARD
TZOFFSETFROM:-0700
TZOFFSETTO:-0800
TZNAME:PST
DTSTART:20231105T090000
END:STANDARD
BEGIN:DAYLIGHT
TZOFFSETFROM:-0800
TZOFFSETTO:-0700
TZNAME:PDT
DTSTART:20240310T100000
END:DAYLIGHT
BEGIN:STANDARD
TZOFFSETFROM:-0700
TZOFFSETTO:-0800
TZNAME:PST
DTSTART:20241103T090000
END:STANDARD
BEGIN:DAYLIGHT
TZOFFSETFROM:-0800
TZOFFSETTO:-0700
TZNAME:PDT
DTSTART:20250309T100000
END:DAYLIGHT
BEGIN:STANDARD
TZOFFSETFROM:-0700
TZOFFSETTO:-0800
TZNAME:PST
DTSTART:20251102T090000
END:STANDARD
END:VTIMEZONE
BEGIN:VEVENT
DTSTART;VALUE=DATE:20241025
DTEND;VALUE=DATE:20241028
DTSTAMP:20260423T221926
CREATED:20240806T212842Z
LAST-MODIFIED:20240806T212842Z
UID:39183-1729814400-1730073599@dev25.usawe.org
SUMMARY:WA: (24-135) Halloween Hootenanny
DESCRIPTION:License#(s): 24-135\nShow Name(s): Halloween Hootenanny\nShow Date(s): 8/25-27/2024\nLocation: Wenatchee\, WA \nJudge: Amy Star\nTD: Mary Duffy
URL:https://dev25.usawe.org/event/wa-24-135-halloween-hootenanny/
LOCATION:Wenatchee Riders\, Wenatchee\, WA\, United States
CATEGORIES:Competitions (all),Region 1
ORGANIZER;CN="Katie Garrett":MAILTO:kegarrett88@yahoo.com
END:VEVENT
BEGIN:VEVENT
DTSTART;VALUE=DATE:20241026
DTEND;VALUE=DATE:20241027
DTSTAMP:20260423T221926
CREATED:20230704T124123Z
LAST-MODIFIED:20230920T181427Z
UID:29983-1729900800-1729987199@dev25.usawe.org
SUMMARY:IL: (24-007) KarMik Acres Show Series #7
DESCRIPTION:(24-007) KarMik Acres Show Series #7 \nLicensed show offering L1-L7 \nVisit usawe.org > Competitions > List of Licensed Competitions for license status\, performance levels offered\, show manager\, judge and technical delegate info.
URL:https://dev25.usawe.org/event/il-24-007-karmik-acres-show-series-7/
LOCATION:KarMik Acres\, 4010 S Cherry Valley Road\, Woodstock\, Illinois\, 60098\, United States
CATEGORIES:Competitions (all),Region 5
ORGANIZER;CN="Karen Boso":MAILTO:info@karmikacres.com
END:VEVENT
BEGIN:VEVENT
DTSTART;VALUE=DATE:20241026
DTEND;VALUE=DATE:20241027
DTSTAMP:20260423T221926
CREATED:20240426T181431Z
LAST-MODIFIED:20240426T181431Z
UID:36978-1729900800-1729987199@dev25.usawe.org
SUMMARY:AZ: (24-111) Rim Rider Show 3 of 3
DESCRIPTION:License#(s): 24-111 \nShow Name(s): Rim Rider Show 3 of 3 \nShow Date(s): 10/26/2024 \nLocation: Payson AZ \nJudge: Andre Ganc \nTD: Ashley Bowers \nGate Steward: Marty Brook \nShow Manager: Tessa Nicolet / Victoria Clayton
URL:https://dev25.usawe.org/event/az-24-111-rim-rider-show-3-of-3/
LOCATION:Patterson Training LLC\, 272 S Sprague Dr\, Star Valley\, AZ\, 85541\, United States
CATEGORIES:Competitions (all),Region 2
END:VEVENT
BEGIN:VEVENT
DTSTART;VALUE=DATE:20241026
DTEND;VALUE=DATE:20241028
DTSTAMP:20260423T221926
CREATED:20240119T041240Z
LAST-MODIFIED:20240123T025033Z
UID:34180-1729900800-1730073599@dev25.usawe.org
SUMMARY:OR: (24-059) WE Oregon Halloween Show
DESCRIPTION:License#(s): 24-059 \nShow Name(s): WE Oregon October show \nShow Date(s): 10/19 – 10/20/2024 \nLocation: Eugene\, OR \nJudge: Cari Schwartz \nTD: Mark Klingler \nFor more information\, contact Julie Alonzo at WorkingEquitationOregon@gmail.com
URL:https://dev25.usawe.org/event/or-24-059-we-oregon-halloween-show/
LOCATION:Oregon Horse Center\, 90751 Prairie Rd\, Eugene\, OR\, 97402\, United States
CATEGORIES:Competitions (all),Region 1
ORGANIZER;CN="Julie Alonzo":MAILTO:workingequitationoregon@gmail.com
END:VEVENT
BEGIN:VEVENT
DTSTART;VALUE=DATE:20241026
DTEND;VALUE=DATE:20241028
DTSTAMP:20260423T221926
CREATED:20241009T113209Z
LAST-MODIFIED:20241009T113209Z
UID:39988-1729900800-1730073599@dev25.usawe.org
SUMMARY:NV: Dia de los Muertos Working Equitation Schooling Show
DESCRIPTION:Our annual Dia de Los Muertos show is two days of exciting working equitation. Dressage trial will be held on Saturday\, then Ease of Handling and Speed competitions on Sunday. Beautiful champion buckles will be awarded to Intro and combined Novice divisions. Also on Sunday there will be a “Best Dia de los Muertos” costume competition! In conjunction with the show\, there will be a food drive\, raffle and silent auction to benefit the food pantries of the Healthy Communities Coalition of Lyon & Storey counties. Last year over 200# of canned and boxed food were collected and the silent auction and raffle together earned a tidy sum of $2500! We are hoping to meet or beat this in 2024!
URL:https://dev25.usawe.org/event/nv-dia-de-los-muertos-working-equitation-schooling-show/
LOCATION:Broken Bit Ranch\, 124 Upper Colony Road\, Wellington\, NV\, 89444\, United States
CATEGORIES:All Schooling Shows,Region 2
ATTACH;FMTTYPE=image/jpeg:https://dev25.usawe.org/wp-content/uploads/2024/10/2024-10-Dia-de-los-Muertos-Schooling-Show.jpg
ORGANIZER;CN="Jill Fry":MAILTO:brokenbitranch@earthlink.net
END:VEVENT
BEGIN:VEVENT
DTSTART;TZID=America/Los_Angeles:20241026T080000
DTEND;TZID=America/Los_Angeles:20241026T110000
DTSTAMP:20260423T221926
CREATED:20231221T052327Z
LAST-MODIFIED:20231221T052327Z
UID:33196-1729929600-1729940400@dev25.usawe.org
SUMMARY:IL: WE Playday!
DESCRIPTION:Hosted by USAWE Affiliate Organization Fox Valley Saddle Association. Come join in the fun! \nApril 7\, 10 am – 1 pm\nMay 30\, 6 pm – 8 pm\nJuly 21\, 10 am – 1 pm\nSeptember 28\, 10 am – 1 pm\nOctober 26\, 10 am – 1 pm
URL:https://dev25.usawe.org/event/il-we-playday-13/
LOCATION:Fox Valley Saddle Association\, 44W300 Rohrsen Rd.\, Hampshire\, IL\, 60140\, United States
CATEGORIES:All Playdays,Region 5
ATTACH;FMTTYPE=image/jpeg:https://dev25.usawe.org/wp-content/uploads/2023/12/9788CD72-5142-4BF5-912B-1EA8BD0BA90C.jpeg
ORGANIZER;CN="Sandy Klinkey":MAILTO:sklinkey@gmail.com
END:VEVENT
END:VCALENDAR