BEGIN:VCALENDAR
VERSION:2.0
PRODID:-//USA Working Equitation - ECPv6.15.20//NONSGML v1.0//EN
CALSCALE:GREGORIAN
METHOD:PUBLISH
X-WR-CALNAME:USA Working Equitation
X-ORIGINAL-URL:https://dev25.usawe.org
X-WR-CALDESC:Events for USA Working Equitation
REFRESH-INTERVAL;VALUE=DURATION:PT1H
X-Robots-Tag:noindex
X-PUBLISHED-TTL:PT1H
BEGIN:VTIMEZONE
TZID:America/Los_Angeles
BEGIN:DAYLIGHT
TZOFFSETFROM:-0800
TZOFFSETTO:-0700
TZNAME:PDT
DTSTART:20230312T100000
END:DAYLIGHT
BEGIN:STANDARD
TZOFFSETFROM:-0700
TZOFFSETTO:-0800
TZNAME:PST
DTSTART:20231105T090000
END:STANDARD
BEGIN:DAYLIGHT
TZOFFSETFROM:-0800
TZOFFSETTO:-0700
TZNAME:PDT
DTSTART:20240310T100000
END:DAYLIGHT
BEGIN:STANDARD
TZOFFSETFROM:-0700
TZOFFSETTO:-0800
TZNAME:PST
DTSTART:20241103T090000
END:STANDARD
BEGIN:DAYLIGHT
TZOFFSETFROM:-0800
TZOFFSETTO:-0700
TZNAME:PDT
DTSTART:20250309T100000
END:DAYLIGHT
BEGIN:STANDARD
TZOFFSETFROM:-0700
TZOFFSETTO:-0800
TZNAME:PST
DTSTART:20251102T090000
END:STANDARD
END:VTIMEZONE
BEGIN:VEVENT
DTSTART;VALUE=DATE:20241011
DTEND;VALUE=DATE:20241013
DTSTAMP:20260425T032852
CREATED:20240811T125118Z
LAST-MODIFIED:20240811T125118Z
UID:39241-1728604800-1728777599@dev25.usawe.org
SUMMARY:NC: Shining Hope Farms Benefit Working Equitation Clinic and Schooling Show
DESCRIPTION:Shining Hope Farms Benefit Working Equitation Clinic and Schooling Show with USAWE “S” Judge\, Polly Limond \nRegistration for the October Working Equitation Clinic and Schooling Show at the beautiful Conover location of Shining Hope Farms is now open. Shining Hope Farms is a nonprofit organization whose mission is to enable children and adults to reach their full potential using equine-assisted activities and therapies. This is a benefit show for their many therapeutic riding programs. The clinic with USAWE “S” judge\, Polly Limond\, is scheduled for Friday\, October 11th\, with the WE Schooling Show\, on Saturday\, October 12th. \nClinic Information\nFriday\, October 11\, 8 AM – 5 PM Group lesson with Polly Limond | $100 per rider for 1.5 hour + $25 grounds fee | Limit 18 (6 groups of 3) \nShow Information\nSaturday\, October 12 Show – 8AM – 5 PM | Schooling show – limit 20 entries\, (once 20 entries are reached\, there will be a wait list)\nENTRIES CLOSE OCTOBER 2\nL1 = $125 / Level 2 and above = $170 \nREGISTRATION LINK: https://shininghopefarms.org/wec-registration/
URL:https://dev25.usawe.org/event/nc-shining-hope-farms-benefit-working-equitation-clinic-and-schooling-show/
LOCATION:Shining Hope Farms\, 6347 St Peter's Church Road\, Concover\, NC\, United States
CATEGORIES:All Clinics,All Schooling Shows,Region 7
ORGANIZER;CN="Pat Melton":MAILTO:pmelton1982@gmail.com
END:VEVENT
BEGIN:VEVENT
DTSTART;VALUE=DATE:20241012
DTEND;VALUE=DATE:20241013
DTSTAMP:20260425T032852
CREATED:20240211T150031Z
LAST-MODIFIED:20240211T150031Z
UID:34747-1728691200-1728777599@dev25.usawe.org
SUMMARY:WA: WWVWE Playday
DESCRIPTION:A fun filled learning experience for all interested in WE. Each practice is different and generally includes EOH and dressage. Practice tests follow about an hour of free practice on the courts. Very supportive group. All levels welcome. \nPlease RSVP to the host.
URL:https://dev25.usawe.org/event/wa-wwvwe-playday-3/
LOCATION:6181 Cottonwood\, 6181 Cottonwood\, Walla Walla\, WA\, United States
CATEGORIES:All Playdays,Region 1
ATTACH;FMTTYPE=image/jpeg:https://dev25.usawe.org/wp-content/uploads/2024/02/WWVWE-Playday-2024.jpg
ORGANIZER;CN="Lisa Thompson":MAILTO:pegasust101@aol.com
END:VEVENT
BEGIN:VEVENT
DTSTART;VALUE=DATE:20241012
DTEND;VALUE=DATE:20241014
DTSTAMP:20260425T032852
CREATED:20240119T041809Z
LAST-MODIFIED:20240119T041809Z
UID:34185-1728691200-1728863999@dev25.usawe.org
SUMMARY:IL: (24-063 & 24-064) FVSA Halloween Show #1 & #2
DESCRIPTION:License#(s): 24-063 and 24-064 \nShow Name(s): FVSA Halloween show # 1 and # 2 \nShow Date(s): 10/12/2024 and 10/13/2024 \nLocation: Hampshire\, IL \nJudge: Tracey Erway \nTD: Kristine Strasburger \nGate Steward: Sharon Kinney \nShow Manager: Julie Alonzo
URL:https://dev25.usawe.org/event/il-24-063-24-064-fvsa-halloween-show-1-2/
LOCATION:Fox Valley Saddle Association\, 44W300 Rohrsen Rd.\, Hampshire\, IL\, 60140\, United States
CATEGORIES:Competitions (all),Region 5
ORGANIZER;CN="Julie Alonzo":MAILTO:workingequitationoregon@gmail.com
END:VEVENT
END:VCALENDAR