BEGIN:VCALENDAR
VERSION:2.0
PRODID:-//USA Working Equitation - ECPv6.15.20//NONSGML v1.0//EN
CALSCALE:GREGORIAN
METHOD:PUBLISH
X-ORIGINAL-URL:https://dev25.usawe.org
X-WR-CALDESC:Events for USA Working Equitation
REFRESH-INTERVAL;VALUE=DURATION:PT1H
X-Robots-Tag:noindex
X-PUBLISHED-TTL:PT1H
BEGIN:VTIMEZONE
TZID:America/Los_Angeles
BEGIN:DAYLIGHT
TZOFFSETFROM:-0800
TZOFFSETTO:-0700
TZNAME:PDT
DTSTART:20230312T100000
END:DAYLIGHT
BEGIN:STANDARD
TZOFFSETFROM:-0700
TZOFFSETTO:-0800
TZNAME:PST
DTSTART:20231105T090000
END:STANDARD
BEGIN:DAYLIGHT
TZOFFSETFROM:-0800
TZOFFSETTO:-0700
TZNAME:PDT
DTSTART:20240310T100000
END:DAYLIGHT
BEGIN:STANDARD
TZOFFSETFROM:-0700
TZOFFSETTO:-0800
TZNAME:PST
DTSTART:20241103T090000
END:STANDARD
BEGIN:DAYLIGHT
TZOFFSETFROM:-0800
TZOFFSETTO:-0700
TZNAME:PDT
DTSTART:20250309T100000
END:DAYLIGHT
BEGIN:STANDARD
TZOFFSETFROM:-0700
TZOFFSETTO:-0800
TZNAME:PST
DTSTART:20251102T090000
END:STANDARD
END:VTIMEZONE
BEGIN:VEVENT
DTSTART;VALUE=DATE:20240913
DTEND;VALUE=DATE:20240914
DTSTAMP:20260423T190605
CREATED:20240211T150515Z
LAST-MODIFIED:20240211T150515Z
UID:34753-1726185600-1726271999@dev25.usawe.org
SUMMARY:WA: WWVWE Playday
DESCRIPTION:A fun filled learning experience for all interested in WE. Each practice is different and generally includes EOH and dressage. Practice tests follow about an hour of free practice on the courts. Very supportive group. All levels welcome. Please RSVP to the host. Time is 4-6pm
URL:https://dev25.usawe.org/event/wa-wwvwe-playday-5/
LOCATION:1280 Lowden-Gardena Rd\, 1280 Lowden-Gardena Rd\, Touchet\, WA\, United States
CATEGORIES:All Playdays,Region 1
ATTACH;FMTTYPE=image/jpeg:https://dev25.usawe.org/wp-content/uploads/2024/02/WWWVWE-Playday-Bull-2024.jpg
ORGANIZER;CN="Erin Fletcher":MAILTO:paramedicfletcher@gmail.com
END:VEVENT
END:VCALENDAR