BEGIN:VCALENDAR
VERSION:2.0
PRODID:-//USA Working Equitation - ECPv6.15.20//NONSGML v1.0//EN
CALSCALE:GREGORIAN
METHOD:PUBLISH
X-WR-CALNAME:USA Working Equitation
X-ORIGINAL-URL:https://dev25.usawe.org
X-WR-CALDESC:Events for USA Working Equitation
REFRESH-INTERVAL;VALUE=DURATION:PT1H
X-Robots-Tag:noindex
X-PUBLISHED-TTL:PT1H
BEGIN:VTIMEZONE
TZID:America/Los_Angeles
BEGIN:DAYLIGHT
TZOFFSETFROM:-0800
TZOFFSETTO:-0700
TZNAME:PDT
DTSTART:20230312T100000
END:DAYLIGHT
BEGIN:STANDARD
TZOFFSETFROM:-0700
TZOFFSETTO:-0800
TZNAME:PST
DTSTART:20231105T090000
END:STANDARD
BEGIN:DAYLIGHT
TZOFFSETFROM:-0800
TZOFFSETTO:-0700
TZNAME:PDT
DTSTART:20240310T100000
END:DAYLIGHT
BEGIN:STANDARD
TZOFFSETFROM:-0700
TZOFFSETTO:-0800
TZNAME:PST
DTSTART:20241103T090000
END:STANDARD
BEGIN:DAYLIGHT
TZOFFSETFROM:-0800
TZOFFSETTO:-0700
TZNAME:PDT
DTSTART:20250309T100000
END:DAYLIGHT
BEGIN:STANDARD
TZOFFSETFROM:-0700
TZOFFSETTO:-0800
TZNAME:PST
DTSTART:20251102T090000
END:STANDARD
END:VTIMEZONE
BEGIN:VEVENT
DTSTART;VALUE=DATE:20240905
DTEND;VALUE=DATE:20240909
DTSTAMP:20260423T190348
CREATED:20240719T124941Z
LAST-MODIFIED:20240719T130754Z
UID:38767-1725494400-1725839999@dev25.usawe.org
SUMMARY:International Program Train to Win Clinic #3
DESCRIPTION:Train To Win Clinic #3\nSeptember 5-8\, 2024\nThree Bulls Farm\, Bulls Gap\, TN\n\n\n\n\nThe International Committee is pleased to invite USAWE members to participate as a rider or auditor in the Train to Win Clinic #3\, scheduled Sept 5-8\, 2024\, at Three Bulls Farm LLC\, Bulls Gap\, TN.  For International Program details\, please visit the usawe.org website > About > International Program > USAWE International Program. \nCLICK HERE to register for the 2024 Train to Win Clinic #3 \n\n\n\nA one-day Cattle Clinic (taught by Arielle Funaro\, Three Bulls Farm owner/manager) will be held September 5th.\nThe ‘Train to Win’ Clinic #3 (taught by Sr. Gilberto Felipe (Portugal)\, two-time WAWE World Champion of Working Equitation) will be conducted from 8am-5pm on September 6-8\, 2024\, at Three Bulls Farm LLC\, 625 Beech Grove Rd.\, Bulls Gap\, TN 37711\nRiders who participate in the clinic will be expected to be familiar with the WAWE Dressage test and to have both themselves and their horse fit enough for a demanding 50-minute lesson.\nInteractive Auditors includes use of headset plus a ‘Train to Win’ Manual\, commemorative T-Shirt and interactive discussion\nSilent Auditors includes use of headset but does not include the ‘Train to Win’ Manual or commemorative T-Shirt. Can listen to discussions but may not ask questions.\nGrounds Crew – four (4) non-rider ground crew volunteer positions available (first come\, first serve\, first paid) to members of the Professional Instructors program. The ‘Ground Crew’ will receive 50% off auditing fees – includes use of headset plus a ‘Train to Win’ Manual\, commemorative T-Shirt and interactive discussion.\nYouth Silent Auditor (non-rider 7-17 yrs. as of Jan 1\, 2024) – includes use of headset plus a ‘Train to Win’ Manual and commemorative T-Shirt.  Can listen to discussions but may not ask questions.\nAll participants (riders and auditors) must be members of USAWE.  Join USAWE
URL:https://dev25.usawe.org/event/international-program-train-to-win-clinic-3/
LOCATION:Three Bulls LLC\, 625 Beech Grove Rd.\, Bulls Gap\, TN\, 37711\, United States
CATEGORIES:All Clinics,Region 1,Region 2,Region 3,Region 4,Region 5,Region 6,Region 7
ATTACH;FMTTYPE=image/jpeg:https://dev25.usawe.org/wp-content/uploads/2024/06/T2W3-2024.jpg
ORGANIZER;CN="USAWE International Committee":MAILTO:International@usawe.org
END:VEVENT
BEGIN:VEVENT
DTSTART;VALUE=DATE:20240907
DTEND;VALUE=DATE:20240909
DTSTAMP:20260423T190348
CREATED:20240213T184246Z
LAST-MODIFIED:20240625T010328Z
UID:34786-1725667200-1725839999@dev25.usawe.org
SUMMARY:WI: (24-024) and (24-125) Kemp Horsemanship Show #1 and #2
DESCRIPTION:License#(s): 24-024 and 24-125\nShow Name(s): Kemp Horsemanship show #1 & #2\nShow Date(s): 9/7/2024 and 9/8/2024\nLocation: The Horse First Far\, Brooklyn\, WI \nJudge: Polly Limond\nTD: Sammi Korinek\nGate Steward: Bailey Korinek\nShow Manager: Emily Kemp
URL:https://dev25.usawe.org/event/wi-kemp-horsemanship-show-1/
LOCATION:The Horse First Farm\, 5594 Alpine Dr.\, Brooklyn\, WI\, 53521\, United States
CATEGORIES:Competitions (all),Region 5
ORGANIZER;CN="Emily Kemp":MAILTO:KempHorsemanship@gmail.com
END:VEVENT
BEGIN:VEVENT
DTSTART;VALUE=DATE:20240907
DTEND;VALUE=DATE:20240909
DTSTAMP:20260423T190348
CREATED:20240327T182220Z
LAST-MODIFIED:20240607T144439Z
UID:36696-1725667200-1725839999@dev25.usawe.org
SUMMARY:OR: (24-103 & 24-118) Lake Oswego Hunt Club WE Shows #1 & #2
DESCRIPTION:License#(s): 24-103 & 24-118 \nShow Name(s): Lake Oswego Hunt Club WE Show #1 & #2 \nShow Date(s): 9/7-8/2024 \nLocation: Lake Oswego\, OR \nJudge: Cari Schwartz \nTD: Julie Alonzo \nGate Steward: Carmit McMullen \nShow Manager: Emily Callihan
URL:https://dev25.usawe.org/event/or-24-103-lake-oswego-hunt-club-we-show/
LOCATION:Lake Oswego Hunt Club\, Lake Oswego\, OR\, United States
CATEGORIES:Competitions (all),Region 1
ORGANIZER;CN="Julie Alonzo":MAILTO:workingequitationoregon@gmail.com
END:VEVENT
BEGIN:VEVENT
DTSTART;VALUE=DATE:20240908
DTEND;VALUE=DATE:20240909
DTSTAMP:20260423T190348
CREATED:20230704T123952Z
LAST-MODIFIED:20230704T123952Z
UID:29981-1725753600-1725839999@dev25.usawe.org
SUMMARY:IL: (24-006) KarMik Acres Show Series #6
DESCRIPTION:(24-006) KarMik Acres Show Series #6 \nLicensed show offering L1-L7 \nVisit usawe.org > Competitions > List of Licensed Competitions for license status\, performance levels offered\, show manager\, judge and technical delegate info.
URL:https://dev25.usawe.org/event/il-24-006-karmik-acres-show-series-6/
LOCATION:KarMik Acres\, 4010 S Cherry Valley Road\, Woodstock\, Illinois\, 60098\, United States
CATEGORIES:Competitions (all),Region 5
ORGANIZER;CN="Karen Boso":MAILTO:info@karmikacres.com
END:VEVENT
END:VCALENDAR