BEGIN:VCALENDAR
VERSION:2.0
PRODID:-//USA Working Equitation - ECPv6.15.20//NONSGML v1.0//EN
CALSCALE:GREGORIAN
METHOD:PUBLISH
X-ORIGINAL-URL:https://dev25.usawe.org
X-WR-CALDESC:Events for USA Working Equitation
REFRESH-INTERVAL;VALUE=DURATION:PT1H
X-Robots-Tag:noindex
X-PUBLISHED-TTL:PT1H
BEGIN:VTIMEZONE
TZID:America/Los_Angeles
BEGIN:DAYLIGHT
TZOFFSETFROM:-0800
TZOFFSETTO:-0700
TZNAME:PDT
DTSTART:20230312T100000
END:DAYLIGHT
BEGIN:STANDARD
TZOFFSETFROM:-0700
TZOFFSETTO:-0800
TZNAME:PST
DTSTART:20231105T090000
END:STANDARD
BEGIN:DAYLIGHT
TZOFFSETFROM:-0800
TZOFFSETTO:-0700
TZNAME:PDT
DTSTART:20240310T100000
END:DAYLIGHT
BEGIN:STANDARD
TZOFFSETFROM:-0700
TZOFFSETTO:-0800
TZNAME:PST
DTSTART:20241103T090000
END:STANDARD
BEGIN:DAYLIGHT
TZOFFSETFROM:-0800
TZOFFSETTO:-0700
TZNAME:PDT
DTSTART:20250309T100000
END:DAYLIGHT
BEGIN:STANDARD
TZOFFSETFROM:-0700
TZOFFSETTO:-0800
TZNAME:PST
DTSTART:20251102T090000
END:STANDARD
END:VTIMEZONE
BEGIN:VEVENT
DTSTART;VALUE=DATE:20240830
DTEND;VALUE=DATE:20240902
DTSTAMP:20260423T184906
CREATED:20231023T231423Z
LAST-MODIFIED:20231109T135216Z
UID:32230-1724976000-1725235199@dev25.usawe.org
SUMMARY:CO: (24-016) Colorado Gypsy Fest WE Show
DESCRIPTION:Licensed show (24-016) Colorado Gypsy Fest WE Show \nVisit usawe.org > Competitions > List of Licensed Competitions for license status\, performance levels offered\, show manager\, judge and technical delegate info.
URL:https://dev25.usawe.org/event/co-24-016-colorado-gypsy-fest-we-show/
LOCATION:Garfield County Fairgrounds\, Rifle\, CO\, United States
CATEGORIES:Competitions (all),Region 3
ORGANIZER;CN="Terry Osborne":MAILTO:wsghc.slc@gmail.com
END:VEVENT
BEGIN:VEVENT
DTSTART;VALUE=DATE:20240830
DTEND;VALUE=DATE:20240902
DTSTAMP:20260423T184906
CREATED:20240211T145137Z
LAST-MODIFIED:20240211T145137Z
UID:34735-1724976000-1725235199@dev25.usawe.org
SUMMARY:WA:  Harmonizing: Cattle\, French Classical Dressage\, EOH
DESCRIPTION:Finding ease\, better balance\, maneuverability and improved partnership through understanding.\nThis is a fun filled three day class\nSix hours daily with a generous lunch break\nGroup and individual teachings (you will be learning through both participation and observing)\nSuppers together (plan on sharing your creation)\nDry camping and pens included.\nFull outdoor kitchen\nOutdoor shower\nArrive after 3pm day before (plan on supper beginning at 5pm)\n$600\n$200 deposit to reserve your spot.\nLimit to 6 participants \nRobert and Janet are in the process of becoming Professional Instructors through USAWE.
URL:https://dev25.usawe.org/event/wa-harmonizing-cattle-french-classical-dressage-eoh/
LOCATION:Robert & Janet Phinney Ranch\, 124 Moonlight Ln\, Dayton\, WA\, United States
CATEGORIES:All Clinics,Region 1
ATTACH;FMTTYPE=image/png:https://dev25.usawe.org/wp-content/uploads/2024/02/WWWVWE-Playday-3day-Event-2-2024.png
ORGANIZER;CN="Janet Phinney":MAILTO:hello@inspiredhorseman.com
END:VEVENT
BEGIN:VEVENT
DTSTART;VALUE=DATE:20240831
DTEND;VALUE=DATE:20240902
DTSTAMP:20260423T184906
CREATED:20240213T063119Z
LAST-MODIFIED:20240213T192327Z
UID:34772-1725062400-1725235199@dev25.usawe.org
SUMMARY:CO: (24-075 & 24-076) High Country Working Equitation Shows #3\, #4
DESCRIPTION:License#(s):  24-075\, 24-076 \nShow Name(s): High Country Working Equitation Shows #3\, and #4 \nShow Date(s):  (24-074) 8/31/2024\, and (24-076) 9/1/2024 \nLocation: Boulder Valley Fairgrounds \nJudge: Susan Watkins \nTD: Chris Stanko \nGate Steward: Lisa Sroczynski \nShow Manager: Janie Brueckner
URL:https://dev25.usawe.org/event/co-high-country-working-equitation-shows-3-4/
LOCATION:Boulder Valley Fairgrounds\, CO\, United States
CATEGORIES:Competitions (all),Region 3
ORGANIZER;CN="Jane Brueckner":MAILTO:jamesoncahill78@gmail.com
END:VEVENT
BEGIN:VEVENT
DTSTART;VALUE=DATE:20240831
DTEND;VALUE=DATE:20240902
DTSTAMP:20260423T184906
CREATED:20240425T004035Z
LAST-MODIFIED:20240425T004035Z
UID:36950-1725062400-1725235199@dev25.usawe.org
SUMMARY:CA: (24-106) & (24-107) Wine Country - Labor Day Classic #1 & 2
DESCRIPTION:License#(s):  24-106\, 24-107 \nShow Name(s): Wine Country – Labor Day Classic # 1 & # 2 \nShow Date(s): 8/31/2024 and 9/1/2024 \nLocation: California Ranch Company\, Temecula\, CA \nJudge: TBD \nTD: Val Pearson (8/31/2024) \nGate Steward: Austin Gebhardt \nShow Manager: Amanda Latta
URL:https://dev25.usawe.org/event/ca-24-106-24-107-wine-country-labor-day-classic-1-2/
LOCATION:California Ranch Company\, 34520 de Portola Rd\, Temecula\, CA\, 92592\, United States
CATEGORIES:Competitions (all),Region 2
ORGANIZER;CN="Amanda Latta-Portillo":MAILTO:winecountryclassichorseshow@gmail.com
END:VEVENT
END:VCALENDAR