BEGIN:VCALENDAR
VERSION:2.0
PRODID:-//USA Working Equitation - ECPv6.15.20//NONSGML v1.0//EN
CALSCALE:GREGORIAN
METHOD:PUBLISH
X-ORIGINAL-URL:https://dev25.usawe.org
X-WR-CALDESC:Events for USA Working Equitation
REFRESH-INTERVAL;VALUE=DURATION:PT1H
X-Robots-Tag:noindex
X-PUBLISHED-TTL:PT1H
BEGIN:VTIMEZONE
TZID:America/Los_Angeles
BEGIN:DAYLIGHT
TZOFFSETFROM:-0800
TZOFFSETTO:-0700
TZNAME:PDT
DTSTART:20230312T100000
END:DAYLIGHT
BEGIN:STANDARD
TZOFFSETFROM:-0700
TZOFFSETTO:-0800
TZNAME:PST
DTSTART:20231105T090000
END:STANDARD
BEGIN:DAYLIGHT
TZOFFSETFROM:-0800
TZOFFSETTO:-0700
TZNAME:PDT
DTSTART:20240310T100000
END:DAYLIGHT
BEGIN:STANDARD
TZOFFSETFROM:-0700
TZOFFSETTO:-0800
TZNAME:PST
DTSTART:20241103T090000
END:STANDARD
BEGIN:DAYLIGHT
TZOFFSETFROM:-0800
TZOFFSETTO:-0700
TZNAME:PDT
DTSTART:20250309T100000
END:DAYLIGHT
BEGIN:STANDARD
TZOFFSETFROM:-0700
TZOFFSETTO:-0800
TZNAME:PST
DTSTART:20251102T090000
END:STANDARD
END:VTIMEZONE
BEGIN:VEVENT
DTSTART;VALUE=DATE:20240824
DTEND;VALUE=DATE:20240825
DTSTAMP:20260423T203838
CREATED:20240117T192614Z
LAST-MODIFIED:20240117T192614Z
UID:34113-1724457600-1724543999@dev25.usawe.org
SUMMARY:WA: (24-046) Working Equitation Island Style
DESCRIPTION:Show Date(s): 8/24/2024 \nLocation: Vashon\, WA \nJudge: Tracey Erway \nTD: Val Pearson \nGate Steward: TBD \nShow Secretary: TBD \nShow Manager: Kyra Gauteson
URL:https://dev25.usawe.org/event/wa-24-046-working-equitation-island-style/
LOCATION:Paradise Ridge Park\, Vashon Island\, WA\, United States
CATEGORIES:Competitions (all),Region 1
ORGANIZER;CN="Kyra Gauteson":MAILTO:Kyraeqvideo@yahoo.com
END:VEVENT
BEGIN:VEVENT
DTSTART;VALUE=DATE:20240824
DTEND;VALUE=DATE:20240826
DTSTAMP:20260423T203838
CREATED:20240426T180003Z
LAST-MODIFIED:20240426T180003Z
UID:36968-1724457600-1724630399@dev25.usawe.org
SUMMARY:GA: (24-112 & 24-113) Wild at Heart Ranch WE Show #1 & #2
DESCRIPTION:License#(s): 24-112\nShow Name(s): Wild at Heart Ranch Working Equitation Show 1\nShow Date(s): 8/24/24\nLocation: Gainesville\, GA\nJudge: Rebecca Algar\nTD: Biddie Lowry\nGate Steward: Suzanne Murphree\nShow Manager: Kasey Doty-Quiles \nLicense#(s): 24-113\nShow Name(s): Wild at Heart Ranch Working Equitation Show 2\nShow Date(s): 8/25/24\nLocation: Gainesville\, GA\nJudge: Rebecca Algar\nTD: Biddie Lowry\nGate Steward: Suzanne Murphree\nShow Manager: Kasey Doty-Quiles
URL:https://dev25.usawe.org/event/ga-24-112-24-113-wild-at-heart-ranch-we-show-1-2/
LOCATION:Chicopee Agricultural Center\, Gainesville\, GA\, United States
CATEGORIES:Competitions (all),Region 7
ORGANIZER;CN="Kasey Doty-Quiles":MAILTO:Naturalhorsesolutions@gmail.com
END:VEVENT
END:VCALENDAR