BEGIN:VCALENDAR
VERSION:2.0
PRODID:-//USA Working Equitation - ECPv6.15.20//NONSGML v1.0//EN
CALSCALE:GREGORIAN
METHOD:PUBLISH
X-WR-CALNAME:USA Working Equitation
X-ORIGINAL-URL:https://dev25.usawe.org
X-WR-CALDESC:Events for USA Working Equitation
REFRESH-INTERVAL;VALUE=DURATION:PT1H
X-Robots-Tag:noindex
X-PUBLISHED-TTL:PT1H
BEGIN:VTIMEZONE
TZID:America/Los_Angeles
BEGIN:DAYLIGHT
TZOFFSETFROM:-0800
TZOFFSETTO:-0700
TZNAME:PDT
DTSTART:20230312T100000
END:DAYLIGHT
BEGIN:STANDARD
TZOFFSETFROM:-0700
TZOFFSETTO:-0800
TZNAME:PST
DTSTART:20231105T090000
END:STANDARD
BEGIN:DAYLIGHT
TZOFFSETFROM:-0800
TZOFFSETTO:-0700
TZNAME:PDT
DTSTART:20240310T100000
END:DAYLIGHT
BEGIN:STANDARD
TZOFFSETFROM:-0700
TZOFFSETTO:-0800
TZNAME:PST
DTSTART:20241103T090000
END:STANDARD
BEGIN:DAYLIGHT
TZOFFSETFROM:-0800
TZOFFSETTO:-0700
TZNAME:PDT
DTSTART:20250309T100000
END:DAYLIGHT
BEGIN:STANDARD
TZOFFSETFROM:-0700
TZOFFSETTO:-0800
TZNAME:PST
DTSTART:20251102T090000
END:STANDARD
END:VTIMEZONE
BEGIN:VEVENT
DTSTART;VALUE=DATE:20240802
DTEND;VALUE=DATE:20240805
DTSTAMP:20260423T231849
CREATED:20240211T143849Z
LAST-MODIFIED:20240503T180312Z
UID:34730-1722556800-1722815999@dev25.usawe.org
SUMMARY:WA:  Cowabunga: Understanding Cattle Work
DESCRIPTION:Build confidence throughout while learning to read cattle\, improving your horse maneuverability and working as a team.\nThis is a fun filled three-day class.\nSix hours daily with a generous lunch break\nGroup and individual teachings (you will be learning through both participation and observing)\nSuppers together (plan on sharing your creation)\nDry camping and pens included.\nFull outdoor kitchen\nOutdoor shower\nArrive after 3pm day before (plan on supper beginning at 5pm)\n$400\n$200 deposit to reserve your spot.\nLimit to 6 participants!
URL:https://dev25.usawe.org/event/wa-cowabunga-understanding-cattle-work/
LOCATION:Robert & Janet Phinney Ranch\, 124 Moonlight Ln\, Dayton\, WA\, United States
CATEGORIES:All Clinics,Region 1
ATTACH;FMTTYPE=image/png:https://dev25.usawe.org/wp-content/uploads/2024/02/WWVWE-Playday-Cowabunga-2024.png
ORGANIZER;CN="Janet Phinney":MAILTO:hello@inspiredhorseman.com
END:VEVENT
BEGIN:VEVENT
DTSTART;VALUE=DATE:20240803
DTEND;VALUE=DATE:20240805
DTSTAMP:20260423T231849
CREATED:20240502T174833Z
LAST-MODIFIED:20240627T163002Z
UID:37038-1722643200-1722815999@dev25.usawe.org
SUMMARY:MT: WE Boot Camp with Trisha Reed
DESCRIPTION:2024 MONTANA clinic schedule opportunities with USAWE recognized Professional Instructor/Coach and CHA certified Master Instructor Trisha Reed as follows: \nAugust 3rd-4th\nWE Boot Camp\nRun-A-Muck Ranch (outside) WOLF CREEK\nLimited overnight accommodations \nSeptember 28th-29th\nWE Boot Camp\nRun-A-Muck Ranch (outside) WOLF CREEK\nLimited overnight accommodations \nClinician glimpse – \nTrisha is an active WE competitor having successfully trained and ridden several horses (and a mule!) through levels 1 to 4 gaining Regional and National standing\, and has had the honor of coaching many students to similar success. \nSpreading the joy of this sport is her passion! \nPlease private message Trisha Reed Equestrian directly for more details.
URL:https://dev25.usawe.org/event/mt-we-bootcamp-with-trisha-reed-3/
LOCATION:Run-A-Muck Ranch\, Wolf Creek\, United States
CATEGORIES:All Clinics,Region 1
ATTACH;FMTTYPE=image/png:https://dev25.usawe.org/wp-content/uploads/2024/05/Screen-Shot-2024-05-02-at-10.33.24-AM.png
ORGANIZER;CN="Trisha Reed":MAILTO:torunamucksome@gmail.com
END:VEVENT
BEGIN:VEVENT
DTSTART;VALUE=DATE:20240804
DTEND;VALUE=DATE:20240805
DTSTAMP:20260423T231849
CREATED:20240227T183855Z
LAST-MODIFIED:20240227T183855Z
UID:35139-1722729600-1722815999@dev25.usawe.org
SUMMARY:CA: (24-083) PVRA Summer USAWE Show
DESCRIPTION:License#(s): 24-083 \nShow Name(s): PVRA Summer USAWE Show \nShow Date(s): 8/4/2024 \nLocation: Poway Valley Riders Association\, Poway\, CA \nJudge: Sarah Pinney \nTD: Colleen Wright \nGate Steward: Sara Miller \nShow Manager: Janice Kall
URL:https://dev25.usawe.org/event/ca-24-083-pvra-summer-usawe-show/
LOCATION:Poway Valley Riders Association\, 14336 Tierra Bonita Rd\, Poway\, CA\, 92064\, United States
CATEGORIES:Competitions (all),Region 2
ORGANIZER;CN="Janice Kall":MAILTO:workingequ@pvra.com
END:VEVENT
END:VCALENDAR