BEGIN:VCALENDAR
VERSION:2.0
PRODID:-//USA Working Equitation - ECPv6.15.20//NONSGML v1.0//EN
CALSCALE:GREGORIAN
METHOD:PUBLISH
X-ORIGINAL-URL:https://dev25.usawe.org
X-WR-CALDESC:Events for USA Working Equitation
REFRESH-INTERVAL;VALUE=DURATION:PT1H
X-Robots-Tag:noindex
X-PUBLISHED-TTL:PT1H
BEGIN:VTIMEZONE
TZID:America/Los_Angeles
BEGIN:DAYLIGHT
TZOFFSETFROM:-0800
TZOFFSETTO:-0700
TZNAME:PDT
DTSTART:20230312T100000
END:DAYLIGHT
BEGIN:STANDARD
TZOFFSETFROM:-0700
TZOFFSETTO:-0800
TZNAME:PST
DTSTART:20231105T090000
END:STANDARD
BEGIN:DAYLIGHT
TZOFFSETFROM:-0800
TZOFFSETTO:-0700
TZNAME:PDT
DTSTART:20240310T100000
END:DAYLIGHT
BEGIN:STANDARD
TZOFFSETFROM:-0700
TZOFFSETTO:-0800
TZNAME:PST
DTSTART:20241103T090000
END:STANDARD
BEGIN:DAYLIGHT
TZOFFSETFROM:-0800
TZOFFSETTO:-0700
TZNAME:PDT
DTSTART:20250309T100000
END:DAYLIGHT
BEGIN:STANDARD
TZOFFSETFROM:-0700
TZOFFSETTO:-0800
TZNAME:PST
DTSTART:20251102T090000
END:STANDARD
END:VTIMEZONE
BEGIN:VEVENT
DTSTART;VALUE=DATE:20240719
DTEND;VALUE=DATE:20240722
DTSTAMP:20260424T004346
CREATED:20240627T163401Z
LAST-MODIFIED:20240627T163401Z
UID:38237-1721347200-1721606399@dev25.usawe.org
SUMMARY:OR: Clinic & Shows (24-126) & (24-127)
DESCRIPTION:License#(s): 24-126 and 24-127\nShow Name(s): WE Oregon July Show #1 & #2\nShow Date(s): 7/20/24 – 7/21/24\nLocation: Eugene\, OR\nJudge: Kim Roe\nTD: TBA\nGate Steward: TJ Cruden\nShow Manager: Julie Alonzo /Mike Thill \nOnline Entry: https://forms.gle/AhZwDj1G9TQ5r6gi7 \nCome join us for private WE lessons taught by Masters Level WE competitor and USAWE Platinum medalist Kimberlee Barker\, followed by two licensed WE shows at the the Oregon Horse Center’s Prairie Arena.\n\nClinic – Friday\, July 19 – roughly 8 am – 5 pm\nCompetition – July 20-21\n\nAbout our clinician:\nKimberlee Barker is a Masters Level Working Equitation and USDF Grand Prix Dressage rider\, trainer\, and competitor. Kimberlee is a recognized Working Equitation Coach in USAWE’s Coaches Network\, has earned her USAWE Pewter\, Bronze\, Silver\, and Platinum Medals. Kimberlee is currently only the third person in the U.S. to have earned a Platinum Medal and the first to earn it with the new stricter requirements through USAWE. A graduate with distinction of the USDF “L” Judge Education Program\, Kimberlee has earned her USDF Bronze and Silver Medals and has nearly completed her Gold.\n\nKimberlee is known for taking “non-traditional” dressage horses up the levels\, and her most recent dressage partner\, RedPrairie Storm (Dales Pony) earned the Reserve Champion placing in the Oregon Dressage Society’s 2021 State Championships in the Training Level Open Division\, as well as being the high point horse\, out of all breeds\, competing in WE in 2023. Kimberlee and her long-term dressage partner Gladheart Black Harris (Morgan) are currently competing at Prix St. Georges and plan to compete at Grand Prix in 2024.\n\nRecognizing that Working Equitation uses dressage principles to create a relaxed\, athletic\, and obedient horse in both traditional dressage work and in dressage through obstacles\, Kimberlee believes that this sport creates the ultimate harmonious relationship with the horse. She enjoys working with all breeds of horses and teaches students from Introductory to Masters in Working Equitation\, and Training Level to FEI in Dressage. Kimberlee judges and teaches clinics in both Working Equitation and Dressage and is based in Corvallis\, Oregon.\n\nEntry Fees:\nFriday WE Clinic Private Lessons approximately 45-minute private session (focus on dressage\, obstacles\, or split your time and work on both) on Friday – $140/session.\n \nSaturday/Sunday WE Show Entry Fee: $300 (includes 1 bag of shavings\, and stabling from Friday 2 pm – Sunday night. If you are not participating in the clinic\, please plan to arrive no earlier than 2 pm on Friday (honestly — NO EARLIER — if you arrive prior to 1 pm on Friday\, please plan to pay a ‘haul in fee’ to OHC and amuse yourself in the main facility rather than coming to the Prairie Arena). Additional bags of shavings can be purchased on site for $10/bag.\n\nAdd a 2nd show (if time allows) for an additional $120. \n\nTack Stall: $100\n\n(OHC Boarders who do not need stabling can request a $100 discount because they don’t need a stall) \nPLEASE DO NOT BRING OUTSIDE SHAVINGS IN — we are charged an extra $35 per stall if any outside shavings are used. \nCamping is available on site — please make reservations directly with the Oregon Horse Center if you are planning to camp (we do not handle the camping spot reservations at all). \nTo compete\, riders must be current members of USAWE\, and all horses must be recorded with USAWE. If you are participating for schooling only\, this requirement is waived. \nJudge: \nKim Roe\, “r”\, Washington\n\nIMPORTANT NOTE:\nBecause of the need to pay in full for the facility and Judge expenses\, regardless of weather or medical considerations\, no refunds can be issued for this event (no exceptions). \n\n-Julie
URL:https://dev25.usawe.org/event/or-clinic-shows-24-126-24-127/
LOCATION:Oregon Horse Center\, 90751 Prairie Rd\, Eugene\, OR\, 97402\, United States
CATEGORIES:All Clinics,Competitions (all),Region 1
ORGANIZER;CN="Julie Alonzo":MAILTO:workingequitationoregon@gmail.com
END:VEVENT
BEGIN:VEVENT
DTSTART;VALUE=DATE:20240720
DTEND;VALUE=DATE:20240721
DTSTAMP:20260424T004346
CREATED:20240113T205907Z
LAST-MODIFIED:20240116T010333Z
UID:33832-1721433600-1721519999@dev25.usawe.org
SUMMARY:KS: (24-043) WEKS #5
DESCRIPTION:(24-043) WEKS #5 \nVisit usawe.org > Competitions > List of Licensed Competitions for license status\, performance levels offered\, show manager\, judge and technical delegate info.
URL:https://dev25.usawe.org/event/ks-24-043-weks-7/
LOCATION:R n D Ranch\, Topeka\, KS\, United States
CATEGORIES:Competitions (all),Region 3
ORGANIZER;CN="Kate Fowler":MAILTO:LV2JUMPtoo@aol.com
END:VEVENT
BEGIN:VEVENT
DTSTART;VALUE=DATE:20240720
DTEND;VALUE=DATE:20240722
DTSTAMP:20260424T004346
CREATED:20240122T023636Z
LAST-MODIFIED:20240122T023636Z
UID:34330-1721433600-1721606399@dev25.usawe.org
SUMMARY:NY: (24-065 & 24-066) NYSWE Competition at Schaghticoke NY #1 & #2
DESCRIPTION:License#(s): 24-065 & 24-066 \nShow Name(s): NYSWE Competition at Schaghticoke NY #1 & #2 \nShow Date(s): 7/20/2024 \nLocation: Schaghticoke\, NY \nJudge: Susan Watkins \nTD: Deb Quillinan \nGate Steward: TBD \nShow Manager: Bree Sprik-Powell / Jess Canelli
URL:https://dev25.usawe.org/event/ny-24-065-24-066-nyswe-competition-at-schaghticoke-ny-1-2/
LOCATION:Schaghticoke Fairgrounds\, 69 Stillwater Bridge Rd 40\, Schaghticoke\, NY\, 12154\, United States
CATEGORIES:Competitions (all),Region 5
ORGANIZER;CN="Bree Sprik":MAILTO:breannarenesport@gmail.com
END:VEVENT
BEGIN:VEVENT
DTSTART;VALUE=DATE:20240720
DTEND;VALUE=DATE:20240722
DTSTAMP:20260424T004346
CREATED:20240128T032540Z
LAST-MODIFIED:20240410T182242Z
UID:34499-1721433600-1721606399@dev25.usawe.org
SUMMARY:R1 (24-070) Sleeping Willow Ranch Show #3
DESCRIPTION:License#(s): 24-070\n \nShow Name(s): Sleeping Willow Ranch Show #2 \nShow Date(s): 7/20/2024 & 7/21/2024  \nLocation: Stevensville\, MT \nJudge: Erica Peet \nTD: Colleen Wright \nGate Steward: Linda McCormick \nShow Manager: Tim Hamilton
URL:https://dev25.usawe.org/event/r1-24-070-sleeping-willow-ranch-show-2/
LOCATION:Sleeping Willow Ranch\, 888. South Burnt Fork Rd\, Stevensville\, MT\, 59870\, United States
CATEGORIES:Competitions (all),Region 1
ORGANIZER;CN="Alyssa Briceland":MAILTO:swrcattle@gmail.com
END:VEVENT
BEGIN:VEVENT
DTSTART;VALUE=DATE:20240720
DTEND;VALUE=DATE:20240722
DTSTAMP:20260424T004346
CREATED:20240609T011625Z
LAST-MODIFIED:20240609T011625Z
UID:37677-1721433600-1721606399@dev25.usawe.org
SUMMARY:AZ: (24-119 & 24-120) Coconino Cool Off Show 1 & 2
DESCRIPTION:License#(s): 24-119 and 24-120\nShow Name(s): Coconino Cool Off Show 1 & 2\nShow Date(s): 7/20/24 (show #1) and 7/21/24 (show #2)\nLocation: Flagstaff AZ\nJudge: Amy Star\nTD: Sarah Pinney\nGate Steward: Kelly Murphy\nShow Manager: Tessa Nicolet / Karen Anderson
URL:https://dev25.usawe.org/event/az-24-119-24-120-coconino-cool-off-show-1-2/
LOCATION:Fort Tuthill County Park\, Flagstaff\, AZ\, United States
CATEGORIES:Competitions (all),Region 2
END:VEVENT
BEGIN:VEVENT
DTSTART;VALUE=DATE:20240720
DTEND;VALUE=DATE:20240722
DTSTAMP:20260424T004346
CREATED:20240113T210014Z
LAST-MODIFIED:20240213T192919Z
UID:33836-1721512800-1721599199@dev25.usawe.org
SUMMARY:KS: (24-044) WEKS #6
DESCRIPTION:(24-044) WEKS #6 \nVisit usawe.org > Competitions > List of Licensed Competitions for license status\, performance levels offered\, show manager\, judge and technical delegate info.
URL:https://dev25.usawe.org/event/ks-24-024-weks-8/
LOCATION:R n D Ranch\, Topeka\, KS\, United States
CATEGORIES:Competitions (all),Region 3
ORGANIZER;CN="Kate Fowler":MAILTO:LV2JUMPtoo@aol.com
END:VEVENT
END:VCALENDAR