BEGIN:VCALENDAR
VERSION:2.0
PRODID:-//USA Working Equitation - ECPv6.15.20//NONSGML v1.0//EN
CALSCALE:GREGORIAN
METHOD:PUBLISH
X-ORIGINAL-URL:https://dev25.usawe.org
X-WR-CALDESC:Events for USA Working Equitation
REFRESH-INTERVAL;VALUE=DURATION:PT1H
X-Robots-Tag:noindex
X-PUBLISHED-TTL:PT1H
BEGIN:VTIMEZONE
TZID:America/Los_Angeles
BEGIN:DAYLIGHT
TZOFFSETFROM:-0800
TZOFFSETTO:-0700
TZNAME:PDT
DTSTART:20230312T100000
END:DAYLIGHT
BEGIN:STANDARD
TZOFFSETFROM:-0700
TZOFFSETTO:-0800
TZNAME:PST
DTSTART:20231105T090000
END:STANDARD
BEGIN:DAYLIGHT
TZOFFSETFROM:-0800
TZOFFSETTO:-0700
TZNAME:PDT
DTSTART:20240310T100000
END:DAYLIGHT
BEGIN:STANDARD
TZOFFSETFROM:-0700
TZOFFSETTO:-0800
TZNAME:PST
DTSTART:20241103T090000
END:STANDARD
BEGIN:DAYLIGHT
TZOFFSETFROM:-0800
TZOFFSETTO:-0700
TZNAME:PDT
DTSTART:20250309T100000
END:DAYLIGHT
BEGIN:STANDARD
TZOFFSETFROM:-0700
TZOFFSETTO:-0800
TZNAME:PST
DTSTART:20251102T090000
END:STANDARD
END:VTIMEZONE
BEGIN:VEVENT
DTSTART;VALUE=DATE:20240712
DTEND;VALUE=DATE:20240715
DTSTAMP:20260423T232528
CREATED:20240229T003339Z
LAST-MODIFIED:20240229T003339Z
UID:35156-1720742400-1721001599@dev25.usawe.org
SUMMARY:ID: (24-086) & (24-087) Team Idaho Summer Spectacular Show #1 and #2
DESCRIPTION:License#(s): 024-086 and 24-087 \nShow Name(s): Team Idaho Summer Spectacular Show #1 and #2 \nShow Date(s): 7/12/2024 and 7/14/2024 \nLocation: Birt’s Arena\, Nampa\, ID \nJudge: Tracey Erway \nTD: Dawn Swensen \nGate Steward: Rose Sellers \nShow Manager: Kaitlyn Draper
URL:https://dev25.usawe.org/event/id-24-086-24-087-team-idaho-summer-spectacular-show-1-and-2/
LOCATION:Birt’s Arena\, Nampa\, ID\, United States
CATEGORIES:Competitions (all),Region 1
ORGANIZER;CN="Team Idaho":MAILTO:WEteamidaho@gmail.com
END:VEVENT
END:VCALENDAR