BEGIN:VCALENDAR
VERSION:2.0
PRODID:-//USA Working Equitation - ECPv6.15.20//NONSGML v1.0//EN
CALSCALE:GREGORIAN
METHOD:PUBLISH
X-ORIGINAL-URL:https://dev25.usawe.org
X-WR-CALDESC:Events for USA Working Equitation
REFRESH-INTERVAL;VALUE=DURATION:PT1H
X-Robots-Tag:noindex
X-PUBLISHED-TTL:PT1H
BEGIN:VTIMEZONE
TZID:America/Los_Angeles
BEGIN:DAYLIGHT
TZOFFSETFROM:-0800
TZOFFSETTO:-0700
TZNAME:PDT
DTSTART:20230312T100000
END:DAYLIGHT
BEGIN:STANDARD
TZOFFSETFROM:-0700
TZOFFSETTO:-0800
TZNAME:PST
DTSTART:20231105T090000
END:STANDARD
BEGIN:DAYLIGHT
TZOFFSETFROM:-0800
TZOFFSETTO:-0700
TZNAME:PDT
DTSTART:20240310T100000
END:DAYLIGHT
BEGIN:STANDARD
TZOFFSETFROM:-0700
TZOFFSETTO:-0800
TZNAME:PST
DTSTART:20241103T090000
END:STANDARD
BEGIN:DAYLIGHT
TZOFFSETFROM:-0800
TZOFFSETTO:-0700
TZNAME:PDT
DTSTART:20250309T100000
END:DAYLIGHT
BEGIN:STANDARD
TZOFFSETFROM:-0700
TZOFFSETTO:-0800
TZNAME:PST
DTSTART:20251102T090000
END:STANDARD
END:VTIMEZONE
BEGIN:VEVENT
DTSTART;VALUE=DATE:20240629
DTEND;VALUE=DATE:20240630
DTSTAMP:20260425T042859
CREATED:20240311T115048Z
LAST-MODIFIED:20240311T115048Z
UID:35374-1719619200-1719705599@dev25.usawe.org
SUMMARY:MD: Schooling Show
DESCRIPTION:Oak Spring Equestrian\, LLC is offering (5) working equitation schooling shows. This is a great low key environment for those that want to practice for a licensed show OR for those that just want to have fun and learn the sport. We will conclude the season with an awards banquet held at the farm.
URL:https://dev25.usawe.org/event/md-schooling-show-3/
LOCATION:Oak Spring Equestrian\, 15195 Bushy Park Rd.\, Woodbine\, MD\, 21797\, United States
CATEGORIES:All Schooling Shows,Region 6
ATTACH;FMTTYPE=image/png:https://dev25.usawe.org/wp-content/uploads/2024/03/Oak-Spring-Equestrian-LLC-Schooling-Shows-2024.png
ORGANIZER;CN="Barb Sullivan":MAILTO:oakspringequestrianllc@gmail.com
END:VEVENT
BEGIN:VEVENT
DTSTART;VALUE=DATE:20240629
DTEND;VALUE=DATE:20240701
DTSTAMP:20260425T042859
CREATED:20240502T174014Z
LAST-MODIFIED:20240502T181145Z
UID:37029-1719619200-1719791999@dev25.usawe.org
SUMMARY:MT: WE Boot Camp with Trisha Reed
DESCRIPTION:2024 MONTANA clinic schedule opportunities with USAWE recognized Professional Instructor/Coach and CHA certified Master Instructor Trisha Reed as follows: \nJune 29th-30th\nWE Boot Camp\nRun-A-Muck Ranch (outside) WOLF CREEK\nLimited overnight accommodations \nJuly 27th-28th\nReady to Ride-a-Trial\nYellowstone Working Equitation\n(outside) BILLINGS\nCheck for nearby overnight accommodations. \nAugust 3rd-4th\nWE Boot Camp\nLazy Bar H (indoor) HELENA\nOvernight accommodations available \nSeptember 28th-29th\nWE Boot Camp\nRun-A-Muck Ranch (outside) WOLF CREEK\nLimited overnight accommodations \nClinician glimpse – \nTrisha is an active WE competitor having successfully trained and ridden several horses (and a mule!) through levels 1 to 4 gaining Regional and National standing\, and has had the honor of coaching many students to similar success. \nSpreading the joy of this sport is her passion! \nPlease private message Trisha Reed Equestrian directly for more details.
URL:https://dev25.usawe.org/event/mt-we-boot-camp-with-trisha-reed/
LOCATION:Run-A-Muck Ranch\, Wolf Creek\, United States
CATEGORIES:All Clinics,Region 1
ATTACH;FMTTYPE=image/png:https://dev25.usawe.org/wp-content/uploads/2024/05/Screen-Shot-2024-05-02-at-10.33.24-AM.png
ORGANIZER;CN="Trisha Reed":MAILTO:torunamucksome@gmail.com
END:VEVENT
END:VCALENDAR