BEGIN:VCALENDAR
VERSION:2.0
PRODID:-//USA Working Equitation - ECPv6.15.20//NONSGML v1.0//EN
CALSCALE:GREGORIAN
METHOD:PUBLISH
X-ORIGINAL-URL:https://dev25.usawe.org
X-WR-CALDESC:Events for USA Working Equitation
REFRESH-INTERVAL;VALUE=DURATION:PT1H
X-Robots-Tag:noindex
X-PUBLISHED-TTL:PT1H
BEGIN:VTIMEZONE
TZID:America/Los_Angeles
BEGIN:DAYLIGHT
TZOFFSETFROM:-0800
TZOFFSETTO:-0700
TZNAME:PDT
DTSTART:20230312T100000
END:DAYLIGHT
BEGIN:STANDARD
TZOFFSETFROM:-0700
TZOFFSETTO:-0800
TZNAME:PST
DTSTART:20231105T090000
END:STANDARD
BEGIN:DAYLIGHT
TZOFFSETFROM:-0800
TZOFFSETTO:-0700
TZNAME:PDT
DTSTART:20240310T100000
END:DAYLIGHT
BEGIN:STANDARD
TZOFFSETFROM:-0700
TZOFFSETTO:-0800
TZNAME:PST
DTSTART:20241103T090000
END:STANDARD
BEGIN:DAYLIGHT
TZOFFSETFROM:-0800
TZOFFSETTO:-0700
TZNAME:PDT
DTSTART:20250309T100000
END:DAYLIGHT
BEGIN:STANDARD
TZOFFSETFROM:-0700
TZOFFSETTO:-0800
TZNAME:PST
DTSTART:20251102T090000
END:STANDARD
END:VTIMEZONE
BEGIN:VEVENT
DTSTART;VALUE=DATE:20240601
DTEND;VALUE=DATE:20240602
DTSTAMP:20260425T040843
CREATED:20230704T123258Z
LAST-MODIFIED:20230704T123258Z
UID:29970-1717200000-1717286399@dev25.usawe.org
SUMMARY:IL: (24-001) KarMik Acres Show Series #1
DESCRIPTION:(24-001) KarMik Acres Show Series #1 \nLicensed show offering L1-L7 \nVisit usawe.org > Competitions > List of Licensed Competitions for license status\, performance levels offered\, show manager\, judge and technical delegate info.
URL:https://dev25.usawe.org/event/il-24-001-karmik-acres-show-series-1/
LOCATION:KarMik Acres\, 4010 S Cherry Valley Road\, Woodstock\, Illinois\, 60098\, United States
CATEGORIES:Competitions (all),Region 5
ORGANIZER;CN="Karen Boso":MAILTO:info@karmikacres.com
END:VEVENT
BEGIN:VEVENT
DTSTART;VALUE=DATE:20240601
DTEND;VALUE=DATE:20240602
DTSTAMP:20260425T040843
CREATED:20240426T181000Z
LAST-MODIFIED:20240426T181000Z
UID:36972-1717200000-1717286399@dev25.usawe.org
SUMMARY:AZ: (24-108) Rim Rider Show 1 of 3
DESCRIPTION:License#(s): 24-108 \nShow Name(s): Rim Rider Show 1 of 3 \nShow Date(s): 6/1/2024 \nLocation: Payson AZ \nJudge: Nicole Chastain \nTD: Ashley Bowers \nGate Steward: Kathleen Born \nShow Manager: Tessa Nicolet / Victoria Clayton
URL:https://dev25.usawe.org/event/az-24-108-rim-rider-show-1-of-3/
LOCATION:Patterson Training LLC\, 272 S Sprague Dr\, Star Valley\, AZ\, 85541\, United States
CATEGORIES:Competitions (all),Region 2
END:VEVENT
BEGIN:VEVENT
DTSTART;VALUE=DATE:20240601
DTEND;VALUE=DATE:20240603
DTSTAMP:20260425T040843
CREATED:20240119T041633Z
LAST-MODIFIED:20240227T205315Z
UID:34183-1717200000-1717372799@dev25.usawe.org
SUMMARY:OR: (24-060 & 24-061) WE in Wine Country Spring Show #1 & #2
DESCRIPTION:License#(s): 24-060 and 24-061 \nShow Name(s): WE in Wine Country Spring Show #1 and #2 \nShow Date(s): 6/1 – 6/2/2024 \nLocation: Milton – Freewater\, OR \nJudge: Cari Schwartz \nTD: Tracey Erway \nOnline Entry: https://forms.gle/X7sgruBSWStTvygt8 \nFor more information\, please contact Julie Alonzo at WorkingEquitationOregon@gmail.com
URL:https://dev25.usawe.org/event/or-24-060-and-24-061-we-in-wine-country-spring-show-1-2/
LOCATION:WW Arena\, 85207 Telephone Pole Road\, Milton-Freewater\, OR\, 97862\, United States
CATEGORIES:Competitions (all),Region 1
ORGANIZER;CN="Julie Alonzo":MAILTO:workingequitationoregon@gmail.com
END:VEVENT
BEGIN:VEVENT
DTSTART;VALUE=DATE:20240601
DTEND;VALUE=DATE:20240603
DTSTAMP:20260425T040843
CREATED:20240203T003919Z
LAST-MODIFIED:20240203T004038Z
UID:34602-1717200000-1717372799@dev25.usawe.org
SUMMARY:Canada: Swiftwind's Working Equitation Clinic & Development Show
DESCRIPTION:Swiftwind’s Working Equitation Clinic & Development Show \nSwiftwind Equine Center is hosting a Working Equitation Clinic & Development Show from Saturday June 1st to Sunday June 2nd!  \nIt’s exciting to have WECan “L” Judge Patricia LaMontagne coming to this fun experience!  \nLocation is Lyndhurst\, Ontario\, Canada.\nDetails are on the Facebook event page: https://fb.me/e/8uxcTxSFl\nRegistration link: https://forms.gle/wmY1R2FD2zYhn8Ji9\nCheck out the great weekend all about working equitation and fun!
URL:https://dev25.usawe.org/event/canada-swiftwinds-working-equitation-clinic-development-show/
LOCATION:Swiftwind Equine Center\, 323 Sweets Corners Road\, Lyndurst\, Ontario\, Canada
CATEGORIES:All Clinics
ATTACH;FMTTYPE=image/jpeg:https://dev25.usawe.org/wp-content/uploads/2024/02/Swiftwind-Clinic-Show-2024.06.01-02.jpg
ORGANIZER;CN="Tanya Sweet":MAILTO:Tanya@Swiftwindec.ca
END:VEVENT
BEGIN:VEVENT
DTSTART;VALUE=DATE:20240601
DTEND;VALUE=DATE:20240603
DTSTAMP:20260425T040843
CREATED:20240319T225856Z
LAST-MODIFIED:20240525T030612Z
UID:35843-1717200000-1717372799@dev25.usawe.org
SUMMARY:CA: (24-095 & 24-096) Summer Fun WE Show Series #3 & #4
DESCRIPTION:License#(s): 24-095 & 24-096 \nShow Name(s): Summer Fun Working Equitation Show Series 2024 #3 & #4 \nShow Date(s): 6/1/2024 – 6/2/2024 \nLocation: Copperopolis\, CA \nJudge: Rebecca Algar \nTD: Andrea Sullivan \nGate Steward: TBD \nShow Manager: Jessica Mosbaugh \n 
URL:https://dev25.usawe.org/event/ca-24-095-24-096-summer-fun-we-show-series-3-4/
LOCATION:Copperopolis\, CA
CATEGORIES:Competitions (all),Region 2
ORGANIZER;CN="Jessica Mosbaugh":MAILTO:jessicapph@aol.com
END:VEVENT
BEGIN:VEVENT
DTSTART;VALUE=DATE:20240601
DTEND;VALUE=DATE:20240603
DTSTAMP:20260425T040843
CREATED:20240518T121151Z
LAST-MODIFIED:20240518T121151Z
UID:37374-1717200000-1717372799@dev25.usawe.org
SUMMARY:TX: (24-117) Highlander Ranch May WE Show
DESCRIPTION:License#(s): 24-117\nShow Name(s): Highlander Ranch May WE Show\nShow Date(s): 6/1/24 and 6/2/24\nLocation: Waco TX\nJudge: Amy Starr\nTD: Jamie Volaski\nGate Steward: Miranda Ballentine\nShow Manager: Aimee Edwards
URL:https://dev25.usawe.org/event/tx-24-117-highlander-ranch-may-we-show/
LOCATION:Highlander Ranch\, 223 Cobbs Lane\, Waco\, TX\, 76708\, Waco\, United States
CATEGORIES:Competitions (all),Region 4
ORGANIZER;CN="Aimee Edwards":MAILTO:aedwards@mclennan.edu
END:VEVENT
END:VCALENDAR